Workbook

Sheet Globál
B1: Bevételek mindösszesen | C1: 2025. évi teljesítés | D1: 2026. évi terv | E1: 2026. évi módosított előirányzat | F1: 2026. évi teljesítés | G1: Önkormányzat | H1: 2026. évi módosított előirányzat | I1: 2026. évi teljesítés | J1: VÜMESZ | K1: 2026. évi módosított előirányzat | L1: 2026. évi teljesítés | M1: Hivatal | N1: 2026. évi módosított előirányzat | O1: 2026. évi teljesítés | P1: Művelődési Ház | Q1: 2026. évi módosított előirányzat | R1: 2026. évi teljesítés | S1: Bölcsőde | T1: 2026. évi módosított előirányzat | U1: 2026. évi teljesítés | V1: Óvoda | W1: 2026. évi módosított előirányzat | X1: 2026. évi teljesítés
A2: B111 | B2: Helyi önkormányzatok működésének általános támogatása | C2: =Önkormányzat!C2+VÜMESZ!C2+Hivatal!C2+'Művelődési ház'!C2+Bölcsőde!C2+Óvoda!C2 -> 255759558 | D2: =G2+J2+M2+P2+S2+V2 -> 302029313 | E2: =H2+K2+N2+Q2+T2+W2 -> 302029313 | F2: =I2+L2+O2+R2+U2+X2 -> 158317875 | G2: =Önkormányzat!D2 -> 302029313 | H2: =Önkormányzat!E2 -> 302029313 | I2: =Önkormányzat!F2 -> 158317875 | J2: =VÜMESZ!D2 -> 0 | K2: =VÜMESZ!E2 -> 0 | L2: =VÜMESZ!F2 -> 0 | M2: =Hivatal!D2 -> 0 | N2: =Hivatal!E2 -> 0 | O2: =Hivatal!F2 -> 0 | P2: ='Művelődési ház'!D2 -> 0 | Q2: ='Művelődési ház'!E2 -> 0 | R2: ='Művelődési ház'!F2 -> 0 | S2: =Bölcsőde!D2 -> 0 | T2: =Bölcsőde!E2 -> 0 | U2: =Bölcsőde!F2 -> 0 | V2: =Óvoda!D2 -> 0 | W2: =Óvoda!E2 -> 0 | X2: =Óvoda!F2 -> 0
A3: B112 | B3: Települési önkormányzatok egyes köznevelési feladatainak támogatása | C3: =Önkormányzat!C3+VÜMESZ!C3+Hivatal!C3+'Művelődési ház'!C3+Bölcsőde!C3+Óvoda!C3 -> 319495926 | D3: =G3+J3+M3+P3+S3+V3 -> 335940044 | E3: =H3+K3+N3+Q3+T3+W3 -> 339212072 | F3: =I3+L3+O3+R3+U3+X3 -> 177960859 | G3: =Önkormányzat!D3 -> 335940044 | H3: =Önkormányzat!E3 -> 339212072 | I3: =Önkormányzat!F3 -> 177960859 | J3: =VÜMESZ!D3 -> 0 | K3: =VÜMESZ!E3 -> 0 | L3: =VÜMESZ!F3 -> 0 | M3: =Hivatal!D3 -> 0 | N3: =Hivatal!E3 -> 0 | O3: =Hivatal!F3 -> 0 | P3: ='Művelődési ház'!D3 -> 0 | Q3: ='Művelődési ház'!E3 -> 0 | R3: ='Művelődési ház'!F3 -> 0 | S3: =Bölcsőde!D3 -> 0 | T3: =Bölcsőde!E3 -> 0 | U3: =Bölcsőde!F3 -> 0 | V3: =Óvoda!D3 -> 0 | W3: =Óvoda!E3 -> 0 | X3: =Óvoda!F3 -> 0
A4: B1131 | B4: Települési önkormányzatok egyes szociális és gyermekjóléti feladatainak támogatása | C4: =Önkormányzat!C4+VÜMESZ!C4+Hivatal!C4+'Művelődési ház'!C4+Bölcsőde!C4+Óvoda!C4 -> 78959000 | D4: =G4+J4+M4+P4+S4+V4 -> 87642800 | E4: =H4+K4+N4+Q4+T4+W4 -> 87642800 | F4: =I4+L4+O4+R4+U4+X4 -> 45574256 | G4: =Önkormányzat!D4 -> 87642800 | H4: =Önkormányzat!E4 -> 87642800 | I4: =Önkormányzat!F4 -> 45574256 | J4: =VÜMESZ!D4 -> 0 | K4: =VÜMESZ!E4 -> 0 | L4: =VÜMESZ!F4 -> 0 | M4: =Hivatal!D4 -> 0 | N4: =Hivatal!E4 -> 0 | O4: =Hivatal!F4 -> 0 | P4: ='Művelődési ház'!D4 -> 0 | Q4: ='Művelődési ház'!E4 -> 0 | R4: ='Művelődési ház'!F4 -> 0 | S4: =Bölcsőde!D4 -> 0 | T4: =Bölcsőde!E4 -> 0 | U4: =Bölcsőde!F4 -> 0 | V4: =Óvoda!D4 -> 0 | W4: =Óvoda!E4 -> 0 | X4: =Óvoda!F4 -> 0
A5: B1132 | B5: Települési önkormányzatok gyermekétkeztetési feladatainak támogatása | C5: =Önkormányzat!C5+VÜMESZ!C5+Hivatal!C5+'Művelődési ház'!C5+Bölcsőde!C5+Óvoda!C5 -> 84899997 | D5: =G5+J5+M5+P5+S5+V5 -> 81100868 | E5: =H5+K5+N5+Q5+T5+W5 -> 81100868 | F5: =I5+L5+O5+R5+U5+X5 -> 42172449 | G5: =Önkormányzat!D5 -> 81100868 | H5: =Önkormányzat!E5 -> 81100868 | I5: =Önkormányzat!F5 -> 42172449 | J5: =VÜMESZ!D5 -> 0 | K5: =VÜMESZ!E5 -> 0 | L5: =VÜMESZ!F5 -> 0 | M5: =Hivatal!D5 -> 0 | N5: =Hivatal!E5 -> 0 | O5: =Hivatal!F5 -> 0 | P5: ='Művelődési ház'!D5 -> 0 | Q5: ='Művelődési ház'!E5 -> 0 | R5: ='Művelődési ház'!F5 -> 0 | S5: =Bölcsőde!D5 -> 0 | T5: =Bölcsőde!E5 -> 0 | U5: =Bölcsőde!F5 -> 0 | V5: =Óvoda!D5 -> 0 | W5: =Óvoda!E5 -> 0 | X5: =Óvoda!F5 -> 0
A6: B113 | B6: Települési önkormányzatok szociális gyermekjóléti és gyermekétkeztetési feladatainak támogatása | C6: =Önkormányzat!C6+VÜMESZ!C6+Hivatal!C6+'Művelődési ház'!C6+Bölcsőde!C6+Óvoda!C6 -> 163858997 | D6: =G6+J6+M6+P6+S6+V6 -> 168743668 | E6: =H6+K6+N6+Q6+T6+W6 -> 168743668 | F6: =I6+L6+O6+R6+U6+X6 -> 87746705 | G6: =Önkormányzat!D6 -> 168743668 | H6: =Önkormányzat!E6 -> 168743668 | I6: =Önkormányzat!F6 -> 87746705 | J6: =VÜMESZ!D6 -> 0 | K6: =VÜMESZ!E6 -> 0 | L6: =VÜMESZ!F6 -> 0 | M6: =Hivatal!D6 -> 0 | N6: =Hivatal!E6 -> 0 | O6: =Hivatal!F6 -> 0 | P6: ='Művelődési ház'!D6 -> 0 | Q6: ='Művelődési ház'!E6 -> 0 | R6: ='Művelődési ház'!F6 -> 0 | S6: =Bölcsőde!D6 -> 0 | T6: =Bölcsőde!E6 -> 0 | U6: =Bölcsőde!F6 -> 0 | V6: =Óvoda!D6 -> 0 | W6: =Óvoda!E6 -> 0 | X6: =Óvoda!F6 -> 0
A7: B114 | B7: Települési önkormányzatok kulturális feladatainak támogatása | C7: =Önkormányzat!C7+VÜMESZ!C7+Hivatal!C7+'Művelődési ház'!C7+Bölcsőde!C7+Óvoda!C7 -> 24306025 | D7: =G7+J7+M7+P7+S7+V7 -> 31237163 | E7: =H7+K7+N7+Q7+T7+W7 -> 31237163 | F7: =I7+L7+O7+R7+U7+X7 -> 16243325 | G7: =Önkormányzat!D7 -> 31237163 | H7: =Önkormányzat!E7 -> 31237163 | I7: =Önkormányzat!F7 -> 16243325 | J7: =VÜMESZ!D7 -> 0 | K7: =VÜMESZ!E7 -> 0 | L7: =VÜMESZ!F7 -> 0 | M7: =Hivatal!D7 -> 0 | N7: =Hivatal!E7 -> 0 | O7: =Hivatal!F7 -> 0 | P7: ='Művelődési ház'!D7 -> 0 | Q7: ='Művelődési ház'!E7 -> 0 | R7: ='Művelődési ház'!F7 -> 0 | S7: =Bölcsőde!D7 -> 0 | T7: =Bölcsőde!E7 -> 0 | U7: =Bölcsőde!F7 -> 0 | V7: =Óvoda!D7 -> 0 | W7: =Óvoda!E7 -> 0 | X7: =Óvoda!F7 -> 0
A8: B115 | B8: Működési célú költségvetési támogatások és kiegészítő támogatások | C8: =Önkormányzat!C8+VÜMESZ!C8+Hivatal!C8+'Művelődési ház'!C8+Bölcsőde!C8+Óvoda!C8 -> 0 | D8: =G8+J8+M8+P8+S8+V8 -> 0 | E8: =H8+K8+N8+Q8+T8+W8 -> 0 | F8: =I8+L8+O8+R8+U8+X8 -> 0 | G8: =Önkormányzat!D8 -> 0 | H8: =Önkormányzat!E8 -> 0 | I8: =Önkormányzat!F8 -> 0 | J8: =VÜMESZ!D8 -> 0 | K8: =VÜMESZ!E8 -> 0 | L8: =VÜMESZ!F8 -> 0 | M8: =Hivatal!D8 -> 0 | N8: =Hivatal!E8 -> 0 | O8: =Hivatal!F8 -> 0 | P8: ='Művelődési ház'!D8 -> 0 | Q8: ='Művelődési ház'!E8 -> 0 | R8: ='Művelődési ház'!F8 -> 0 | S8: =Bölcsőde!D8 -> 0 | T8: =Bölcsőde!E8 -> 0 | U8: =Bölcsőde!F8 -> 0 | V8: =Óvoda!D8 -> 0 | W8: =Óvoda!E8 -> 0 | X8: =Óvoda!F8 -> 0
A9: B116 | B9: Elszámolásból származó bevételek | C9: =Önkormányzat!C9+VÜMESZ!C9+Hivatal!C9+'Művelődési ház'!C9+Bölcsőde!C9+Óvoda!C9 -> 3888912 | D9: =G9+J9+M9+P9+S9+V9 -> 0 | E9: =H9+K9+N9+Q9+T9+W9 -> 2857316 | F9: =I9+L9+O9+R9+U9+X9 -> 2857316 | G9: =Önkormányzat!D9 -> 0 | H9: =Önkormányzat!E9 -> 2857316 | I9: =Önkormányzat!F9 -> 2857316 | J9: =VÜMESZ!D9 -> 0 | K9: =VÜMESZ!E9 -> 0 | L9: =VÜMESZ!F9 -> 0 | M9: =Hivatal!D9 -> 0 | N9: =Hivatal!E9 -> 0 | O9: =Hivatal!F9 -> 0 | P9: ='Művelődési ház'!D9 -> 0 | Q9: ='Művelődési ház'!E9 -> 0 | R9: ='Művelődési ház'!F9 -> 0 | S9: =Bölcsőde!D9 -> 0 | T9: =Bölcsőde!E9 -> 0 | U9: =Bölcsőde!F9 -> 0 | V9: =Óvoda!D9 -> 0 | W9: =Óvoda!E9 -> 0 | X9: =Óvoda!F9 -> 0
A10: B11 | B10: Önkormányzatok működési támogatásai | C10: =Önkormányzat!C10+VÜMESZ!C10+Hivatal!C10+'Művelődési ház'!C10+Bölcsőde!C10+Óvoda!C10 -> 767309418 | D10: =G10+J10+M10+P10+S10+V10 -> 837950188 | E10: =H10+K10+N10+Q10+T10+W10 -> 844079532 | F10: =I10+L10+O10+R10+U10+X10 -> 443126080 | G10: =Önkormányzat!D10 -> 837950188 | H10: =Önkormányzat!E10 -> 844079532 | I10: =Önkormányzat!F10 -> 443126080 | J10: =VÜMESZ!D10 -> 0 | K10: =VÜMESZ!E10 -> 0 | L10: =VÜMESZ!F10 -> 0 | M10: =Hivatal!D10 -> 0 | N10: =Hivatal!E10 -> 0 | O10: =Hivatal!F10 -> 0 | P10: ='Művelődési ház'!D10 -> 0 | Q10: ='Művelődési ház'!E10 -> 0 | R10: ='Művelődési ház'!F10 -> 0 | S10: =Bölcsőde!D10 -> 0 | T10: =Bölcsőde!E10 -> 0 | U10: =Bölcsőde!F10 -> 0 | V10: =Óvoda!D10 -> 0 | W10: =Óvoda!E10 -> 0 | X10: =Óvoda!F10 -> 0
A11: B12 | B11: Elvonások és befizetések bevételei | C11: =Önkormányzat!C11+VÜMESZ!C11+Hivatal!C11+'Művelődési ház'!C11+Bölcsőde!C11+Óvoda!C11 -> 0 | D11: =G11+J11+M11+P11+S11+V11 -> 0 | E11: =H11+K11+N11+Q11+T11+W11 -> 12555742 | F11: =I11+L11+O11+R11+U11+X11 -> 12555742 | G11: =Önkormányzat!D11 -> 0 | H11: =Önkormányzat!E11 -> 12555742 | I11: =Önkormányzat!F11 -> 12555742 | J11: =VÜMESZ!D11 -> 0 | K11: =VÜMESZ!E11 -> 0 | L11: =VÜMESZ!F11 -> 0 | M11: =Hivatal!D11 -> 0 | N11: =Hivatal!E11 -> 0 | O11: =Hivatal!F11 -> 0 | P11: ='Művelődési ház'!D11 -> 0 | Q11: ='Művelődési ház'!E11 -> 0 | R11: ='Művelődési ház'!F11 -> 0 | S11: =Bölcsőde!D11 -> 0 | T11: =Bölcsőde!E11 -> 0 | U11: =Bölcsőde!F11 -> 0 | V11: =Óvoda!D11 -> 0 | W11: =Óvoda!E11 -> 0 | X11: =Óvoda!F11 -> 0
A12: B13 | B12: Működési célú garancia- és kezességvállalásból származó megtérülések államháztartáson belülről | C12: =Önkormányzat!C12+VÜMESZ!C12+Hivatal!C12+'Művelődési ház'!C12+Bölcsőde!C12+Óvoda!C12 -> 0 | D12: =G12+J12+M12+P12+S12+V12 -> 0 | E12: =H12+K12+N12+Q12+T12+W12 -> 0 | F12: =I12+L12+O12+R12+U12+X12 -> 0 | G12: =Önkormányzat!D12 -> 0 | H12: =Önkormányzat!E12 -> 0 | I12: =Önkormányzat!F12 -> 0 | J12: =VÜMESZ!D12 -> 0 | K12: =VÜMESZ!E12 -> 0 | L12: =VÜMESZ!F12 -> 0 | M12: =Hivatal!D12 -> 0 | N12: =Hivatal!E12 -> 0 | O12: =Hivatal!F12 -> 0 | P12: ='Művelődési ház'!D12 -> 0 | Q12: ='Művelődési ház'!E12 -> 0 | R12: ='Művelődési ház'!F12 -> 0 | S12: =Bölcsőde!D12 -> 0 | T12: =Bölcsőde!E12 -> 0 | U12: =Bölcsőde!F12 -> 0 | V12: =Óvoda!D12 -> 0 | W12: =Óvoda!E12 -> 0 | X12: =Óvoda!F12 -> 0
A13: B14 | B13: Működési célú visszatérítendő támogatások, kölcsönök visszatérülése államháztartáson belülről | C13: =Önkormányzat!C13+VÜMESZ!C13+Hivatal!C13+'Művelődési ház'!C13+Bölcsőde!C13+Óvoda!C13 -> 0 | D13: =G13+J13+M13+P13+S13+V13 -> 0 | E13: =H13+K13+N13+Q13+T13+W13 -> 0 | F13: =I13+L13+O13+R13+U13+X13 -> 0 | G13: =Önkormányzat!D13 -> 0 | H13: =Önkormányzat!E13 -> 0 | I13: =Önkormányzat!F13 -> 0 | J13: =VÜMESZ!D13 -> 0 | K13: =VÜMESZ!E13 -> 0 | L13: =VÜMESZ!F13 -> 0 | M13: =Hivatal!D13 -> 0 | N13: =Hivatal!E13 -> 0 | O13: =Hivatal!F13 -> 0 | P13: ='Művelődési ház'!D13 -> 0 | Q13: ='Művelődési ház'!E13 -> 0 | R13: ='Művelődési ház'!F13 -> 0 | S13: =Bölcsőde!D13 -> 0 | T13: =Bölcsőde!E13 -> 0 | U13: =Bölcsőde!F13 -> 0 | V13: =Óvoda!D13 -> 0 | W13: =Óvoda!E13 -> 0 | X13: =Óvoda!F13 -> 0
... A21: B25 | B21: Egyéb felhalmozási célú támogatások bevételei államháztartáson belülről | C21: =Önkormányzat!C21+VÜMESZ!C21+Hivatal!C21+'Művelődési ház'!C21+Bölcsőde!C21+Óvoda!C21 -> 0 | D21: =G21+J21+M21+P21+S21+V21 -> 60412919 | E21: =H21+K21+N21+Q21+T21+W21 -> 60412919 | F21: =I21+L21+O21+R21+U21+X21 -> 60412919 | G21: =Önkormányzat!D21 -> 60412919 | H21: =Önkormányzat!E21 -> 60412919 | I21: =Önkormányzat!F21 -> 60412919 | J21: =VÜMESZ!D21 -> 0 | K21: =VÜMESZ!E21 -> 0 | L21: =VÜMESZ!F21 -> 0 | M21: =Hivatal!D21 -> 0 | N21: =Hivatal!E21 -> 0 | O21: =Hivatal!F21 -> 0 | P21: ='Művelődési ház'!D21 -> 0 | Q21: ='Művelődési ház'!E21 -> 0 | R21: ='Művelődési ház'!F21 -> 0 | S21: =Bölcsőde!D21 -> 0 | T21: =Bölcsőde!E21 -> 0 | U21: =Bölcsőde!F21 -> 0 | V21: =Óvoda!D21 -> 0 | W21: =Óvoda!E21 -> 0 | X21: =Óvoda!F21 -> 0
B22: EU-s támogatás | C22: =Önkormányzat!C22+VÜMESZ!C22+Hivatal!C22+'Művelődési ház'!C22+Bölcsőde!C22+Óvoda!C22 -> 0 | D22: =G22+J22+M22+P22+S22+V22 -> 0 | E22: =H22+K22+N22+Q22+T22+W22 -> 0 | F22: =I22+L22+O22+R22+U22+X22 -> 0 | V22: =Óvoda!D22 -> 0 | W22: =Óvoda!E22 -> 0 | X22: =Óvoda!F22 -> 0
A23: B2 | B23: Felhalmozási célú támogatások államháztartáson belülről | C23: =Önkormányzat!C23+VÜMESZ!C23+Hivatal!C23+'Művelődési ház'!C23+Bölcsőde!C23+Óvoda!C23 -> 0 | D23: =G23+J23+M23+P23+S23+V23 -> 60412919 | E23: =H23+K23+N23+Q23+T23+W23 -> 60412919 | F23: =I23+L23+O23+R23+U23+X23 -> 60412919 | G23: =Önkormányzat!D23 -> 60412919 | H23: =Önkormányzat!E23 -> 60412919 | I23: =Önkormányzat!F23 -> 60412919 | J23: =VÜMESZ!D23 -> 0 | K23: =VÜMESZ!E23 -> 0 | L23: =VÜMESZ!F23 -> 0 | M23: =Hivatal!D23 -> 0 | N23: =Hivatal!E23 -> 0 | O23: =Hivatal!F23 -> 0 | P23: ='Művelődési ház'!D23 -> 0 | Q23: ='Művelődési ház'!E23 -> 0 | R23: ='Művelődési ház'!F23 -> 0 | S23: =Bölcsőde!D23 -> 0 | T23: =Bölcsőde!E23 -> 0 | U23: =Bölcsőde!F23 -> 0 | V23: =Óvoda!D23 -> 0 | W23: =Óvoda!E23 -> 0 | X23: =Óvoda!F23 -> 0
A24: B34 | B24: Vagyoni típusú adók | C24: =Önkormányzat!C24+VÜMESZ!C24+Hivatal!C24+'Művelődési ház'!C24+Bölcsőde!C24+Óvoda!C24 -> 195172212 | D24: =G24+J24+M24+P24+S24+V24 -> 185500000 | E24: =H24+K24+N24+Q24+T24+W24 -> 185500000 | F24: =I24+L24+O24+R24+U24+X24 -> 98963266 | G24: =Önkormányzat!D24 -> 185500000 | H24: =Önkormányzat!E24 -> 185500000 | I24: =Önkormányzat!F24 -> 98963266 | J24: =VÜMESZ!D24 -> 0 | K24: =VÜMESZ!E24 -> 0 | L24: =VÜMESZ!F24 -> 0 | M24: =Hivatal!D24 -> 0 | N24: =Hivatal!E24 -> 0 | O24: =Hivatal!F24 -> 0 | P24: ='Művelődési ház'!D24 -> 0 | Q24: ='Művelődési ház'!E24 -> 0 | R24: ='Művelődési ház'!F24 -> 0 | S24: =Bölcsőde!D24 -> 0 | T24: =Bölcsőde!E24 -> 0 | U24: =Bölcsőde!F24 -> 0 | V24: =Óvoda!D24 -> 0 | W24: =Óvoda!E24 -> 0 | X24: =Óvoda!F24 -> 0
A25: B351 | B25: Értékesítési és forgalmi adók | C25: =Önkormányzat!C25+VÜMESZ!C25+Hivatal!C25+'Művelődési ház'!C25+Bölcsőde!C25+Óvoda!C25 -> 1298950786 | D25: =G25+J25+M25+P25+S25+V25 -> 1100000000 | E25: =H25+K25+N25+Q25+T25+W25 -> 1100000000 | F25: =I25+L25+O25+R25+U25+X25 -> 715690780 | G25: =G27 -> 1100000000 | H25: =H27 -> 1100000000 | I25: =I27 -> 715690780 | J25: =VÜMESZ!D25 -> 0 | K25: =VÜMESZ!E25 -> 0 | L25: =VÜMESZ!F25 -> 0 | M25: =Hivatal!D25 -> 0 | N25: =Hivatal!E25 -> 0 | O25: =Hivatal!F25 -> 0 | P25: ='Művelődési ház'!D25 -> 0 | Q25: ='Művelődési ház'!E25 -> 0 | R25: ='Művelődési ház'!F25 -> 0 | S25: =Bölcsőde!D25 -> 0 | T25: =Bölcsőde!E25 -> 0 | U25: =Bölcsőde!F25 -> 0 | V25: =Óvoda!D25 -> 0 | W25: =Óvoda!E25 -> 0 | X25: =Óvoda!F25 -> 0
A26: B355 | B26: Egyéb áruhasználati és szolgáltatási adók | C26: =Önkormányzat!C26+VÜMESZ!C26+Hivatal!C26+'Művelődési ház'!C26+Bölcsőde!C26+Óvoda!C26 -> 0 | D26: =G26+J26+M26+P26+S26+V26 -> 0 | E26: =H26+K26+N26+Q26+T26+W26 -> 0 | F26: =I26+L26+O26+R26+U26+X26 -> 0 | G26: =Önkormányzat!D26 -> 0 | H26: =Önkormányzat!E26 -> 0 | I26: =Önkormányzat!F26 -> 0 | J26: =VÜMESZ!D26 -> 0 | K26: =VÜMESZ!E26 -> 0 | L26: =VÜMESZ!F26 -> 0 | M26: =Hivatal!D26 -> 0 | N26: =Hivatal!E26 -> 0 | O26: =Hivatal!F26 -> 0 | P26: ='Művelődési ház'!D26 -> 0 | Q26: ='Művelődési ház'!E26 -> 0 | R26: ='Művelődési ház'!F26 -> 0 | S26: =Bölcsőde!D26 -> 0 | T26: =Bölcsőde!E26 -> 0 | U26: =Bölcsőde!F26 -> 0 | V26: =Óvoda!D26 -> 0 | W26: =Óvoda!E26 -> 0 | X26: =Óvoda!F26 -> 0
A27: B35 | B27: Termékek és szolgáltatások adói | C27: =Önkormányzat!C27+VÜMESZ!C27+Hivatal!C27+'Művelődési ház'!C27+Bölcsőde!C27+Óvoda!C27 -> 1298950786 | D27: =G27+J27+M27+P27+S27+V27 -> 1100000000 | E27: =H27+K27+N27+Q27+T27+W27 -> 1100000000 | F27: =I27+L27+O27+R27+U27+X27 -> 715690780 | G27: =Önkormányzat!D27 -> 1100000000 | H27: =Önkormányzat!E27 -> 1100000000 | I27: =Önkormányzat!F27 -> 715690780 | J27: =VÜMESZ!D27 -> 0 | K27: =VÜMESZ!E27 -> 0 | L27: =VÜMESZ!F27 -> 0 | M27: =Hivatal!D27 -> 0 | N27: =Hivatal!E27 -> 0 | O27: =Hivatal!F27 -> 0 | P27: ='Művelődési ház'!D27 -> 0 | Q27: ='Művelődési ház'!E27 -> 0 | R27: ='Művelődési ház'!F27 -> 0 | S27: =Bölcsőde!D27 -> 0 | T27: =Bölcsőde!E27 -> 0 | U27: =Bölcsőde!F27 -> 0 | V27: =Óvoda!D27 -> 0 | W27: =Óvoda!E27 -> 0 | X27: =Óvoda!F27 -> 0
A28: B36 | B28: Egyéb közhatalmi bevételek | C28: =Önkormányzat!C28+VÜMESZ!C28+Hivatal!C28+'Művelődési ház'!C28+Bölcsőde!C28+Óvoda!C28 -> 2195117 | D28: =G28+J28+M28+P28+S28+V28 -> 1000000 | E28: =H28+K28+N28+Q28+T28+W28 -> 1000000 | F28: =I28+L28+O28+R28+U28+X28 -> 922893 | G28: =Önkormányzat!D28 -> 1000000 | H28: =Önkormányzat!E28 -> 1000000 | I28: =Önkormányzat!F28 -> 922893 | J28: =VÜMESZ!D28 -> 0 | K28: =VÜMESZ!E28 -> 0 | L28: =VÜMESZ!F28 -> 0 | M28: =Hivatal!D28 -> 0 | N28: =Hivatal!E28 -> 0 | O28: =Hivatal!F28 -> 0 | P28: ='Művelődési ház'!D28 -> 0 | Q28: ='Művelődési ház'!E28 -> 0 | R28: ='Művelődési ház'!F28 -> 0 | S28: =Bölcsőde!D28 -> 0 | T28: =Bölcsőde!E28 -> 0 | U28: =Bölcsőde!F28 -> 0 | V28: =Óvoda!D28 -> 0 | W28: =Óvoda!E28 -> 0 | X28: =Óvoda!F28 -> 0
A29: B3 | B29: Közhatalmi bevételek | C29: =Önkormányzat!C29+VÜMESZ!C29+Hivatal!C29+'Művelődési ház'!C29+Bölcsőde!C29+Óvoda!C29 -> 1496318115 | D29: =G29+J29+M29+P29+S29+V29 -> 1286500000 | E29: =H29+K29+N29+Q29+T29+W29 -> 1286500000 | F29: =I29+L29+O29+R29+U29+X29 -> 815576939 | G29: =Önkormányzat!D29 -> 1286500000 | H29: =Önkormányzat!E29 -> 1286500000 | I29: =Önkormányzat!F29 -> 815576939 | J29: =VÜMESZ!D29 -> 0 | K29: =VÜMESZ!E29 -> 0 | L29: =VÜMESZ!F29 -> 0 | M29: =Hivatal!D29 -> 0 | N29: =Hivatal!E29 -> 0 | O29: =Hivatal!F29 -> 0 | P29: ='Művelődési ház'!D29 -> 0 | Q29: ='Művelődési ház'!E29 -> 0 | R29: ='Művelődési ház'!F29 -> 0 | S29: =Bölcsőde!D29 -> 0 | T29: =Bölcsőde!E29 -> 0 | U29: =Bölcsőde!F29 -> 0 | V29: =Óvoda!D29 -> 0 | W29: =Óvoda!E29 -> 0 | X29: =Óvoda!F29 -> 0
A30: B401 | B30: Készletértékesítés ellenértéke | C30: =Önkormányzat!C30+VÜMESZ!C30+Hivatal!C30+'Művelődési ház'!C30+Bölcsőde!C30+Óvoda!C30 -> 13366510 | D30: =G30+J30+M30+P30+S30+V30 -> 0 | E30: =H30+K30+N30+Q30+T30+W30 -> 45600 | F30: =I30+L30+O30+R30+U30+X30 -> 47500 | Q30: ='Művelődési ház'!E30 -> 45600 | R30: ='Művelődési ház'!F30 -> 47500 | V30: =Óvoda!D31 -> 0 | W30: =Óvoda!E31 -> 0 | X30: =Óvoda!F31 -> 0
A31: B402 | B31: Szolgáltatások ellenértéke | C31: =Önkormányzat!C31+VÜMESZ!C31+Hivatal!C31+'Művelődési ház'!C31+Bölcsőde!C31+Óvoda!C31 -> 33640562 | D31: =G31+J31+M31+P31+S31+V31 -> 27800000 | E31: =H31+K31+N31+Q31+T31+W31 -> 25492675 | F31: =I31+L31+O31+R31+U31+X31 -> 18723214 | G31: =Önkormányzat!D31 -> 16500000 | H31: =Önkormányzat!E31 -> 14192675 | I31: =Önkormányzat!F31 -> 13894999 | J31: =VÜMESZ!D31 -> 1800000 | K31: =VÜMESZ!E31 -> 1800000 | L31: =VÜMESZ!F31 -> 900000 | M31: =Hivatal!D31 -> 2000000 | N31: =Hivatal!E31 -> 2000000 | O31: =Hivatal!F31 -> 727010 | P31: ='Művelődési ház'!D31 -> 7500000 | Q31: ='Művelődési ház'!E31 -> 7500000 | R31: ='Művelődési ház'!F31 -> 3201205 | S31: =Bölcsőde!D31 -> 0 | T31: =Bölcsőde!E31 -> 0 | U31: =Bölcsőde!F31 -> 0 | V31: =Óvoda!D32 -> 0 | W31: =Óvoda!E32 -> 0 | X31: =Óvoda!F32 -> 0
A32: B403 | B32: Közvetített szolgáltatások ellenértéke | C32: =Önkormányzat!C32+VÜMESZ!C32+Hivatal!C32+'Művelődési ház'!C32+Bölcsőde!C32+Óvoda!C32 -> 19398030 | D32: =G32+J32+M32+P32+S32+V32 -> 18800000 | E32: =H32+K32+N32+Q32+T32+W32 -> 18800000 | F32: =I32+L32+O32+R32+U32+X32 -> 7681812 | G32: =Önkormányzat!D32 -> 13000000 | H32: =Önkormányzat!E32 -> 13000000 | I32: =Önkormányzat!F32 -> 5000706 | J32: =VÜMESZ!D32 -> 0 | K32: =VÜMESZ!E32 -> 0 | L32: =VÜMESZ!F32 -> 0 | M32: =Hivatal!D32 -> 4800000 | N32: =Hivatal!E32 -> 4800000 | O32: =Hivatal!F32 -> 2097163 | P32: ='Művelődési ház'!D32 -> 1000000 | Q32: ='Művelődési ház'!E32 -> 1000000 | R32: ='Művelődési ház'!F32 -> 583943 | S32: =Bölcsőde!D32 -> 0 | T32: =Bölcsőde!E32 -> 0 | U32: =Bölcsőde!F32 -> 0 | V32: =Óvoda!D33 -> 0 | W32: =Óvoda!E33 -> 0 | X32: =Óvoda!F33 -> 0
A33: B404 | B33: Tulajdonosi bevételek | C33: =Önkormányzat!C33+VÜMESZ!C33+Hivatal!C33+'Művelődési ház'!C33+Bölcsőde!C33+Óvoda!C33 -> 5483148 | D33: =G33+J33+M33+P33+S33+V33 -> 13800000 | E33: =H33+K33+N33+Q33+T33+W33 -> 13800000 | F33: =I33+L33+O33+R33+U33+X33 -> 8712261 | G33: =Önkormányzat!D33 -> 13800000 | H33: =Önkormányzat!E33 -> 13800000 | I33: =Önkormányzat!F33 -> 8712261 | J33: =VÜMESZ!D33 -> 0 | K33: =VÜMESZ!E33 -> 0 | L33: =VÜMESZ!F33 -> 0 | M33: =Hivatal!D33 -> 0 | N33: =Hivatal!E33 -> 0 | O33: =Hivatal!F33 -> 0 | P33: ='Művelődési ház'!D33 -> 0 | Q33: ='Művelődési ház'!E33 -> 0 | R33: ='Művelődési ház'!F33 -> 0 | S33: =Bölcsőde!D33 -> 0 | T33: =Bölcsőde!E33 -> 0 | U33: =Bölcsőde!F33 -> 0 | V33: =Óvoda!D34 -> 0 | W33: =Óvoda!E34 -> 0 | X33: =Óvoda!F34 -> 0
A34: B405 | B34: Ellátási díjak | C34: =Önkormányzat!C34+VÜMESZ!C34+Hivatal!C34+'Művelődési ház'!C34+Bölcsőde!C34+Óvoda!C34 -> 39328989 | D34: =G34+J34+M34+P34+S34+V34 -> 39500000 | E34: =H34+K34+N34+Q34+T34+W34 -> 39500000 | F34: =I34+L34+O34+R34+U34+X34 -> 15837315 | G34: =Önkormányzat!D34 -> 0 | H34: =Önkormányzat!E34 -> 0 | I34: =Önkormányzat!F34 -> 0 | J34: =VÜMESZ!D34 -> 39500000 | K34: =VÜMESZ!E34 -> 39500000 | L34: =VÜMESZ!F34 -> 15837315 | M34: =Hivatal!D34 -> 0 | N34: =Hivatal!E34 -> 0 | O34: =Hivatal!F34 -> 0 | P34: ='Művelődési ház'!D34 -> 0 | Q34: ='Művelődési ház'!E34 -> 0 | R34: ='Művelődési ház'!F34 -> 0 | S34: =Bölcsőde!D34 -> 0 | T34: =Bölcsőde!E34 -> 0 | U34: =Bölcsőde!F34 -> 0 | V34: =Óvoda!D35 -> 0 | W34: =Óvoda!E35 -> 0 | X34: =Óvoda!F35 -> 0
A35: B406 | B35: Kiszámlázott általános forgalmi adó | C35: =Önkormányzat!C35+VÜMESZ!C35+Hivatal!C35+'Művelődési ház'!C35+Bölcsőde!C35+Óvoda!C35 -> 32879773 | D35: =G35+J35+M35+P35+S35+V35 -> 15160000 | E35: =H35+K35+N35+Q35+T35+W35 -> 17524880 | F35: =I35+L35+O35+R35+U35+X35 -> 10360288 | G35: =Önkormányzat!D35 -> 4500000 | H35: =Önkormányzat!E35 -> 6864880 | I35: =Önkormányzat!F35 -> 6083970 | J35: =VÜMESZ!D35 -> 10660000 | K35: =VÜMESZ!E35 -> 10660000 | L35: =VÜMESZ!F35 -> 4276318 | M35: =Hivatal!D35 -> 0 | N35: =Hivatal!E35 -> 0 | O35: =Hivatal!F35 -> 0 | P35: ='Művelődési ház'!D35 -> 0 | Q35: ='Művelődési ház'!E35 -> 0 | R35: ='Művelődési ház'!F35 -> 0 | S35: =Bölcsőde!D35 -> 0 | T35: =Bölcsőde!E35 -> 0 | U35: =Bölcsőde!F35 -> 0 | V35: =Óvoda!D36 -> 0 | W35: =Óvoda!E36 -> 0 | X35: =Óvoda!F36 -> 0
A36: B407 | B36: Általános forgalmi adó visszatérítése | C36: =Önkormányzat!C36+VÜMESZ!C36+Hivatal!C36+'Művelődési ház'!C36+Bölcsőde!C36+Óvoda!C36 -> 7422000 | D36: =G36+J36+M36+P36+S36+V36 -> 10000000 | E36: =H36+K36+N36+Q36+T36+W36 -> 10020535 | F36: =I36+L36+O36+R36+U36+X36 -> 9617345 | G36: =Önkormányzat!D36 -> 0 | H36: =Önkormányzat!E36 -> 0 | I36: =Önkormányzat!F36 -> 0 | J36: =VÜMESZ!D36 -> 10000000 | K36: =VÜMESZ!E36 -> 10000000 | L36: =VÜMESZ!F36 -> 9571000 | M36: =Hivatal!D36 -> 0 | N36: =Hivatal!E36 -> 0 | O36: =Hivatal!F36 -> 0 | P36: ='Művelődési ház'!D36 -> 0 | Q36: ='Művelődési ház'!E36 -> 0 | R36: ='Művelődési ház'!F36 -> 0 | S36: =Bölcsőde!D36 -> 0 | T36: =Bölcsőde!E36 -> 0 | U36: =Bölcsőde!F36 -> 0 | V36: =Óvoda!D37 -> 0 | W36: =Óvoda!E37 -> 20535 | X36: =Óvoda!F37 -> 46345
A37: B408 | B37: Kamatbevételek és más nyereségjellegű bevételek | C37: =Önkormányzat!C37+VÜMESZ!C37+Hivatal!C37+'Művelődési ház'!C37+Bölcsőde!C37+Óvoda!C37 -> 27036860 | D37: =G37+J37+M37+P37+S37+V37 -> 20700000 | E37: =H37+K37+N37+Q37+T37+W37 -> 20773208 | F37: =I37+L37+O37+R37+U37+X37 -> 11746349 | G37: =Önkormányzat!D37 -> 20700000 | H37: =Önkormányzat!E37 -> 20700000 | I37: =Önkormányzat!F37 -> 11551904 | J37: =VÜMESZ!D37 -> 0 | K37: =VÜMESZ!E37 -> 0 | L37: =VÜMESZ!F37 -> 62387 | M37: =Hivatal!D37 -> 0 | N37: =Hivatal!E37 -> 40756 | O37: =Hivatal!F37 -> 68459 | P37: ='Művelődési ház'!D37 -> 0 | Q37: ='Művelődési ház'!E37 -> 19483 | R37: ='Művelődési ház'!F37 -> 38050 | S37: =Bölcsőde!D37 -> 0 | T37: =Bölcsőde!E37 -> 12969 | U37: =Bölcsőde!F37 -> 25549 | V37: =Óvoda!D38 -> 0 | W37: =Óvoda!E38 -> 0 | X37: =Óvoda!F38 -> 0
A38: B409 | B38: Egyéb pénzügyi műveletek bevételei | C38: =Önkormányzat!C38+VÜMESZ!C38+Hivatal!C38+'Művelődési ház'!C38+Bölcsőde!C38+Óvoda!C38 -> 0 | D38: =G38+J38+M38+P38+S38+V38 -> 0 | E38: =H38+K38+N38+Q38+T38+W38 -> 0 | F38: =I38+L38+O38+R38+U38+X38 -> 0 | G38: =Önkormányzat!D38 -> 0 | H38: =Önkormányzat!E38 -> 0 | I38: =Önkormányzat!F38 -> 0 | J38: =VÜMESZ!D38 -> 0 | K38: =VÜMESZ!E38 -> 0 | L38: =VÜMESZ!F38 -> 0 | M38: =Hivatal!D38 -> 0 | N38: =Hivatal!E38 -> 0 | O38: =Hivatal!F38 -> 0 | P38: ='Művelődési ház'!D38 -> 0 | Q38: ='Művelődési ház'!E38 -> 0 | R38: ='Művelődési ház'!F38 -> 0 | S38: =Bölcsőde!D38 -> 0 | T38: =Bölcsőde!E38 -> 0 | U38: =Bölcsőde!F38 -> 0 | V38: =Óvoda!D39 -> 0 | W38: =Óvoda!E39 -> 0 | X38: =Óvoda!F39 -> 0
A39: B410 | B39: Biztosító által fizetett kártérítés | C39: =Önkormányzat!C39+VÜMESZ!C39+Hivatal!C39+'Művelődési ház'!C39+Bölcsőde!C39+Óvoda!C39 -> 8255 | D39: =G39+J39+M39+P39+S39+V39 -> 0 | E39: =H39+K39+N39+Q39+T39+W39 -> 0 | F39: =I39+L39+O39+R39+U39+X39 -> 0 | G39: =Önkormányzat!D39 -> 0 | H39: =Önkormányzat!E39 -> 0 | I39: =Önkormányzat!F39 -> 0 | J39: =VÜMESZ!D39 -> 0 | K39: =VÜMESZ!E39 -> 0 | L39: =VÜMESZ!F39 -> 0 | M39: =Hivatal!D39 -> 0 | N39: =Hivatal!E39 -> 0 | O39: =Hivatal!F39 -> 0 | P39: ='Művelődési ház'!D39 -> 0 | Q39: ='Művelődési ház'!E39 -> 0 | R39: ='Művelődési ház'!F39 -> 0 | S39: =Bölcsőde!D39 -> 0 | T39: =Bölcsőde!E39 -> 0 | U39: =Bölcsőde!F39 -> 0 | V39: =Óvoda!D40 -> 0 | W39: =Óvoda!E40 -> 0 | X39: =Óvoda!F40 -> 0
A40: B411 | B40: Egyéb működési bevételek | C40: =Önkormányzat!C40+VÜMESZ!C40+Hivatal!C40+'Művelődési ház'!C40+Bölcsőde!C40+Óvoda!C40 -> 15599074 | D40: =G40+J40+M40+P40+S40+V40 -> 0 | E40: =H40+K40+N40+Q40+T40+W40 -> 1304604 | F40: =I40+L40+O40+R40+U40+X40 -> 1840675 | G40: =Önkormányzat!D40 -> 0 | H40: =Önkormányzat!E40 -> 1268363 | I40: =Önkormányzat!F40 -> 1278385 | J40: =VÜMESZ!D40 -> 0 | K40: =VÜMESZ!E40 -> 0 | L40: =VÜMESZ!F40 -> 227 | M40: =Hivatal!D40 -> 0 | N40: =Hivatal!E40 -> 0 | O40: =Hivatal!F40 -> 11 | P40: ='Művelődési ház'!D40 -> 0 | Q40: ='Művelődési ház'!E40 -> 15706 | R40: ='Művelődési ház'!F40 -> 515707 | S40: =Bölcsőde!D40 -> 0 | T40: =Bölcsőde!E40 -> 0 | U40: =Bölcsőde!F40 -> 0 | V40: =Óvoda!D41 -> 0 | W40: =Óvoda!E41 -> 20535 | X40: =Óvoda!F41 -> 46345
A41: B4 | B41: Működési bevételek | C41: =Önkormányzat!C41+VÜMESZ!C41+Hivatal!C41+'Művelődési ház'!C41+Bölcsőde!C41+Óvoda!C41 -> 194163201 | D41: =G41+J41+M41+P41+S41+V41 -> 145760000 | E41: =H41+K41+N41+Q41+T41+W41 -> 147174832 | F41: =I41+L41+O41+R41+U41+X41 -> 87932049 | G41: =Önkormányzat!D41 -> 68500000 | H41: =Önkormányzat!E41 -> 69825918 | I41: =Önkormányzat!F41 -> 49980205 | J41: =VÜMESZ!D41 -> 61960000 | K41: =VÜMESZ!E41 -> 61960000 | L41: =VÜMESZ!F41 -> 30647247 | M41: =Hivatal!D41 -> 6800000 | N41: =Hivatal!E41 -> 6840756 | O41: =Hivatal!F41 -> 2892643 | P41: ='Művelődési ház'!D41 -> 8500000 | Q41: ='Művelődési ház'!E41 -> 8535189 | R41: ='Művelődési ház'!F41 -> 4386405 | S41: =Bölcsőde!D41 -> 0 | T41: =Bölcsőde!E41 -> 12969 | U41: =Bölcsőde!F41 -> 25549 | V41: =Óvoda!D42 -> 0 | W41: =Óvoda!E42 -> 0 | X41: =Óvoda!F42 -> 0
A42: B51 | B42: Immateriális javak értékesítése | C42: =Önkormányzat!C42+VÜMESZ!C42+Hivatal!C42+'Művelődési ház'!C42+Bölcsőde!C42+Óvoda!C42 -> 0 | D42: =G42+J42+M42+P42+S42+V42 -> 0 | E42: =H42+K42+N42+Q42+T42+W42 -> 0 | F42: =I42+L42+O42+R42+U42+X42 -> 0 | G42: =Önkormányzat!D42 -> 0 | H42: =Önkormányzat!E42 -> 0 | I42: =Önkormányzat!F42 -> 0 | J42: =VÜMESZ!D42 -> 0 | K42: =VÜMESZ!E42 -> 0 | L42: =VÜMESZ!F42 -> 0 | M42: =Hivatal!D42 -> 0 | N42: =Hivatal!E42 -> 0 | O42: =Hivatal!F42 -> 0 | P42: ='Művelődési ház'!D42 -> 0 | Q42: ='Művelődési ház'!E42 -> 0 | R42: ='Művelődési ház'!F42 -> 0 | S42: =Bölcsőde!D42 -> 0 | T42: =Bölcsőde!E42 -> 0 | U42: =Bölcsőde!F42 -> 0 | V42: =Óvoda!D43 -> 0 | W42: =Óvoda!E43 -> 0 | X42: =Óvoda!F43 -> 0
... A52: B65 | B52: Egyéb működési célú átvett pénzeszközök | C52: =Önkormányzat!C52+VÜMESZ!C52+Hivatal!C52+'Művelődési ház'!C52+Bölcsőde!C52+Óvoda!C52 -> 250000 | D52: =G52+J52+M52+P52+S52+V52 -> 0 | E52: =H52+K52+N52+Q52+T52+W52 -> 0 | F52: =I52+L52+O52+R52+U52+X52 -> 0 | G52: =Önkormányzat!D52 -> 0 | H52: =Önkormányzat!E52 -> 0 | I52: =Önkormányzat!F52 -> 0 | J52: =VÜMESZ!D52 -> 0 | K52: =VÜMESZ!E52 -> 0 | L52: =VÜMESZ!F52 -> 0 | M52: =Hivatal!D52 -> 0 | N52: =Hivatal!E52 -> 0 | O52: =Hivatal!F52 -> 0 | P52: ='Művelődési ház'!D52 -> 0 | Q52: ='Művelődési ház'!E52 -> 0 | R52: ='Művelődési ház'!F52 -> 0 | S52: =Bölcsőde!D52 -> 0 | T52: =Bölcsőde!E52 -> 0 | U52: =Bölcsőde!F52 -> 0 | V52: =Óvoda!D53 -> 0 | W52: =Óvoda!E53 -> 0 | X52: =Óvoda!F53 -> 0
A53: B6 | B53: Működési célú átvett pénzeszközök (=58+…+62) B6 | C53: =Önkormányzat!C53+VÜMESZ!C53+Hivatal!C53+'Művelődési ház'!C53+Bölcsőde!C53+Óvoda!C53 -> 250000 | D53: =G53+J53+M53+P53+S53+V53 -> 0 | E53: =H53+K53+N53+Q53+T53+W53 -> 0 | F53: =I53+L53+O53+R53+U53+X53 -> 0 | G53: =G48+G49+G50+G51+G52 -> 0 | H53: =H48+H49+H50+H51+H52 -> 0 | I53: =I48+I49+I50+I51+I52 -> 0 | J53: =J48+J49+J50+J51+J52 -> 0 | K53: =K48+K49+K50+K51+K52 -> 0 | L53: =L48+L49+L50+L51+L52 -> 0 | M53: =M48+M49+M50+M51+M52 -> 0 | N53: =N48+N49+N50+N51+N52 -> 0 | ... U53: =U48+U49+U50+U51+U52 -> 0 | V53: =Óvoda!D54 -> 0 | W53: =Óvoda!E54 -> 0 | X53: =Óvoda!F54 -> 0
A54: B71 | B54: Felhalmozási célú garancia- és kezességvállalásból származó megtérülések államháztartáson kívülről | C54: =Önkormányzat!C54+VÜMESZ!C54+Hivatal!C54+'Művelődési ház'!C54+Bölcsőde!C54+Óvoda!C54 -> 0 | D54: =G54+J54+M54+P54+S54+V54 -> 0 | E54: =H54+K54+N54+Q54+T54+W54 -> 0 | F54: =I54+L54+O54+R54+U54+X54 -> 0 | G54: =Önkormányzat!D54 -> 0 | H54: =Önkormányzat!E54 -> 0 | I54: =Önkormányzat!F54 -> 0 | J54: =VÜMESZ!D54 -> 0 | K54: =VÜMESZ!E54 -> 0 | L54: =VÜMESZ!F54 -> 0 | M54: =Hivatal!D54 -> 0 | N54: =Hivatal!E54 -> 0 | O54: =Hivatal!F54 -> 0 | P54: ='Művelődési ház'!D54 -> 0 | Q54: ='Művelődési ház'!E54 -> 0 | R54: ='Művelődési ház'!F54 -> 0 | S54: =Bölcsőde!D54 -> 0 | T54: =Bölcsőde!E54 -> 0 | U54: =Bölcsőde!F54 -> 0 | V54: =Óvoda!D55 -> 0 | W54: =Óvoda!E55 -> 0 | X54: =Óvoda!F55 -> 0
A55: B72 | B55: Felhalmozási célú visszatérítendő támogatások, kölcsönök visszatérülése az Európai Uniótól | C55: =Önkormányzat!C55+VÜMESZ!C55+Hivatal!C55+'Művelődési ház'!C55+Bölcsőde!C55+Óvoda!C55 -> 0 | D55: =G55+J55+M55+P55+S55+V55 -> 0 | E55: =H55+K55+N55+Q55+T55+W55 -> 0 | F55: =I55+L55+O55+R55+U55+X55 -> 0 | G55: =Önkormányzat!D55 -> 0 | H55: =Önkormányzat!E55 -> 0 | I55: =Önkormányzat!F55 -> 0 | J55: =VÜMESZ!D55 -> 0 | K55: =VÜMESZ!E55 -> 0 | L55: =VÜMESZ!F55 -> 0 | M55: =Hivatal!D55 -> 0 | N55: =Hivatal!E55 -> 0 | O55: =Hivatal!F55 -> 0 | P55: ='Művelődési ház'!D55 -> 0 | Q55: ='Művelődési ház'!E55 -> 0 | R55: ='Művelődési ház'!F55 -> 0 | S55: =Bölcsőde!D55 -> 0 | T55: =Bölcsőde!E55 -> 0 | U55: =Bölcsőde!F55 -> 0 | V55: =Óvoda!D56 -> 0 | W55: =Óvoda!E56 -> 0 | X55: =Óvoda!F56 -> 0
A56: B73 | B56: Felhalmozási célú visszatérítendő támogatások, kölcsönök visszatérülése kormányoktól és más nemzetközi szervezetektől | C56: =Önkormányzat!C56+VÜMESZ!C56+Hivatal!C56+'Művelődési ház'!C56+Bölcsőde!C56+Óvoda!C56 -> 0 | D56: =G56+J56+M56+P56+S56+V56 -> 0 | E56: =H56+K56+N56+Q56+T56+W56 -> 0 | F56: =I56+L56+O56+R56+U56+X56 -> 0 | G56: =Önkormányzat!D56 -> 0 | H56: =Önkormányzat!E56 -> 0 | I56: =Önkormányzat!F56 -> 0 | J56: =VÜMESZ!D56 -> 0 | K56: =VÜMESZ!E56 -> 0 | L56: =VÜMESZ!F56 -> 0 | M56: =Hivatal!D56 -> 0 | N56: =Hivatal!E56 -> 0 | O56: =Hivatal!F56 -> 0 | P56: ='Művelődési ház'!D56 -> 0 | Q56: ='Művelődési ház'!E56 -> 0 | R56: ='Művelődési ház'!F56 -> 0 | S56: =Bölcsőde!D56 -> 0 | T56: =Bölcsőde!E56 -> 0 | U56: =Bölcsőde!F56 -> 0 | V56: =Óvoda!D57 -> 0 | W56: =Óvoda!E57 -> 0 | X56: =Óvoda!F57 -> 0
A57: B74 | B57: Felhalmozási célú visszatérítendő támogatások, kölcsönök visszatérülése államháztartáson kívülről | C57: =Önkormányzat!C57+VÜMESZ!C57+Hivatal!C57+'Művelődési ház'!C57+Bölcsőde!C57+Óvoda!C57 -> 0 | D57: =G57+J57+M57+P57+S57+V57 -> 0 | E57: =H57+K57+N57+Q57+T57+W57 -> 0 | F57: =I57+L57+O57+R57+U57+X57 -> 0 | G57: =Önkormányzat!D57 -> 0 | H57: =Önkormányzat!E57 -> 0 | I57: =Önkormányzat!F57 -> 0 | J57: =VÜMESZ!D57 -> 0 | K57: =VÜMESZ!E57 -> 0 | L57: =VÜMESZ!F57 -> 0 | M57: =Hivatal!D57 -> 0 | N57: =Hivatal!E57 -> 0 | O57: =Hivatal!F57 -> 0 | P57: ='Művelődési ház'!D57 -> 0 | Q57: ='Művelődési ház'!E57 -> 0 | R57: ='Művelődési ház'!F57 -> 0 | S57: =Bölcsőde!D57 -> 0 | T57: =Bölcsőde!E57 -> 0 | U57: =Bölcsőde!F57 -> 0 | V57: =Óvoda!D58 -> 0 | W57: =Óvoda!E58 -> 0 | X57: =Óvoda!F58 -> 0
A58: B75 | B58: Egyéb felhalmozási célú átvett pénzeszközök | C58: =Önkormányzat!C58+VÜMESZ!C58+Hivatal!C58+'Művelődési ház'!C58+Bölcsőde!C58+Óvoda!C58 -> 0 | D58: =G58+J58+M58+P58+S58+V58 -> 0 | E58: =H58+K58+N58+Q58+T58+W58 -> 0 | F58: =I58+L58+O58+R58+U58+X58 -> 0 | G58: =Önkormányzat!D58 -> 0 | H58: =Önkormányzat!E58 -> 0 | I58: =Önkormányzat!F58 -> 0 | J58: =VÜMESZ!D58 -> 0 | K58: =VÜMESZ!E58 -> 0 | L58: =VÜMESZ!F58 -> 0 | M58: =Hivatal!D58 -> 0 | N58: =Hivatal!E58 -> 0 | O58: =Hivatal!F58 -> 0 | P58: ='Művelődési ház'!D58 -> 0 | Q58: ='Művelődési ház'!E58 -> 0 | R58: ='Művelődési ház'!F58 -> 0 | S58: =Bölcsőde!D58 -> 0 | T58: =Bölcsőde!E58 -> 0 | U58: =Bölcsőde!F58 -> 0 | V58: =Óvoda!D59 -> 0 | W58: =Óvoda!E59 -> 0 | X58: =Óvoda!F59 -> 0
A59: B7 | B59: Felhalmozási célú átvett pénzeszközök | C59: =Önkormányzat!C59+VÜMESZ!C59+Hivatal!C59+'Művelődési ház'!C59+Bölcsőde!C59+Óvoda!C59 -> 0 | D59: =G59+J59+M59+P59+S59+V59 -> 0 | E59: =H59+K59+N59+Q59+T59+W59 -> 20535 | F59: =I59+L59+O59+R59+U59+X59 -> 46345 | G59: =Önkormányzat!D59 -> 0 | H59: =Önkormányzat!E59 -> 0 | I59: =Önkormányzat!F59 -> 0 | J59: =VÜMESZ!D59 -> 0 | K59: =VÜMESZ!E59 -> 0 | L59: =VÜMESZ!F59 -> 0 | M59: =Hivatal!D59 -> 0 | N59: =Hivatal!E59 -> 0 | O59: =Hivatal!F59 -> 0 | P59: ='Művelődési ház'!D59 -> 0 | Q59: ='Művelődési ház'!E59 -> 0 | R59: ='Művelődési ház'!F59 -> 0 | S59: =Bölcsőde!D59 -> 0 | T59: =Bölcsőde!E59 -> 0 | U59: =Bölcsőde!F59 -> 0 | V59: =Óvoda!D60 -> 0 | W59: =Óvoda!E60 -> 20535 | X59: =Óvoda!F60 -> 46345
B60: Költségvetési bevételek | C60: =Önkormányzat!C60+VÜMESZ!C60+Hivatal!C60+'Művelődési ház'!C60+Bölcsőde!C60+Óvoda!C60 -> 2535505411 | D60: =G60+J60+M60+P60+S60+V60 -> 2386553467 | E60: =H60+K60+N60+Q60+T60+W60 -> 2459979712 | F60: =I60+L60+O60+R60+U60+X60 -> 1480123915 | G60: =Önkormányzat!D60 -> 2309293467 | H60: =Önkormányzat!E60 -> 2373898031 | I60: =Önkormányzat!F60 -> 1433413494 | J60: =VÜMESZ!D60 -> 61960000 | K60: =VÜMESZ!E60 -> 61960000 | L60: =VÜMESZ!F60 -> 30647247 | M60: =Hivatal!D60 -> 6800000 | N60: =Hivatal!E60 -> 15552988 | O60: =Hivatal!F60 -> 11604875 | P60: ='Művelődési ház'!D60 -> 8500000 | Q60: ='Művelődési ház'!E60 -> 8535189 | R60: ='Művelődési ház'!F60 -> 4386405 | S60: =Bölcsőde!D60 -> 0 | T60: =Bölcsőde!E60 -> 12969 | U60: =Bölcsőde!F60 -> 25549 | V60: =Óvoda!D60 -> 0 | W60: =Óvoda!E60 -> 20535 | X60: =Óvoda!F60 -> 46345
A61: B8131 | B61: Előző év költségvetési maradványának igénybevétele | C61: =Önkormányzat!C61+VÜMESZ!C61+Hivatal!C61+'Művelődési ház'!C61+Bölcsőde!C61+Óvoda!C61 -> 810230970 | D61: =G61+J61+M61+P61+S61+V61 -> 614500000 | E61: =H61+K61+N61+Q61+T61+W61 -> 632689613 | F61: =I61+L61+O61+R61+U61+X61 -> 632689613 | G61: =Önkormányzat!D61 -> 600000000 | H61: =Önkormányzat!E61 -> 615999794 | I61: =Önkormányzat!F61 -> 615999794 | J61: =VÜMESZ!D61 -> 7500000 | K61: =VÜMESZ!E61 -> 8055597 | L61: =VÜMESZ!F61 -> 8055597 | M61: =Hivatal!D61 -> 2000000 | N61: =Hivatal!E61 -> 2588384 | O61: =Hivatal!F61 -> 2588384 | P61: ='Művelődési ház'!D61 -> 1500000 | Q61: ='Művelődési ház'!E61 -> 1816415 | R61: ='Művelődési ház'!F61 -> 1816415 | S61: =Bölcsőde!D61 -> 1500000 | T61: =Bölcsőde!E61 -> 1974014 | U61: =Bölcsőde!F61 -> 1974014 | V61: =Óvoda!D61 -> 2000000 | W61: =Óvoda!E61 -> 2255409 | X61: =Óvoda!F61 -> 2255409
A62: B813 | B62: Maradvány igénybevétele | C62: =Önkormányzat!C62+VÜMESZ!C62+Hivatal!C62+'Művelődési ház'!C62+Bölcsőde!C62+Óvoda!C62 -> 810230970 | D62: =G62+J62+M62+P62+S62+V62 -> 614500000 | E62: =H62+K62+N62+Q62+T62+W62 -> 632689613 | F62: =I62+L62+O62+R62+U62+X62 -> 632689613 | G62: =Önkormányzat!D62 -> 600000000 | H62: =Önkormányzat!E62 -> 615999794 | I62: =Önkormányzat!F62 -> 615999794 | J62: =VÜMESZ!D62 -> 7500000 | K62: =VÜMESZ!E62 -> 8055597 | L62: =VÜMESZ!F62 -> 8055597 | M62: =Hivatal!D62 -> 2000000 | N62: =Hivatal!E62 -> 2588384 | O62: =Hivatal!F62 -> 2588384 | P62: ='Művelődési ház'!D62 -> 1500000 | Q62: ='Művelődési ház'!E62 -> 1816415 | R62: ='Művelődési ház'!F62 -> 1816415 | S62: =Bölcsőde!D62 -> 1500000 | T62: =Bölcsőde!E62 -> 1974014 | U62: =Bölcsőde!F62 -> 1974014 | V62: =Óvoda!D62 -> 2000000 | W62: =Óvoda!E62 -> 2255409 | X62: =Óvoda!F62 -> 2255409
A63: B814 | B63: Államháztartáson belüli megelőlegezések | C63: =Önkormányzat!C63+VÜMESZ!C63+Hivatal!C63+'Művelődési ház'!C63+Bölcsőde!C63+Óvoda!C63 -> 309578103 | D63: =G63+J63+M63+P63+S63+V63 -> 0 | E63: =H63+K63+N63+Q63+T63+W63 -> 0 | F63: =I63+L63+O63+R63+U63+X63 -> 0 | G63: =Önkormányzat!D63 -> 0 | H63: =Önkormányzat!E63 -> 0 | I63: =Önkormányzat!F63 -> 0 | J63: =VÜMESZ!D63 -> 0 | K63: =VÜMESZ!E63 -> 0 | L63: =VÜMESZ!F63 -> 0 | M63: =Hivatal!D63 -> 0 | N63: =Hivatal!E63 -> 0 | O63: =Hivatal!F63 -> 0 | P63: ='Művelődési ház'!D63 -> 0 | Q63: ='Művelődési ház'!E63 -> 0 | R63: ='Művelődési ház'!F63 -> 0 | S63: =Bölcsőde!D63 -> 0 | T63: =Bölcsőde!E63 -> 0 | U63: =Bölcsőde!F63 -> 0 | V63: =Óvoda!D63 -> 0 | W63: =Óvoda!E63 -> 0 | X63: =Óvoda!F63 -> 0
A64: B816 | B64: Központi, irányító szervi támogatás | C64: =Önkormányzat!C64+VÜMESZ!C64+Hivatal!C64+'Művelődési ház'!C64+Bölcsőde!C64+Óvoda!C64 -> 1240449606 | D64: =G64+J64+M64+P64+S64+V64 -> 1467765000 | E64: =H64+K64+N64+Q64+T64+W64 -> 1503127796 | F64: =I64+L64+O64+R64+U64+X64 -> 641084614 | G64: =Önkormányzat!D64 -> 0 | H64: =Önkormányzat!E64 -> 0 | I64: =Önkormányzat!F64 -> 0 | J64: =VÜMESZ!D64 -> 462540000 | K64: =VÜMESZ!E64 -> 465384197 | L64: =VÜMESZ!F64 -> 214047115 | M64: =Hivatal!D64 -> 304100000 | N64: =Hivatal!E64 -> 310180000 | O64: =Hivatal!F64 -> 101193798 | P64: ='Művelődési ház'!D64 -> 125999000 | Q64: ='Művelődési ház'!E64 -> 129758211 | R64: ='Művelődési ház'!F64 -> 49106187 | S64: =Bölcsőde!D64 -> 113690000 | T64: =Bölcsőde!E64 -> 120249243 | U64: =Bölcsőde!F64 -> 58721839 | V64: =Óvoda!D64 -> 461436000 | W64: =Óvoda!E64 -> 477556145 | X64: =Óvoda!F64 -> 218015675
A65: B81 | B65: Belföldi finanszírozás bevételei | C65: =Önkormányzat!C65+VÜMESZ!C65+Hivatal!C65+'Művelődési ház'!C65+Bölcsőde!C65+Óvoda!C65 -> 2354319636 | D65: =G65+J65+M65+P65+S65+V65 -> 1469265000 | E65: =H65+K65+N65+Q65+T65+W65 -> 1515255217 | F65: =I65+L65+O65+R65+U65+X65 -> 650956626 | G65: =Önkormányzat!D65 -> 0 | H65: =Önkormányzat!E65 -> 0 | I65: =Önkormányzat!F65 -> 0 | J65: =VÜMESZ!D65 -> 462540000 | K65: =VÜMESZ!E65 -> 473439794 | L65: =VÜMESZ!F65 -> 222102712 | M65: =Hivatal!D65 -> 304100000 | N65: =Hivatal!E65 -> 310180000 | O65: =Hivatal!F65 -> 101193798 | P65: ='Művelődési ház'!D65 -> 127499000 | Q65: ='Művelődési ház'!E65 -> 131574626 | R65: ='Művelődési ház'!F65 -> 50922602 | S65: =Bölcsőde!D65 -> 113690000 | T65: =Bölcsőde!E65 -> 120249243 | U65: =Bölcsőde!F65 -> 58721839 | V65: =Óvoda!D65 -> 461436000 | W65: =Óvoda!E65 -> 479811554 | X65: =Óvoda!F65 -> 218015675
B66: Finanszírozási bevételek | C66: =Önkormányzat!C66+VÜMESZ!C66+Hivatal!C66+'Művelődési ház'!C66+Bölcsőde!C66+Óvoda!C66 -> 2360258679 | D66: =G66+J66+M66+P66+S66+V66 -> 2083765000 | E66: =H66+K66+N66+Q66+T66+W66 -> 2139889233 | F66: =I66+L66+O66+R66+U66+X66 -> 1273774227 | G66: =Önkormányzat!D66 -> 600000000 | H66: =Önkormányzat!E66 -> 615999794 | I66: =Önkormányzat!F66 -> 615999794 | J66: =VÜMESZ!D66 -> 470040000 | K66: =VÜMESZ!E66 -> 473439794 | L66: =VÜMESZ!F66 -> 222102712 | M66: =Hivatal!D66 -> 306100000 | N66: =Hivatal!E66 -> 312768384 | O66: =Hivatal!F66 -> 103782182 | P66: ='Művelődési ház'!D66 -> 128999000 | Q66: ='Művelődési ház'!E66 -> 133391041 | R66: ='Művelődési ház'!F66 -> 50922602 | S66: =Bölcsőde!D66 -> 115190000 | T66: =Bölcsőde!E66 -> 122223257 | U66: =Bölcsőde!F66 -> 60695853 | V66: =Óvoda!D66 -> 463436000 | W66: =Óvoda!E66 -> 482066963 | X66: =Óvoda!F66 -> 220271084
B67: Bevételek mindösszesen | C67: =Önkormányzat!C67+VÜMESZ!C67+Hivatal!C67+'Művelődési ház'!C67+Bölcsőde!C67+Óvoda!C67 -> 4895764090 | D67: =G67+J67+M67+P67+S67+V67 -> 4470318467 | E67: =H67+K67+N67+Q67+T67+W67 -> 4599868945 | F67: =I67+L67+O67+R67+U67+X67 -> 2753898142 | G67: =Önkormányzat!D67 -> 2909293467 | H67: =Önkormányzat!E67 -> 2989897825 | I67: =Önkormányzat!F67 -> 2049413288 | J67: =VÜMESZ!D67 -> 532000000 | K67: =VÜMESZ!E67 -> 535399794 | L67: =VÜMESZ!F67 -> 252749959 | M67: =Hivatal!D67 -> 312900000 | N67: =Hivatal!E67 -> 328321372 | O67: =Hivatal!F67 -> 115387057 | P67: ='Művelődési ház'!D67 -> 137499000 | Q67: ='Művelődési ház'!E67 -> 141926230 | R67: ='Művelődési ház'!F67 -> 55309007 | S67: =Bölcsőde!D67 -> 115190000 | T67: =Bölcsőde!E67 -> 122236226 | U67: =Bölcsőde!F67 -> 60721402 | V67: =Óvoda!D67 -> 463436000 | W67: =Óvoda!E67 -> 482087498 | X67: =Óvoda!F67 -> 220317429
A69: Rovat | B69: Kiadások mindösszesen | C69: 2025. évi teljesítés | D69: 2026. évi terv | E69: 2026. évi módosított előirányzat | F69: 2026. évi teljesítés | G69: Önkormányzat | H69: 2026. évi módosított előirányzat | I69: 2026. évi teljesítés | J69: VÜMESZ | K69: 2026. évi módosított előirányzat | L69: 2026. évi teljesítés | M69: Hivatal | N69: 2026. évi módosított előirányzat | O69: 2026. évi teljesítés | P69: Művelődési Ház | Q69: 2026. évi módosított előirányzat | R69: 2026. évi teljesítés | S69: Bölcsőde | T69: 2026. évi módosított előirányzat | U69: 2026. évi teljesítés | V69: Óvoda | W69: 2026. évi módosított előirányzat | X69: 2026. évi teljesítés
A70: K1 | B70: Személyi juttatások | C70: =Önkormányzat!C70+VÜMESZ!C70+Hivatal!C70+'Művelődési ház'!C70+Bölcsőde!C70+Óvoda!C70 -> 968213117 | D70: =G70+J70+M70+P70+S70+V70 -> 1153804000 | E70: =H70+K70+N70+Q70+T70+W70 -> 1192637639 | F70: =I70+L70+O70+R70+U70+X70 -> 535590939 | G70: =Önkormányzat!D70 -> 131920000 | H70: =Önkormányzat!E70 -> 136182910 | I70: =Önkormányzat!F70 -> 64825053 | J70: =VÜMESZ!D70 -> 222300000 | K70: =VÜMESZ!E70 -> 224545890 | L70: =VÜMESZ!F70 -> 98887541 | M70: =Hivatal!D70 -> 258000000 | N70: =Hivatal!E70 -> 269403205 | O70: =Hivatal!F70 -> 115107512 | P70: ='Művelődési ház'!D70 -> 75550000 | Q70: ='Művelődési ház'!E70 -> 78550000 | R70: ='Művelődési ház'!F70 -> 33547862 | S70: =Bölcsőde!D70 -> 94380000 | T70: =Bölcsőde!E70 -> 99352400 | U70: =Bölcsőde!F70 -> 47776522 | V70: =Óvoda!D70 -> 371654000 | W70: =Óvoda!E70 -> 384603234 | X70: =Óvoda!F70 -> 175446449
A71: K2 | B71: Munkaadókat terhelő járulékok | C71: =Önkormányzat!C71+VÜMESZ!C71+Hivatal!C71+'Művelődési ház'!C71+Bölcsőde!C71+Óvoda!C71 -> 136763725 | D71: =G71+J71+M71+P71+S71+V71 -> 164014000 | E71: =H71+K71+N71+Q71+T71+W71 -> 174482577 | F71: =I71+L71+O71+R71+U71+X71 -> 73293457 | G71: =Önkormányzat!D71 -> 21580000 | H71: =Önkormányzat!E71 -> 22584628 | I71: =Önkormányzat!F71 -> 7897104 | J71: =VÜMESZ!D71 -> 32024000 | K71: =VÜMESZ!E71 -> 32652850 | L71: =VÜMESZ!F71 -> 13688275 | M71: =Hivatal!D71 -> 34900000 | N71: =Hivatal!E71 -> 38283841 | O71: =Hivatal!F71 -> 15171751 | P71: ='Művelődési ház'!D71 -> 10510000 | Q71: ='Művelődési ház'!E71 -> 11350000 | R71: ='Művelődési ház'!F71 -> 4725482 | S71: =Bölcsőde!D71 -> 12600000 | T71: =Bölcsőde!E71 -> 14019812 | U71: =Bölcsőde!F71 -> 7050775 | V71: =Óvoda!D71 -> 52400000 | W71: =Óvoda!E71 -> 55591446 | X71: =Óvoda!F71 -> 24760070
A72: K3 | B72: Dologi kiadások | C72: =Önkormányzat!C72+VÜMESZ!C72+Hivatal!C72+'Művelődési ház'!C72+Bölcsőde!C72+Óvoda!C72 -> 675952794 | D72: =G72+J72+M72+P72+S72+V72 -> 724859000 | E72: =H72+K72+N72+Q72+T72+W72 -> 733554005 | F72: =I72+L72+O72+R72+U72+X72 -> 325875641 | G72: =Önkormányzat!D72 -> 346000000 | H72: =Önkormányzat!E72 -> 351500000 | I72: =Önkormányzat!F72 -> 150574613 | J72: =VÜMESZ!D72 -> 274509000 | K72: =VÜMESZ!E72 -> 275064597 | L72: =VÜMESZ!F72 -> 138339624 | M72: =Hivatal!D72 -> 20000000 | N72: =Hivatal!E72 -> 21593570 | O72: =Hivatal!F72 -> 7820724 | P72: ='Művelődési ház'!D72 -> 40000000 | Q72: ='Művelődési ház'!E72 -> 40316415 | R72: ='Művelődési ház'!F72 -> 10720961 | S72: =Bölcsőde!D72 -> 7000000 | T72: =Bölcsőde!E72 -> 7474014 | U72: =Bölcsőde!F72 -> 2847975 | V72: =Óvoda!D72 -> 37350000 | W72: =Óvoda!E72 -> 37605409 | X72: =Óvoda!F72 -> 15571744
A73: K4 | B73: Ellátottak személyi juttatásai | C73: =Önkormányzat!C73+VÜMESZ!C73+Hivatal!C73+'Művelődési ház'!C73+Bölcsőde!C73+Óvoda!C73 -> 5031961 | D73: =G73+J73+M73+P73+S73+V73 -> 6000000 | E73: =H73+K73+N73+Q73+T73+W73 -> 6000000 | F73: =I73+L73+O73+R73+U73+X73 -> 783842 | G73: =Önkormányzat!D73 -> 6000000 | H73: =Önkormányzat!E73 -> 6000000 | I73: =Önkormányzat!F73 -> 783842 | J73: =VÜMESZ!D73 -> 0 | K73: =VÜMESZ!E73 -> 0 | L73: =VÜMESZ!F73 -> 0 | M73: =Hivatal!D73 -> 0 | N73: =Hivatal!E73 -> 0 | O73: =Hivatal!F73 -> 0 | P73: ='Művelődési ház'!D73 -> 0 | Q73: ='Művelődési ház'!E73 -> 0 | R73: ='Művelődési ház'!F73 -> 0 | S73: =Bölcsőde!D73 -> 0 | T73: =Bölcsőde!E73 -> 0 | U73: =Bölcsőde!F73 -> 0 | V73: =Óvoda!D73 -> 0 | W73: =Óvoda!E73 -> 0 | X73: =Óvoda!F73 -> 0
A74: K5021 | B74: A helyi önkormányzatok előző évi elszámolásából származó kiadások | C74: =Önkormányzat!C74+VÜMESZ!C74+Hivatal!C74+'Művelődési ház'!C74+Bölcsőde!C74+Óvoda!C74 -> 0 | D74: =G74+J74+M74+P74+S74+V74 -> 0 | E74: =H74+K74+N74+Q74+T74+W74 -> 0 | F74: =I74+L74+O74+R74+U74+X74 -> 0 | G74: =Önkormányzat!D74 -> 0 | H74: =Önkormányzat!E74 -> 0 | I74: =Önkormányzat!F74 -> 0 | J74: =VÜMESZ!D74 -> 0 | K74: =VÜMESZ!E74 -> 0 | L74: =VÜMESZ!F74 -> 0 | M74: =Hivatal!D74 -> 0 | N74: =Hivatal!E74 -> 0 | O74: =Hivatal!F74 -> 0 | P74: ='Művelődési ház'!D74 -> 0 | Q74: ='Művelődési ház'!E74 -> 0 | R74: ='Művelődési ház'!F74 -> 0 | S74: =Bölcsőde!D74 -> 0 | T74: =Bölcsőde!E74 -> 0 | U74: =Bölcsőde!F74 -> 0 | V74: =Óvoda!D74 -> 0 | W74: =Óvoda!E74 -> 0 | X74: =Óvoda!F74 -> 0
A75: K5022 | B75: A helyi önkormányzatok törvényi előíráson alapuló befizetései | C75: =Önkormányzat!C75+VÜMESZ!C75+Hivatal!C75+'Művelődési ház'!C75+Bölcsőde!C75+Óvoda!C75 -> 518576871 | D75: =G75+J75+M75+P75+S75+V75 -> 390806954 | E75: =H75+K75+N75+Q75+T75+W75 -> 390806954 | F75: =I75+L75+O75+R75+U75+X75 -> 195403477 | G75: =Önkormányzat!D75 -> 390806954 | H75: =Önkormányzat!E75 -> 390806954 | I75: =Önkormányzat!F75 -> 195403477 | J75: =VÜMESZ!D75 -> 0 | K75: =VÜMESZ!E75 -> 0 | L75: =VÜMESZ!F75 -> 0 | M75: =Hivatal!D75 -> 0 | N75: =Hivatal!E75 -> 0 | O75: =Hivatal!F75 -> 0 | P75: ='Művelődési ház'!D75 -> 0 | Q75: ='Művelődési ház'!E75 -> 0 | R75: ='Művelődési ház'!F75 -> 0 | S75: =Bölcsőde!D75 -> 0 | T75: =Bölcsőde!E75 -> 0 | U75: =Bölcsőde!F75 -> 0 | V75: =Óvoda!D75 -> 0 | W75: =Óvoda!E75 -> 0 | X75: =Óvoda!F75 -> 0
A76: K502 | B76: Elvonások és befizetések | C76: =Önkormányzat!C76+VÜMESZ!C76+Hivatal!C76+'Művelődési ház'!C76+Bölcsőde!C76+Óvoda!C76 -> 518576871 | D76: =G76+J76+M76+P76+S76+V76 -> 390806954 | E76: =H76+K76+N76+Q76+T76+W76 -> 390806954 | F76: =I76+L76+O76+R76+U76+X76 -> 195403477 | G76: =Önkormányzat!D76 -> 390806954 | H76: =Önkormányzat!E76 -> 390806954 | I76: =Önkormányzat!F76 -> 195403477 | J76: =VÜMESZ!D76 -> 0 | K76: =VÜMESZ!E76 -> 0 | L76: =VÜMESZ!F76 -> 0 | M76: =Hivatal!D76 -> 0 | N76: =Hivatal!E76 -> 0 | O76: =Hivatal!F76 -> 0 | P76: ='Művelődési ház'!D76 -> 0 | Q76: ='Művelődési ház'!E76 -> 0 | R76: ='Művelődési ház'!F76 -> 0 | S76: =Bölcsőde!D76 -> 0 | T76: =Bölcsőde!E76 -> 0 | U76: =Bölcsőde!F76 -> 0 | V76: =Óvoda!D76 -> 0 | W76: =Óvoda!E76 -> 0 | X76: =Óvoda!F76 -> 0
A77: K506 | B77: Egyéb működési célú támogatáok államháztartáson belülre | C77: =Önkormányzat!C77+VÜMESZ!C77+Hivatal!C77+'Művelődési ház'!C77+Bölcsőde!C77+Óvoda!C77 -> 72026673 | D77: =G77+J77+M77+P77+S77+V77 -> 74969000 | E77: =H77+K77+N77+Q77+T77+W77 -> 82969000 | F77: =I77+L77+O77+R77+U77+X77 -> 61916385 | G77: =Önkormányzat!D77 -> 74969000 | H77: =Önkormányzat!E77 -> 82969000 | I77: =Önkormányzat!F77 -> 61916385 | J77: =VÜMESZ!D77 -> 0 | K77: =VÜMESZ!E77 -> 0 | L77: =VÜMESZ!F77 -> 0 | M77: =Hivatal!D77 -> 0 | N77: =Hivatal!E77 -> 0 | O77: =Hivatal!F77 -> 0 | P77: ='Művelődési ház'!D77 -> 0 | Q77: ='Művelődési ház'!E77 -> 0 | R77: ='Művelődési ház'!F77 -> 0 | S77: =Bölcsőde!D77 -> 0 | T77: =Bölcsőde!E77 -> 0 | U77: =Bölcsőde!F77 -> 0 | V77: =Óvoda!D77 -> 0 | W77: =Óvoda!E77 -> 0 | X77: =Óvoda!F77 -> 0
A78: K512 | B78: Egyéb működési célú támogatások államháztartáson kívülre | C78: =Önkormányzat!C78+VÜMESZ!C78+Hivatal!C78+'Művelődési ház'!C78+Bölcsőde!C78+Óvoda!C78 -> 37268710 | D78: =G78+J78+M78+P78+S78+V78 -> 38049000 | E78: =H78+K78+N78+Q78+T78+W78 -> 38049000 | F78: =I78+L78+O78+R78+U78+X78 -> 24392496 | G78: =Önkormányzat!D78 -> 38049000 | H78: =Önkormányzat!E78 -> 38049000 | I78: =Önkormányzat!F78 -> 24392496 | J78: =VÜMESZ!D78 -> 0 | K78: =VÜMESZ!E78 -> 0 | L78: =VÜMESZ!F78 -> 0 | M78: =Hivatal!D78 -> 0 | N78: =Hivatal!E78 -> 0 | O78: =Hivatal!F78 -> 0 | P78: ='Művelődési ház'!D78 -> 0 | Q78: ='Művelődési ház'!E78 -> 0 | R78: ='Művelődési ház'!F78 -> 0 | S78: =Bölcsőde!D78 -> 0 | T78: =Bölcsőde!E78 -> 0 | U78: =Bölcsőde!F78 -> 0 | V78: =Óvoda!D78 -> 0 | W78: =Óvoda!E78 -> 0 | X78: =Óvoda!F78 -> 0
B79: Általános tartalék | C79: =Önkormányzat!C79+VÜMESZ!C79+Hivatal!C79+'Művelődési ház'!C79+Bölcsőde!C79+Óvoda!C79 -> 0 | D79: =G79+J79+M79+P79+S79+V79 -> 63215675 | E79: =H79+K79+N79+Q79+T79+W79 -> 90823698 | F79: =I79+L79+O79+R79+U79+X79 -> 0 | G79: =Önkormányzat!D79 -> 63215675 | H79: =Önkormányzat!E79 -> 90823698 | I79: =Önkormányzat!F79 -> 0 | J79: =VÜMESZ!D79 -> 0 | K79: =VÜMESZ!E79 -> 0 | L79: =VÜMESZ!F79 -> 0 | M79: =Hivatal!D79 -> 0 | N79: =Hivatal!E79 -> 0 | O79: =Hivatal!F79 -> 0 | P79: ='Művelődési ház'!D79 -> 0 | Q79: ='Művelődési ház'!E79 -> 0 | R79: ='Művelődési ház'!F79 -> 0 | S79: =Bölcsőde!D79 -> 0 | T79: =Bölcsőde!E79 -> 0 | U79: =Bölcsőde!F79 -> 0 | V79: =Óvoda!D79 -> 0 | W79: =Óvoda!E79 -> 0 | X79: =Óvoda!F79 -> 0
B80: Céltartalék | C80: =Önkormányzat!C80+VÜMESZ!C80+Hivatal!C80+'Művelődési ház'!C80+Bölcsőde!C80+Óvoda!C80 -> 0 | D80: =G80+J80+M80+P80+S80+V80 -> 80000000 | E80: =H80+K80+N80+Q80+T80+W80 -> 80000000 | F80: =I80+L80+O80+R80+U80+X80 -> 0 | G80: =Önkormányzat!D80 -> 80000000 | H80: =Önkormányzat!E80 -> 80000000 | I80: =Önkormányzat!F80 -> 0 | J80: =VÜMESZ!D80 -> 0 | K80: =VÜMESZ!E80 -> 0 | L80: =VÜMESZ!F80 -> 0 | M80: =Hivatal!D80 -> 0 | N80: =Hivatal!E80 -> 0 | O80: =Hivatal!F80 -> 0 | P80: ='Művelődési ház'!D80 -> 0 | Q80: ='Művelődési ház'!E80 -> 0 | R80: ='Művelődési ház'!F80 -> 0 | S80: =Bölcsőde!D80 -> 0 | T80: =Bölcsőde!E80 -> 0 | U80: =Bölcsőde!F80 -> 0 | V80: =Óvoda!D80 -> 0 | W80: =Óvoda!E80 -> 0 | X80: =Óvoda!F80 -> 0
A81: K513 | B81: Tartalékok | C81: =Önkormányzat!C81+VÜMESZ!C81+Hivatal!C81+'Művelődési ház'!C81+Bölcsőde!C81+Óvoda!C81 -> 0 | D81: =G81+J81+M81+P81+S81+V81 -> 143215675 | E81: =H81+K81+N81+Q81+T81+W81 -> 170823698 | F81: =I81+L81+O81+R81+U81+X81 -> 0 | G81: =Önkormányzat!D81 -> 143215675 | H81: =Önkormányzat!E81 -> 170823698 | I81: =Önkormányzat!F81 -> 0 | J81: =VÜMESZ!D81 -> 0 | K81: =VÜMESZ!E81 -> 0 | L81: =VÜMESZ!F81 -> 0 | M81: =Hivatal!D81 -> 0 | N81: =Hivatal!E81 -> 0 | O81: =Hivatal!F81 -> 0 | P81: ='Művelődési ház'!D81 -> 0 | Q81: ='Művelődési ház'!E81 -> 0 | R81: ='Művelődési ház'!F81 -> 0 | S81: =Bölcsőde!D81 -> 0 | T81: =Bölcsőde!E81 -> 0 | U81: =Bölcsőde!F81 -> 0 | V81: =Óvoda!D81 -> 0 | W81: =Óvoda!E81 -> 0 | X81: =Óvoda!F81 -> 0
A82: K5 | B82: Egyéb működési célú kiadások | C82: =Önkormányzat!C82+VÜMESZ!C82+Hivatal!C82+'Művelődési ház'!C82+Bölcsőde!C82+Óvoda!C82 -> 627872254 | D82: =G82+J82+M82+P82+S82+V82 -> 647040629 | E82: =H82+K82+N82+Q82+T82+W82 -> 682648652 | F82: =I82+L82+O82+R82+U82+X82 -> 281712358 | G82: =Önkormányzat!D82 -> 647040629 | H82: =Önkormányzat!E82 -> 682648652 | I82: =Önkormányzat!F82 -> 281712358 | J82: =VÜMESZ!D82 -> 0 | K82: =VÜMESZ!E82 -> 0 | L82: =VÜMESZ!F82 -> 0 | M82: =Hivatal!D82 -> 0 | N82: =Hivatal!E82 -> 0 | O82: =Hivatal!F82 -> 0 | P82: ='Művelődési ház'!D82 -> 0 | Q82: ='Művelődési ház'!E82 -> 0 | R82: ='Művelődési ház'!F82 -> 0 | S82: =Bölcsőde!D82 -> 0 | T82: =Bölcsőde!E82 -> 0 | U82: =Bölcsőde!F82 -> 0 | V82: =Óvoda!D82 -> 0 | W82: =Óvoda!E82 -> 0 | X82: =Óvoda!F82 -> 0
A83: K6 | B83: Beruházások | C83: =Önkormányzat!C83+VÜMESZ!C83+Hivatal!C83+'Művelődési ház'!C83+Bölcsőde!C83+Óvoda!C83 -> 182149951 | D83: =G83+J83+M83+P83+S83+V83 -> 172348000 | E83: =H83+K83+N83+Q83+T83+W83 -> 176029402 | F83: =I83+L83+O83+R83+U83+X83 -> 35033907 | G83: =Önkormányzat!D83 -> 156000000 | H83: =Önkormányzat!E83 -> 159681402 | I83: =Önkormányzat!F83 -> 30809245 | J83: =VÜMESZ!D83 -> 3167000 | K83: =VÜMESZ!E83 -> 3167000 | L83: =VÜMESZ!F83 -> 493770 | M83: =Hivatal!D83 -> 0 | N83: =Hivatal!E83 -> 0 | O83: =Hivatal!F83 -> 0 | P83: ='Művelődési ház'!D83 -> 9939000 | Q83: ='Művelődési ház'!E83 -> 9939000 | R83: ='Művelődési ház'!F83 -> 2605726 | S83: =Bölcsőde!D83 -> 1210000 | T83: =Bölcsőde!E83 -> 1210000 | U83: =Bölcsőde!F83 -> 358140 | V83: =Óvoda!D83 -> 2032000 | W83: =Óvoda!E83 -> 2032000 | X83: =Óvoda!F83 -> 767026
B84: ebből EU-s forrásból megvalósuló beruházás | C84: =Önkormányzat!C84+VÜMESZ!C84+Hivatal!C84+'Művelődési ház'!C84+Bölcsőde!C84+Óvoda!C84 -> 0 | D84: =G84+J84+M84+P84+S84+V84 -> 0 | E84: =H84+K84+N84+Q84+T84+W84 -> 0 | F84: =I84+L84+O84+R84+U84+X84 -> 0 | P84: ='Művelődési ház'!D84 -> 0 | Q84: ='Művelődési ház'!E84 -> 0 | R84: ='Művelődési ház'!F84 -> 0 | V84: =Óvoda!D84 -> 0 | W84: =Óvoda!E84 -> 0 | X84: =Óvoda!F84 -> 0
A85: K7 | B85: Felújítások | C85: =Önkormányzat!C85+VÜMESZ!C85+Hivatal!C85+'Művelődési ház'!C85+Bölcsőde!C85+Óvoda!C85 -> 123774557 | D85: =G85+J85+M85+P85+S85+V85 -> 93250000 | E85: =H85+K85+N85+Q85+T85+W85 -> 92250000 | F85: =I85+L85+O85+R85+U85+X85 -> 1650120 | G85: =Önkormányzat!D85 -> 93250000 | H85: =Önkormányzat!E85 -> 92250000 | I85: =Önkormányzat!F85 -> 1650120 | J85: =VÜMESZ!D85 -> 0 | K85: =VÜMESZ!E85 -> 0 | L85: =VÜMESZ!F85 -> 0 | M85: =Hivatal!D85 -> 0 | N85: =Hivatal!E85 -> 0 | O85: =Hivatal!F85 -> 0 | P85: ='Művelődési ház'!D85 -> 0 | Q85: ='Művelődési ház'!E85 -> 0 | R85: ='Művelődési ház'!F85 -> 0 | S85: =Bölcsőde!D85 -> 0 | T85: =Bölcsőde!E85 -> 0 | U85: =Bölcsőde!F85 -> 0 | V85: =Óvoda!D85 -> 0 | W85: =Óvoda!E85 -> 0 | X85: =Óvoda!F85 -> 0
B86: ebből EU-s forrásból megvalósuló felújítás | C86: =Önkormányzat!C86+VÜMESZ!C86+Hivatal!C86+'Művelődési ház'!C86+Bölcsőde!C86+Óvoda!C86 -> 0 | D86: =G86+J86+M86+P86+S86+V86 -> 0 | E86: =H86+K86+N86+Q86+T86+W86 -> 0 | F86: =I86+L86+O86+R86+U86+X86 -> 0 | V86: =Óvoda!D86 -> 0 | W86: =Óvoda!E86 -> 0 | X86: =Óvoda!F86 -> 0
A87: K82 | B87: Felhalmozási célú visszatérítendő támgoatások, kölcsönök nyújtása államháztartáson belül | C87: =Önkormányzat!C87+VÜMESZ!C87+Hivatal!C87+'Művelődési ház'!C87+Bölcsőde!C87+Óvoda!C87 -> 0 | D87: =G87+J87+M87+P87+S87+V87 -> 0 | E87: =H87+K87+N87+Q87+T87+W87 -> 0 | F87: =I87+L87+O87+R87+U87+X87 -> 0 | G87: =Önkormányzat!D87 -> 0 | H87: =Önkormányzat!E87 -> 0 | I87: =Önkormányzat!F87 -> 0 | J87: =VÜMESZ!D87 -> 0 | K87: =VÜMESZ!E87 -> 0 | L87: =VÜMESZ!F87 -> 0 | M87: =Hivatal!D87 -> 0 | N87: =Hivatal!E87 -> 0 | O87: =Hivatal!F87 -> 0 | P87: ='Művelődési ház'!D87 -> 0 | Q87: ='Művelődési ház'!E87 -> 0 | R87: ='Művelődési ház'!F87 -> 0 | S87: =Bölcsőde!D87 -> 0 | T87: =Bölcsőde!E87 -> 0 | U87: =Bölcsőde!F87 -> 0 | V87: =Óvoda!D87 -> 0 | W87: =Óvoda!E87 -> 0 | X87: =Óvoda!F87 -> 0
A88: K83 | B88: Felhalmozási célú visszatérítendő támogatások, kölcsönök törlesztése államháztartáson belülre | C88: =Önkormányzat!C88+VÜMESZ!C88+Hivatal!C88+'Művelődési ház'!C88+Bölcsőde!C88+Óvoda!C88 -> 0 | D88: =G88+J88+M88+P88+S88+V88 -> 0 | E88: =H88+K88+N88+Q88+T88+W88 -> 0 | F88: =I88+L88+O88+R88+U88+X88 -> 0 | G88: =Önkormányzat!D88 -> 0 | H88: =Önkormányzat!E88 -> 0 | I88: =Önkormányzat!F88 -> 0 | J88: =VÜMESZ!D88 -> 0 | K88: =VÜMESZ!E88 -> 0 | L88: =VÜMESZ!F88 -> 0 | M88: =Hivatal!D88 -> 0 | N88: =Hivatal!E88 -> 0 | O88: =Hivatal!F88 -> 0 | P88: ='Művelődési ház'!D88 -> 0 | Q88: ='Művelődési ház'!E88 -> 0 | R88: ='Művelődési ház'!F88 -> 0 | S88: =Bölcsőde!D88 -> 0 | T88: =Bölcsőde!E88 -> 0 | U88: =Bölcsőde!F88 -> 0 | V88: =Óvoda!D88 -> 0 | W88: =Óvoda!E88 -> 0 | X88: =Óvoda!F88 -> 0
A89: K86 | B89: Felhalmozási célú visszatérítendő támgoatások, kölcsönök nyújtása államháztartáson kívül | C89: =Önkormányzat!C89+VÜMESZ!C89+Hivatal!C89+'Művelődési ház'!C89+Bölcsőde!C89+Óvoda!C89 -> 0 | D89: =G89+J89+M89+P89+S89+V89 -> 0 | E89: =H89+K89+N89+Q89+T89+W89 -> 0 | F89: =I89+L89+O89+R89+U89+X89 -> 0 | G89: =Önkormányzat!D89 -> 0 | H89: =Önkormányzat!E89 -> 0 | I89: =Önkormányzat!F89 -> 0 | J89: =VÜMESZ!D89 -> 0 | K89: =VÜMESZ!E89 -> 0 | L89: =VÜMESZ!F89 -> 0 | M89: =Hivatal!D89 -> 0 | N89: =Hivatal!E89 -> 0 | O89: =Hivatal!F89 -> 0 | P89: ='Művelődési ház'!D89 -> 0 | Q89: ='Művelődési ház'!E89 -> 0 | R89: ='Művelődési ház'!F89 -> 0 | S89: =Bölcsőde!D89 -> 0 | T89: =Bölcsőde!E89 -> 0 | U89: =Bölcsőde!F89 -> 0 | V89: =Óvoda!D89 -> 0 | W89: =Óvoda!E89 -> 0 | X89: =Óvoda!F89 -> 0
A90: K89 | B90: Egyéb felhamozási célú támogatások államháztartáson kívülre | C90: =Önkormányzat!C90+VÜMESZ!C90+Hivatal!C90+'Művelődési ház'!C90+Bölcsőde!C90+Óvoda!C90 -> 5588000 | D90: =G90+J90+M90+P90+S90+V90 -> 9412000 | E90: =H90+K90+N90+Q90+T90+W90 -> 9412000 | F90: =I90+L90+O90+R90+U90+X90 -> 0 | G90: =Önkormányzat!D90 -> 9412000 | H90: =Önkormányzat!E90 -> 9412000 | I90: =Önkormányzat!F90 -> 0 | J90: =VÜMESZ!D90 -> 0 | K90: =VÜMESZ!E90 -> 0 | L90: =VÜMESZ!F90 -> 0 | M90: =Hivatal!D90 -> 0 | N90: =Hivatal!E90 -> 0 | O90: =Hivatal!F90 -> 0 | P90: ='Művelődési ház'!D90 -> 0 | Q90: ='Művelődési ház'!E90 -> 0 | R90: ='Művelődési ház'!F90 -> 0 | S90: =Bölcsőde!D90 -> 0 | T90: =Bölcsőde!E90 -> 0 | U90: =Bölcsőde!F90 -> 0 | V90: =Óvoda!D90 -> 0 | W90: =Óvoda!E90 -> 0 | X90: =Óvoda!F90 -> 0
A91: K8 | B91: Egyéb felhalmozási célő kiadások | C91: =Önkormányzat!C91+VÜMESZ!C91+Hivatal!C91+'Művelődési ház'!C91+Bölcsőde!C91+Óvoda!C91 -> 5588000 | D91: =G91+J91+M91+P91+S91+V91 -> 9412000 | E91: =H91+K91+N91+Q91+T91+W91 -> 9412000 | F91: =I91+L91+O91+R91+U91+X91 -> 0 | G91: =Önkormányzat!D91 -> 9412000 | H91: =Önkormányzat!E91 -> 9412000 | I91: =Önkormányzat!F91 -> 0 | J91: =VÜMESZ!D91 -> 0 | K91: =VÜMESZ!E91 -> 0 | L91: =VÜMESZ!F91 -> 0 | M91: =Hivatal!D91 -> 0 | N91: =Hivatal!E91 -> 0 | O91: =Hivatal!F91 -> 0 | P91: ='Művelődési ház'!D91 -> 0 | Q91: ='Művelődési ház'!E91 -> 0 | R91: ='Művelődési ház'!F91 -> 0 | S91: =Bölcsőde!D91 -> 0 | T91: =Bölcsőde!E91 -> 0 | U91: =Bölcsőde!F91 -> 0 | V91: =Óvoda!D91 -> 0 | W91: =Óvoda!E91 -> 0 | X91: =Óvoda!F91 -> 0
B92: Költségvetési kiadások | C92: =Önkormányzat!C92+VÜMESZ!C92+Hivatal!C92+'Művelődési ház'!C92+Bölcsőde!C92+Óvoda!C92 -> 2725346359 | D92: =G92+J92+M92+P92+S92+V92 -> 2970727629 | E92: =H92+K92+N92+Q92+T92+W92 -> 3067014275 | F92: =I92+L92+O92+R92+U92+X92 -> 1253940264 | G92: =Önkormányzat!D92 -> 1411202629 | H92: =Önkormányzat!E92 -> 1460259592 | I92: =Önkormányzat!F92 -> 538252335 | J92: =VÜMESZ!D92 -> 532000000 | K92: =VÜMESZ!E92 -> 535430337 | L92: =VÜMESZ!F92 -> 251409210 | M92: =Hivatal!D92 -> 312900000 | N92: =Hivatal!E92 -> 329280616 | O92: =Hivatal!F92 -> 138099987 | P92: ='Művelődési ház'!D92 -> 135999000 | Q92: ='Művelődési ház'!E92 -> 140155415 | R92: ='Művelődési ház'!F92 -> 51600031 | S92: =Bölcsőde!D92 -> 115190000 | T92: =Bölcsőde!E92 -> 122056226 | U92: =Bölcsőde!F92 -> 58033412 | V92: =Óvoda!D92 -> 463436000 | W92: =Óvoda!E92 -> 479832089 | X92: =Óvoda!F92 -> 216545289
A93: K914 | B93: Államháztartáson belüli megelőlegezések visszafizetése | C93: =Önkormányzat!C93+VÜMESZ!C93+Hivatal!C93+'Művelődési ház'!C93+Bölcsőde!C93+Óvoda!C93 -> 304665700 | D93: =G93+J93+M93+P93+S93+V93 -> 30325838 | E93: =H93+K93+N93+Q93+T93+W93 -> 30325838 | F93: =I93+L93+O93+R93+U93+X93 -> 30325838 | G93: =Önkormányzat!D93 -> 30325838 | H93: =Önkormányzat!E93 -> 30325838 | I93: =Önkormányzat!F93 -> 30325838 | J93: =VÜMESZ!D93 -> 0 | K93: =VÜMESZ!E93 -> 0 | L93: =VÜMESZ!F93 -> 0 | M93: =Hivatal!D93 -> 0 | N93: =Hivatal!E93 -> 0 | O93: =Hivatal!F93 -> 0 | P93: ='Művelődési ház'!D93 -> 0 | Q93: ='Művelődési ház'!E93 -> 0 | R93: ='Művelődési ház'!F93 -> 0 | S93: =Bölcsőde!D93 -> 0 | T93: =Bölcsőde!E93 -> 0 | U93: =Bölcsőde!F93 -> 0 | V93: =Óvoda!D93 -> 0 | W93: =Óvoda!E93 -> 0 | X93: =Óvoda!F93 -> 0
A94: K915 | B94: Központi, irányító szervi támgoatások folyosítása | C94: =Önkormányzat!C94+VÜMESZ!C94+Hivatal!C94+'Művelődési ház'!C94+Bölcsőde!C94+Óvoda!C94 -> 1240449606 | D94: =G94+J94+M94+P94+S94+V94 -> 1467765000 | E94: =H94+K94+N94+Q94+T94+W94 -> 1504087040 | F94: =I94+L94+O94+R94+U94+X94 -> 668198793 | G94: =Önkormányzat!D94 -> 1467765000 | H94: =Önkormányzat!E94 -> 1504087040 | I94: =Önkormányzat!F94 -> 668198793 | J94: =VÜMESZ!D94 -> 0 | K94: =VÜMESZ!E94 -> 0 | L94: =VÜMESZ!F94 -> 0 | M94: =Hivatal!D94 -> 0 | N94: =Hivatal!E94 -> 0 | O94: =Hivatal!F94 -> 0 | P94: ='Művelődési ház'!D94 -> 0 | Q94: ='Művelődési ház'!E94 -> 0 | R94: ='Művelődési ház'!F94 -> 0 | S94: =Bölcsőde!D94 -> 0 | T94: =Bölcsőde!E94 -> 0 | U94: =Bölcsőde!F94 -> 0 | V94: =Óvoda!D94 -> 0 | W94: =Óvoda!E94 -> 0 | X94: =Óvoda!F94 -> 0
A95: K91 | B95: Belföldi finanszírozási kiadások | C95: =Önkormányzat!C95+VÜMESZ!C95+Hivatal!C95+'Művelődési ház'!C95+Bölcsőde!C95+Óvoda!C95 -> 1545115306 | D95: =G95+J95+M95+P95+S95+V95 -> 1498090838 | E95: =H95+K95+N95+Q95+T95+W95 -> 1534412878 | F95: =I95+L95+O95+R95+U95+X95 -> 698524631 | G95: =Önkormányzat!D95 -> 1498090838 | H95: =Önkormányzat!E95 -> 1534412878 | I95: =Önkormányzat!F95 -> 698524631 | J95: =VÜMESZ!D95 -> 0 | K95: =VÜMESZ!E95 -> 0 | L95: =VÜMESZ!F95 -> 0 | M95: =Hivatal!D95 -> 0 | N95: =Hivatal!E95 -> 0 | O95: =Hivatal!F95 -> 0 | P95: ='Művelődési ház'!D95 -> 0 | Q95: ='Művelődési ház'!E95 -> 0 | R95: ='Művelődési ház'!F95 -> 0 | S95: =Bölcsőde!D95 -> 0 | T95: =Bölcsőde!E95 -> 0 | U95: =Bölcsőde!F95 -> 0 | V95: =Óvoda!D95 -> 0 | W95: =Óvoda!E95 -> 0 | X95: =Óvoda!F95 -> 0
B96: Finanszírozási kiadások | C96: =Önkormányzat!C96+VÜMESZ!C96+Hivatal!C96+'Művelődési ház'!C96+Bölcsőde!C96+Óvoda!C96 -> 1545115306 | D96: =G96+J96+M96+P96+S96+V96 -> 1498090838 | E96: =H96+K96+N96+Q96+T96+W96 -> 1534412878 | F96: =I96+L96+O96+R96+U96+X96 -> 698524631 | G96: =Önkormányzat!D96 -> 1498090838 | H96: =Önkormányzat!E96 -> 1534412878 | I96: =Önkormányzat!F96 -> 698524631 | J96: =VÜMESZ!D96 -> 0 | K96: =VÜMESZ!E96 -> 0 | L96: =VÜMESZ!F96 -> 0 | M96: =Hivatal!D96 -> 0 | N96: =Hivatal!E96 -> 0 | O96: =Hivatal!F96 -> 0 | P96: ='Művelődési ház'!D96 -> 0 | Q96: ='Művelődési ház'!E96 -> 0 | R96: ='Művelődési ház'!F96 -> 0 | S96: =Bölcsőde!D96 -> 0 | T96: =Bölcsőde!E96 -> 0 | U96: =Bölcsőde!F96 -> 0 | V96: =Óvoda!D96 -> 0 | W96: =Óvoda!E96 -> 0 | X96: =Óvoda!F96 -> 0
B97: Kiadások mindösszesen | C97: =Önkormányzat!C97+VÜMESZ!C97+Hivatal!C97+'Művelődési ház'!C97+Bölcsőde!C97+Óvoda!C97 -> 4270461665 | D97: =G97+J97+M97+P97+S97+V97 -> 4468818467 | E97: =H97+K97+N97+Q97+T97+W97 -> 4601427153 | F97: =I97+L97+O97+R97+U97+X97 -> 1952464895 | G97: =Önkormányzat!D97 -> 2909293467 | H97: =Önkormányzat!E97 -> 2994672470 | I97: =Önkormányzat!F97 -> 1236776966 | J97: =VÜMESZ!D97 -> 532000000 | K97: =VÜMESZ!E97 -> 535430337 | L97: =VÜMESZ!F97 -> 251409210 | M97: =Hivatal!D97 -> 312900000 | N97: =Hivatal!E97 -> 329280616 | O97: =Hivatal!F97 -> 138099987 | P97: ='Művelődési ház'!D97 -> 135999000 | Q97: ='Művelődési ház'!E97 -> 140155415 | R97: ='Művelődési ház'!F97 -> 51600031 | S97: =Bölcsőde!D97 -> 115190000 | T97: =Bölcsőde!E97 -> 122056226 | U97: =Bölcsőde!F97 -> 58033412 | V97: =Óvoda!D97 -> 463436000 | W97: =Óvoda!E97 -> 479832089 | X97: =Óvoda!F97 -> 216545289
C98: =C97-C67 -> -625302425 | D98: =D97-D67 -> -1500000 | E98: =E97-E67 -> 1558208 | F98: =F97-F67 -> -801433247 | G98: =G97-G67 -> 0 | H98: =H97-H67 -> 4774645 | I98: =I97-I67 -> -812636322 | J98: =J97-J67 -> 0 | ... X98: =X97-X67 -> -3772140

Sheet Önkormányzat
A1: Rovat | B1: Jánossomorja Város Önkormányzata | C1: 2025. évi teljesítés | D1: 2026. évi terv | E1: 2026. évi I. módosítás | F1: Teljesítés | G1: Teljesítés %
A2: B111 | B2: Helyi önkormányzatok működésének általános támogatása | C2: 255759558 | D2: 302029313 | E2: 302029313 | F2: 158317875 | G2: =F2/E2 -> 0.5241805
A3: B112 | B3: Települési önkormányzatok egyes köznevelési feladatainak támogatása | C3: 319495926 | D3: 335940044 | E3: 339212072 | F3: 177960859 | G3: =F3/E3 -> 0.52463009
A4: B1131 | B4: Települési önkormányzatok egyes szociális és gyermekjóléti feladatainak támogatása | C4: 78959000 | D4: 87642800 | E4: 87642800 | F4: 45574256 | G4: =F4/E4 -> 0.52
A5: B1132 | B5: Települési önkormányzatok gyermekétkeztetési feladatainak támogatása | C5: 84899997 | D5: 81100868 | E5: 81100868 | F5: 42172449 | G5: =F5/E5 -> 0.51999997
A6: B113 | B6: Települési önkormányzatok szociális gyermekjóléti és gyermekétkeztetési feladatainak támogatása | C6: 163858997 | D6: =D4+D5 -> 168743668 | E6: =E4+E5 -> 168743668 | F6: 87746705 | G6: =F6/E6 -> 0.51999999
A7: B114 | B7: Települési önkormányzatok kulturális feladatainak támogatása | C7: 24306025 | D7: 31237163 | E7: 31237163 | F7: 16243325 | G7: =F7/E7 -> 0.52000001
A8: B115 | B8: Működési célú költségvetési támogatások és kiegészítő támogatások | C8: 0
A9: B116 | B9: Elszámolásból származó bevételek | C9: 3888912 | E9: 2857316 | F9: 2857316 | G9: =F9/E9 -> 1
A10: B11 | B10: Önkormányzatok működési támogatásai | C10: =C2+C3+C6+C7+C8+C9 -> 767309418 | D10: =D2+D3+D6+D7+D8+D9 -> 837950188 | E10: =E2+E3+E6+E7+E8+E9 -> 844079532 | F10: =F2+F3+F6+F7+F8+F9 -> 443126080 | G10: =F10/E10 -> 0.52498143
A11: B12 | B11: Elvonások és befizetések bevételei | C11: 0 | E11: 12555742 | F11: 12555742
A12: B13 | B12: Működési célú garancia- és kezességvállalásból származó megtérülések államháztartáson belülről | C12: 0
A13: B14 | B13: Működési célú visszatérítendő támogatások, kölcsönök visszatérülése államháztartáson belülről | C13: 0
A14: B15 | B14: Működési célú visszatérítendő támogatások, kölcsönök igénybevétele államháztartáson belülről | C14: 0
A15: B16 | B15: Egyéb működési célú támogatások bevételei államháztartáson belülről | C15: 31461070 | D15: 15087000 | E15: 50921740 | F15: 42478939 | G15: =F15/E15 -> 0.83420046
A16: B1 | B16: Működési célú támogatások államháztartáson belülről | C16: =SUM(C10,C15) -> 798770488 | D16: =D10+D11+D12+D13+D14+D15 -> 853037188 | E16: =E10+E11+E12+E13+E14+E15 -> 907557014 | F16: =F10+F11+F12+F13+F14+F15 -> 498160761 | G16: =F16/E16 -> 0.54890299
A17: B21 | B17: Felhalmozási célú önkormányzati támogatások | C17: 0
A18: B22 | B18: Felhalmozási célú garancia- és kezességvállalásból származó megtérülések államháztartáson belülről | C18: 0
A19: B23 | B19: Felhalmozási célú visszatérítendő támogatások, kölcsönök visszatérülése államháztartáson belülről | C19: 0
A20: B24 | B20: Felhalmozási célú visszatérítendő támogatások, kölcsönök igénybevétele államháztartáson belülről | C20: 0
A21: B25 | B21: Egyéb felhalmozási célú támogatások bevételei államháztartáson belülről | C21: 0 | D21: 60412919 | E21: 60412919 | F21: 60412919 | G21: =F21/E21 -> 1
B22: EU-s támogatás | C22: 0 | D22: 0 | E22: 0
A23: B2 | B23: Felhalmozási célú támogatások államháztartáson belülről | C23: 0 | D23: =D17+D18+D19+D20+D21 -> 60412919 | E23: =E17+E18+E19+E20+E21 -> 60412919 | F23: =F17+F18+F19+F20+F21 -> 60412919
A24: B34 | B24: Vagyoni típusú adók | C24: 195172212 | D24: 185500000 | E24: 185500000 | F24: 98963266 | G24: =F24/E24 -> 0.5334947
A25: B351 | B25: Értékesítési és forgalmi adók | C25: 1298950786 | D25: 1100000000 | E25: 1100000000 | F25: 715690780 | G25: =F25/E25 -> 0.65062798
A26: B355 | B26: Egyéb áruhasználati és szolgáltatási adók | C26: 0
A27: B35 | B27: Termékek és szolgáltatások adói | C27: 1298950786 | D27: 1100000000 | E27: 1100000000 | F27: 715690780 | G27: =F27/E27 -> 0.65062798
A28: B36 | B28: Egyéb közhatalmi bevételek | C28: 2195117 | D28: 1000000 | E28: 1000000 | F28: 922893 | G28: =F28/E28 -> 0.922893
A29: B3 | B29: Közhatalmi bevételek | C29: =SUM(C25,C28,C24) -> 1496318115 | D29: =D24+D27+D28 -> 1286500000 | E29: =E24+E27+E28 -> 1286500000 | F29: =F24+F27+F28 -> 815576939 | G29: =F29/E29 -> 0.63395021
A30: B401 | B30: Készletek értékesítése | C30: 13310350 | E30: 2467320 | F30: 3457980
A31: B402 | B31: Szolgáltatások ellenértéke | C31: 16302352 | D31: 16500000 | E31: 14192675 | F31: 13894999 | G31: =F31/E31 -> 0.97902608
A32: B403 | B32: Közvetített szolgáltatások ellenértéke | C32: 13699066 | D32: 13000000 | E32: 13000000 | F32: 5000706 | G32: =F32/E32 -> 0.38466969
A33: B404 | B33: Tulajdonosi bevételek | C33: 5423148 | D33: 13800000 | E33: 13800000 | F33: 8712261 | G33: =F33/E33 -> 0.63132326
A34: B405 | B34: Ellátási díjak | C34: 0
A35: B406 | B35: Kiszámlázott általános forgalmi adó | C35: 21006089 | D35: 4500000 | E35: 6864880 | F35: 6083970 | G35: =F35/E35 -> 0.88624564
A36: B407 | B36: Általános forgalmi adó visszatérítése
A37: B408 | B37: Kamatbevételek és más nyereségjellegű bevételek | C37: 26594360 | D37: 20700000 | E37: 20700000 | F37: 11551904 | G37: =F37/E37 -> 0.558063
A38: B409 | B38: Egyéb pénzügyi műveletek bevételei | C38: 0
A39: B410 | B39: Biztosító által fizetett kártérítés | C39: 0
A40: B411 | B40: Egyéb működési bevételek | C40: 6952232 | D40: 0 | E40: 1268363 | F40: 1278385
A41: B4 | B41: Működési bevételek | C41: =C30+C31+C32+C33+C34+C36+C35+C37+C38+C39+C40 -> 103287597 | D41: =D31+D32+D33+D34+D36+D35+D37+D38+D39+D40 -> 68500000 | E41: =E31+E32+E33+E34+E36+E35+E37+E38+E39+E40 -> 69825918 | F41: =F30+F31+F32+F33+F34+F36+F35+F37+F38+F39+F40 -> 49980205 | G41: =F41/E41 -> 0.715783
A42: B51 | B42: Immateriális javak értékesítése | C42: 0
A43: B52 | B43: Ingatlanok értékesítése | C43: 46003607 | D43: 40843360 | E43: 49602180 | F43: 9282670 | G43: =F43/E43 -> 0.18714238
A44: B53 | B44: Egyéb tárgyi eszközök értékesítése | C44: 0
A45: B54 | B45: Részesedések értékesítése | C45: 0
A46: B55 | B46: Részesedések megszűnéséhez kapcsolódó bevételek | C46: 0
A47: B5 | B47: Felhalmozási bevételek | C47: =SUM(C42:C46) -> 46003607 | D47: =D42+D43+D44+D45+D46 -> 40843360 | E47: =E42+E43+E44+E45+E46 -> 49602180 | F47: =F42+F43+F44+F45+F46 -> 9282670 | G47: =F47/E47 -> 0.18714238
A48: B61 | B48: Működési célú garancia- és kezességvállalásból származó megtérülések államháztartáson kívülről | C48: 0
A49: B62 | B49: Működési célú visszatérítendő támogatások, kölcsönök visszatérülése az Európai Uniótól | C49: 0
A50: B63 | B50: Működési célú visszatérítendő támogatások, kölcsönök visszatérülése kormányoktól és más nemzetközi szervezetektől | C50: 0
A51: B64 | B51: Működési célú visszatérítendő támogatások, kölcsönök visszatérülése államháztartáson kívülről | C51: 0
A52: B65 | B52: Egyéb működési célú átvett pénzeszközök | C52: 0 | D52: 0 | E52: 0 | F52: 0
A53: B6 | B53: Működési célú átvett pénzeszközök | C53: 0 | D53: =D48+D49+D50+D51+D52 -> 0 | E53: 0 | F53: 0
A54: B71 | B54: Felhalmozási célú garancia- és kezességvállalásból származó megtérülések államháztartáson kívülről | C54: 0
A55: B72 | B55: Felhalmozási célú visszatérítendő támogatások, kölcsönök visszatérülése az Európai Uniótól | C55: 0
A56: B73 | B56: Felhalmozási célú visszatérítendő támogatások, kölcsönök visszatérülése kormányoktól és más nemzetközi szervezetektől | C56: 0
A57: B74 | B57: Felhalmozási célú visszatérítendő támogatások, kölcsönök visszatérülése államháztartáson kívülről | C57: 0
A58: B75 | B58: Egyéb felhalmozási célú átvett pénzeszközök | C58: 0
A59: B7 | B59: Felhalmozási célú átvett pénzeszközök | C59: =SUM(C54:C58) -> 0 | D59: =D54+D55+D56+D57+D58 -> 0 | E59: =E54+E55+E56+E57+E58 -> 0 | F59: 0
B60: Költségvetési bevételek | C60: =C16+C23+C29+C41+C47+C59+C53 -> 2444379807 | D60: =D16+D23+D29+D41+D47+D59+D53 -> 2309293467 | E60: =E16+E23+E29+E41+E47+E59+E53 -> 2373898031 | F60: =F16+F23+F29+F41+F47+F59+F53 -> 1433413494 | G60: =F60/E60 -> 0.60382269
A61: B8131 | B61: Előző év költségvetési maradványának igénybevétele | C61: 795624695 | D61: 600000000 | E61: 615999794 | F61: 615999794 | G61: =F61/E61 -> 1
A62: B813 | B62: Maradvány igénybevétele | C62: 795624695 | D62: =D61 -> 600000000 | E62: 615999794 | F62: 615999794 | G62: =F62/E62 -> 1
A63: B814 | B63: Államháztartáson belüli megelőlegezések | C63: 309578103 | E63: 0 | F63: 0
A64: B816 | B64: Központi, irányító szervi támogatás
A65: B81 | B65: Belföldi finanszírozás bevételei | C65: 1105202798 | D65: =D63+D64 -> 0 | E65: =E63+E64 -> 0 | F65: =F63+F64 -> 0
B66: Finanszírozási bevételek | C66: =SUM(C62:C63) -> 1105202798 | D66: =D62+D65 -> 600000000 | E66: =E62+E65 -> 615999794 | F66: =F62+F65 -> 615999794 | G66: =F66/E66 -> 1
B67: Bevételek mindösszesen | C67: =SUM(C60,C66) -> 3549582605 | D67: =D60+D66 -> 2909293467 | E67: =E60+E66 -> 2989897825 | F67: =F60+F66 -> 2049413288 | G67: =F67/E67 -> 0.68544593
A69: Rovat | B69: Jánossomorja Város Önkormányzata | C69: 2025. évi teljesítés | D69: 2026. évi terv | E69: 2026. évi I. módosítás | F69: Teljesítés | G69: Teljesítés %
A70: K1 | B70: Személyi juttatások | C70: 113048244 | D70: 131920000 | E70: 136182910 | F70: 64825053 | G70: =F70/E70 -> 0.4760146
A71: K2 | B71: Munkaadókat terhelő járulékok | C71: 12801440 | D71: 21580000 | E71: 22584628 | F71: 7897104 | G71: =F71/E71 -> 0.34966722
A72: K3 | B72: Dologi kiadások | C72: 341198523 | D72: 346000000 | E72: 351500000 | F72: 150574613 | G72: =F72/E72 -> 0.42837728
A73: K4 | B73: Ellátottak személyi juttatásai | C73: 5031961 | D73: 6000000 | E73: 6000000 | F73: 783842 | G73: =F73/E73 -> 0.13064033
A74: K5021 | B74: A helyi önkormányzatok előző évi elszámolásából származó kiadások | D74: 0 | E74: ='[1]Működési kiadások'!D5 -> 0 | F74: 0
A75: K5022 | B75: A helyi önkormányzatok törvényi előíráson alapuló befizetései | C75: 518576871 | D75: 390806954 | E75: 390806954 | F75: 195403477 | G75: =F75/E75 -> 0.5
A76: K502 | B76: Elvonások és befizetések | C76: 518576871 | D76: =D74+D75 -> 390806954 | E76: =E74+E75 -> 390806954 | F76: =F74+F75 -> 195403477 | G76: =F76/E76 -> 0.5
A77: K506 | B77: Egyéb működési célú támogatáok államháztartáson belülre | C77: 72026673 | D77: 74969000 | E77: 82969000 | F77: 61916385 | G77: =F77/E77 -> 0.74625927
A78: K512 | B78: Egyéb működési célú támogatások államháztartáson kívülre | C78: 37268710 | D78: ='[1]Működési kiadások'!C23 -> 38049000 | E78: 38049000 | F78: 24392496 | G78: =F78/E78 -> 0.64108113
B79: Általános tartalék | C79: 0 | D79: 63215675 | E79: 90823698 | G79: =F79/E79 -> 0
B80: Céltartalék | C80: 0 | D80: ='[1]Működési kiadások'!C33 -> 80000000 | E80: ='[1]Működési kiadások'!D33 -> 80000000 | G80: =F80/E80 -> 0
A81: K513 | B81: Tartalékok | D81: =D79+D80 -> 143215675 | E81: =E79+E80 -> 170823698 | G81: =F81/E81 -> 0
A82: K5 | B82: Egyéb működési célú kiadások | C82: =SUM(C76:C81) -> 627872254 | D82: =D76+D77+D78+D81 -> 647040629 | E82: =E76+E77+E78+E81 -> 682648652 | F82: =F76+F77+F78+F81 -> 281712358 | G82: =F82/E82 -> 0.41267548
A83: K6 | B83: Beruházások | C83: 166539714 | D83: 156000000 | E83: 159681402 | F83: 30809245 | G83: =F83/E83 -> 0.19294197
B84: ebből EU-s forrásból megvalósuló beruházás
A85: K7 | B85: Felújítások | C85: 123774557 | D85: 93250000 | E85: 92250000 | F85: 1650120 | G85: =F85/E85 -> 0.01788748
B86: ebből EU-s forrásból megvalósuló felújítás
A87: K82 | B87: Felhalmozási célú visszatérítendő támgoatások, kölcsönök nyújtása államháztartáson belül | C87: 0
A88: K83 | B88: Felhalmozási célú visszatérítendő támogatások, kölcsönök törlesztése államháztartáson belülre | C88: 0 | D88: 0 | E88: 0 | F88: 0
A89: K86 | B89: Felhalmozási célú visszatérítendő támgoatások, kölcsönök nyújtása államháztartáson kívül | C89: 0
A90: K89 | B90: Egyéb felhamozási célú támogatások államháztartáson kívülre | C90: 5588000 | D90: 9412000 | E90: 9412000 | F90: 0 | G90: =F90/E90 -> 0
A91: K8 | B91: Egyéb felhalmozási célő kiadások | C91: 5588000 | D91: =D87+D88+D89+D90 -> 9412000 | E91: =E87+E88+E89+E90 -> 9412000 | F91: 0 | G91: =F91/E91 -> 0
B92: Költségvetési kiadások | C92: =SUM(C70,C71,C72,C73,C82,C83,C85,C91) -> 1395854693 | D92: =D70+D71+D72+D73+D82+D83+D85+D91 -> 1411202629 | E92: =E70+E71+E72+E73+E82+E83+E85+E91 -> 1460259592 | F92: =F70+F71+F72+F73+F82+F83+F85+F91 -> 538252335 | G92: =F92/E92 -> 0.36860044
A93: K914 | B93: Államháztartáson belüli megelőlegezések visszafizetése | C93: 304665700 | D93: 30325838 | E93: 30325838 | F93: 30325838 | G93: =F93/E93 -> 1
A94: K915 | B94: Központi, irányító szervi támgoatások folyosítása | C94: 1240449606 | D94: 1467765000 | E94: 1504087040 | F94: 668198793 | G94: =F94/E94 -> 0.4442554
A95: K91 | B95: Belföldi finanszírozási kiadások | C95: =SUM(C93:C94) -> 1545115306 | D95: =D93+D94 -> 1498090838 | E95: =E93+E94 -> 1534412878 | F95: =F93+F94 -> 698524631 | G95: =F95/E95 -> 0.45523903
B96: Finanszírozási kiadások | C96: 1545115306 | D96: =D95 -> 1498090838 | E96: =E95 -> 1534412878 | F96: =F95 -> 698524631 | G96: =F96/E96 -> 0.45523903
B97: Kiadások mindösszesen | C97: =SUM(C96,C92) -> 2940969999 | D97: =D92+D96 -> 2909293467 | E97: =E92+E96 -> 2994672470 | F97: =F92+F96 -> 1236776966 | G97: =F97/E97 -> 0.4129924

Sheet VÜMESZ
A1: Rovat | B1: Jánossomorja Városüzemeltetési és Műszaki Ellátó Szervezet | C1: 2025. évi teljesítés | D1: 2026. évi terv | E1: 2026. évi I. módosítás | F1: Teljesítés | G1: Teljesítés %
A2: B111 | B2: Helyi önkormányzatok működésének általános támogatása
A3: B112 | B3: Települési önkormányzatok egyes köznevelési feladatainak támogatása
A4: B1131 | B4: Települési önkormányzatok egyes szociális és gyermekjóléti feladatainak támogatása
A5: B1132 | B5: Települési önkormányzatok gyermekétkeztetési feladatainak támogatása
A6: B113 | B6: Települési önkormányzatok szociális gyermekjóléti és gyermekétkeztetési feladatainak támogatása | C6: 0 | D6: =D4+D5 -> 0 | E6: 0 | F6: 0
A7: B114 | B7: Települési önkormányzatok kulturális feladatainak támogatása
A8: B115 | B8: Működési célú költségvetési támogatások és kiegészítő támogatások
A9: B116 | B9: Elszámolásból származó bevételek
A10: B11 | B10: Önkormányzatok működési támogatásai | C10: 0 | D10: =D2+D3+D6+D7+D8+D9 -> 0 | E10: 0 | F10: 0
A11: B12 | B11: Elvonások és befizetések bevételei
A12: B13 | B12: Működési célú garancia- és kezességvállalásból származó megtérülések államháztartáson belülről
A13: B14 | B13: Működési célú visszatérítendő támogatások, kölcsönök visszatérülése államháztartáson belülről
A14: B15 | B14: Működési célú visszatérítendő támogatások, kölcsönök igénybevétele államháztartáson belülről
A15: B16 | B15: Egyéb működési célú támogatások bevételei államháztartáson belülről
A16: B1 | B16: Működési célú támogatások államháztartáson belülről | C16: 0 | D16: =D10+D11+D12+D13+D14+D15 -> 0 | E16: =E10+E11+E12+E13+E14+E15 -> 0 | F16: =F10+F11+F12+F13+F14+F15 -> 0
A17: B21 | B17: Felhalmozási célú önkormányzati támogatások
A18: B22 | B18: Felhalmozási célú garancia- és kezességvállalásból származó megtérülések államháztartáson belülről
A19: B23 | B19: Felhalmozási célú visszatérítendő támogatások, kölcsönök visszatérülése államháztartáson belülről
A20: B24 | B20: Felhalmozási célú visszatérítendő támogatások, kölcsönök igénybevétele államháztartáson belülről
A21: B25 | B21: Egyéb felhalmozási célú támogatások bevételei államháztartáson belülről
B22: EU-s támogatás
A23: B2 | B23: Felhalmozási célú támogatások államháztartáson belülről | C23: 0 | D23: =D17+D18+D19+D20+D21 -> 0 | E23: =E17+E18+E19+E20+E21 -> 0 | F23: 0
A24: B34 | B24: Vagyoni típusú adók
A25: B351 | B25: Értékesítési és forgalmi adók
A26: B355 | B26: Egyéb áruhasználati és szolgáltatási adók
A27: B35 | B27: Termékek és szolgáltatások adói | C27: 0 | D27: =D25+D26 -> 0 | E27: 0 | F27: 0
A28: B36 | B28: Egyéb közhatalmi bevételek
A29: B3 | B29: Közhatalmi bevételek | C29: 0 | D29: =D24+D27+D28 -> 0 | E29: =E24+E27+E28 -> 0 | F29: =F24+F27+F28 -> 0
A30: B401 | B30: Készletek értékesítése
A31: B402 | B31: Szolgáltatások ellenértéke | C31: 5544496 | D31: 1800000 | E31: 1800000 | F31: 900000 | G31: =F31/E31 -> 0.5
A32: B403 | B32: Közvetített szolgáltatások ellenértéke
A33: B404 | B33: Tulajdonosi bevételek
A34: B405 | B34: Ellátási díjak | C34: 39328989 | D34: 39500000 | E34: 39500000 | F34: 15837315 | G34: =F34/E34 -> 0.40094468
A35: B406 | B35: Kiszámlázott általános forgalmi adó | C35: 11873684 | D35: 10660000 | E35: 10660000 | F35: 4276318 | G35: =F35/E35 -> 0.40115553
A36: B407 | B36: Általános forgalmi adó visszatérítése | C36: 7422000 | D36: 10000000 | E36: 10000000 | F36: 9571000
A37: B408 | B37: Kamatbevételek és más nyereségjellegű bevételek | C37: 136562 | F37: 62387
A38: B409 | B38: Egyéb pénzügyi műveletek bevételei | C38: 0
A39: B410 | B39: Biztosító által fizetett kártérítés | C39: 8255
A40: B411 | B40: Egyéb működési bevételek | C40: 736243 | F40: 227
A41: B4 | B41: Működési bevételek | C41: =SUM(C31:C40) -> 65050229 | D41: =D31+D32+D33+D34+D36+D35+D37+D38+D39+D40 -> 61960000 | E41: =E31+E32+E33+E34+E36+E35+E37+E38+E39+E40 -> 61960000 | F41: =F31+F32+F33+F34+F36+F35+F37+F38+F39+F40 -> 30647247 | G41: =F41/E41 -> 0.49462955
A42: B51 | B42: Immateriális javak értékesítése | C42: 0
A43: B52 | B43: Ingatlanok értékesítése
A44: B53 | B44: Egyéb tárgyi eszközök értékesítése
A45: B54 | B45: Részesedések értékesítése
A46: B55 | B46: Részesedések megszűnéséhez kapcsolódó bevételek
A47: B5 | B47: Felhalmozási bevételek | C47: 0 | D47: =D42+D43+D44+D45+D46 -> 0 | E47: 0 | F47: 0
A48: B61 | B48: Működési célú garancia- és kezességvállalásból származó megtérülések államháztartáson kívülről | C48: 0
A49: B62 | B49: Működési célú visszatérítendő támogatások, kölcsönök visszatérülése az Európai Uniótól
A50: B63 | B50: Működési célú visszatérítendő támogatások, kölcsönök visszatérülése kormányoktól és más nemzetközi szervezetektől
A51: B64 | B51: Működési célú visszatérítendő támogatások, kölcsönök visszatérülése államháztartáson kívülről
A52: B65 | B52: Egyéb működési célú átvett pénzeszközök
A53: B6 | B53: Működési célú átvett pénzeszközök | C53: 0 | D53: =D48+D49+D50+D51+D52 -> 0 | E53: 0 | F53: 0
A54: B71 | B54: Felhalmozási célú garancia- és kezességvállalásból származó megtérülések államháztartáson kívülről | C54: 0
A55: B72 | B55: Felhalmozási célú visszatérítendő támogatások, kölcsönök visszatérülése az Európai Uniótól
A56: B73 | B56: Felhalmozási célú visszatérítendő támogatások, kölcsönök visszatérülése kormányoktól és más nemzetközi szervezetektől
A57: B74 | B57: Felhalmozási célú visszatérítendő támogatások, kölcsönök visszatérülése államháztartáson kívülről
A58: B75 | B58: Egyéb felhalmozási célú átvett pénzeszközök
A59: B7 | B59: Felhalmozási célú átvett pénzeszközök | C59: 0 | D59: =D54+D55+D56+D57+D58 -> 0 | E59: 0 | F59: 0
B60: Költségvetési bevételek | C60: =SUM(C59,C53,C47,C41,C29,C23,C16) -> 65050229 | D60: =D16+D23+D29+D41+D47+D59+D53 -> 61960000 | E60: =E16+E23+E29+E41+E47+E59+E53 -> 61960000 | F60: =F16+F23+F29+F41+F47+F59+F53 -> 30647247 | G60: =F60/E60 -> 0.49462955
A61: B8131 | B61: Előző év költségvetési maradványának igénybevétele | C61: 5939043 | D61: 7500000 | E61: 8055597 | F61: 8055597 | G61: =F61/E61 -> 1
A62: B813 | B62: Maradvány igénybevétele | C62: 5939043 | D62: =D61 -> 7500000 | E62: 8055597 | F62: 8055597 | G62: =F62/E62 -> 1
A63: B814 | B63: Államháztartáson belüli megelőlegezések
A64: B816 | B64: Központi, irányító szervi támogatás | C64: 441565614 | D64: 462540000 | E64: 465384197 | F64: 214047115 | G64: =F64/E64 -> 0.45993636
A65: B81 | B65: Belföldi finanszírozás bevételei | C65: 441565614 | D65: =D63+D64 -> 462540000 | E65: 473439794 | F65: 222102712 | G65: =F65/E65 -> 0.46912557
B66: Finanszírozási bevételek | C66: =SUM(C62:C64) -> 447504657 | D66: =D62+D65 -> 470040000 | E66: =SUM(E65) -> 473439794 | F66: =SUM(F65) -> 222102712 | G66: =F66/E66 -> 0.46912557
B67: Bevételek mindösszesen | C67: =SUM(C60,C66) -> 512554886 | D67: =D60+D66 -> 532000000 | E67: =E60+E66 -> 535399794 | F67: =F66+F60 -> 252749959 | G67: =F67/E67 -> 0.47207706
A69: Rovat | B69: Jánossomorja Városüzemeltetési és Műszaki Ellátó Szervezet | C69: Teljesítés | D69: 2026. évi terv | E69: 2026. évi I. módosítás | F69: Teljesítés | G69: Teljesítés %
A70: K1 | B70: Személyi juttatások | C70: 223916586 | D70: 222300000 | E70: 224545890 | F70: 98887541 | G70: =F70/E70 -> 0.440389
A71: K2 | B71: Munkaadókat terhelő járulékok | C71: 32767894 | D71: 32024000 | E71: 32652850 | F71: 13688275 | G71: =F71/E71 -> 0.41920613
A72: K3 | B72: Dologi kiadások | C72: 246163520 | D72: 274509000 | E72: 275064597 | F72: 138339624 | G72: =F72/E72 -> 0.50293504
A73: K4 | B73: Ellátottak személyi juttatásai
A74: K5021 | B74: A helyi önkormányzatok előző évi elszámolásából származó kiadások
A75: K5022 | B75: A helyi önkormányzatok törvényi előíráson alapuló befizetései
A76: K502 | B76: Elvonások és befizetések | C76: 0 | D76: =D74+D75 -> 0 | E76: 0 | F76: 0
A77: K506 | B77: Egyéb működési célú támogatáok államháztartáson belülre
A78: K512 | B78: Egyéb működési célú támogatások államháztartáson kívülre
B79: Általános tartalék
B80: Céltartalék
A81: K513 | B81: Tartalékok | C81: 0 | D81: =D79+D80 -> 0 | E81: 0 | F81: 0
A82: K5 | B82: Egyéb működési célú kiadások | C82: 0 | D82: =D76+D77+D78+D81 -> 0 | E82: 0 | F82: 0
A83: K6 | B83: Beruházások | C83: 1651289 | D83: 3167000 | E83: 3167000 | F83: 493770 | G83: =F83/E83 -> 0.15591096
B84: ebből EU-s forrásból megvalósuló beruházás
A85: K7 | B85: Felújítások | C85: 0 | D85: 0 | E85: 0 | F85: 0
B86: ebből EU-s forrásból megvalósuló felújítás
A87: K82 | B87: Felhalmozási célú visszatérítendő támgoatások, kölcsönök nyújtása államháztartáson belül
A88: K84 | B88: Egyéb felhalmozási célú támogatások államháztartáson belülre | C88: 0
A89: K86 | B89: Felhalmozási célú visszatérítendő támgoatások, kölcsönök nyújtása államháztartáson kívül | C89: 0
A90: K89 | B90: Egyéb felhamozási célú támogatások államháztartáson kívülre | C90: 0
A91: K8 | B91: Egyéb felhalmozási célő kiadások | C91: 0
B92: Költségvetési kiadások | C92: =SUM(C91,C83:C86,C82,C69:C73) -> 504499289 | D92: =D70+D71+D72+D73+D82+D83+D85+D91+D95 -> 532000000 | E92: =E70+E71+E72+E73+E82+E83+E85+E91+E95 -> 535430337 | F92: =F70+F71+F72+F73+F82+F83+F85+F91+F95 -> 251409210 | G92: =F92/E92 -> 0.46954607
A93: K914 | B93: Államháztartáson belüli megelőlegezések visszafizetése
A94: K915 | B94: Központi, irányító szervi támgoatások folyosítása
A95: K91 | B95: Belföldi finanszírozási kiadások | C95: 0 | D95: =D93+D94 -> 0 | E95: 0 | F95: 0 | G95: 0
B96: Finanszírozási kiadások | C96: 0 | D96: =D95 -> 0 | E96: 0 | F96: 0 | G96: 0
B97: Kiadások mindösszesen | C97: =C92+C96 -> 504499289 | D97: =D92+D96 -> 532000000 | E97: =E92+E96 -> 535430337 | F97: =F92+F96 -> 251409210 | G97: =F97/E97 -> 0.46954607

Sheet Hivatal
A1: Rovat | B1: Jánossomorjai Közös Önkormányzati Hivatal | C1: 2025. évi teljesítés | D1: 2026. évi terv | E1: 2026. évi I. módosítás | F1: Teljesítés | G1: Teljesítés %
A2: B111 | B2: Helyi önkormányzatok működésének általános támogatása
A3: B112 | B3: Települési önkormányzatok egyes köznevelési feladatainak támogatása
A4: B1131 | B4: Települési önkormányzatok egyes szociális és gyermekjóléti feladatainak támogatása
A5: B1132 | B5: Települési önkormányzatok gyermekétkeztetési feladatainak támogatása
A6: B113 | B6: Települési önkormányzatok szociális gyermekjóléti és gyermekétkeztetési feladatainak támogatása | C6: 0 | D6: =D4+D5 -> 0 | E6: 0 | F6: 0
A7: B114 | B7: Települési önkormányzatok kulturális feladatainak támogatása
A8: B115 | B8: Működési célú költségvetési támogatások és kiegészítő támogatások
A9: B116 | B9: Elszámolásból származó bevételek
A10: B11 | B10: Önkormányzatok működési támogatásai | C10: 0 | D10: =D2+D3+D6+D7+D8+D9 -> 0 | E10: 0 | F10: 0
A11: B12 | B11: Elvonások és befizetések bevételei
A12: B13 | B12: Működési célú garancia- és kezességvállalásból származó megtérülések államháztartáson belülről
A13: B14 | B13: Működési célú visszatérítendő támogatások, kölcsönök visszatérülése államháztartáson belülről
A14: B15 | B14: Működési célú visszatérítendő támogatások, kölcsönök igénybevétele államháztartáson belülről
A15: B16 | B15: Egyéb működési célú támogatások bevételei államháztartáson belülről | E15: 8712232 | F15: 8712232
A16: B1 | B16: Működési célú támogatások államháztartáson belülről | C16: 0 | D16: =D10+D11+D12+D13+D14+D15 -> 0 | E16: =SUM(E15,E10,E10) -> 8712232 | F16: =SUM(F15,F10,F10) -> 8712232
A17: B21 | B17: Felhalmozási célú önkormányzati támogatások
A18: B22 | B18: Felhalmozási célú garancia- és kezességvállalásból származó megtérülések államháztartáson belülről
A19: B23 | B19: Felhalmozási célú visszatérítendő támogatások, kölcsönök visszatérülése államháztartáson belülről
A20: B24 | B20: Felhalmozási célú visszatérítendő támogatások, kölcsönök igénybevétele államháztartáson belülről
A21: B25 | B21: Egyéb felhalmozási célú támogatások bevételei államháztartáson belülről
B22: EU-s támogatás
A23: B2 | B23: Felhalmozási célú támogatások államháztartáson belülről | C23: 0 | D23: =D17+D18+D19+D20+D21 -> 0 | E23: 0 | F23: 0
A24: B34 | B24: Vagyoni típusú adók
A25: B351 | B25: Értékesítési és forgalmi adók
A26: B355 | B26: Egyéb áruhasználati és szolgáltatási adók
A27: B35 | B27: Termékek és szolgáltatások adói | C27: 0 | D27: =D25+D26 -> 0 | E27: 0 | F27: 0
A28: B36 | B28: Egyéb közhatalmi bevételek
A29: B3 | B29: Közhatalmi bevételek | C29: 0 | D29: =D24+D27+D28 -> 0 | E29: =E24+E27+E28 -> 0 | F29: 0
A30: B401 | B30: Készletek értékesítése
A31: B402 | B31: Szolgáltatások ellenértéke | C31: 1938747 | D31: 2000000 | E31: 2000000 | F31: 727010 | G31: =F31/E31 -> 0.363505
A32: B403 | B32: Közvetített szolgáltatások ellenértéke | C32: 4509844 | D32: 4800000 | E32: 4800000 | F32: 2097163 | G32: =F32/E32 -> 0.43690896
A33: B404 | B33: Tulajdonosi bevételek | C33: 60000
A34: B405 | B34: Ellátási díjak
A35: B406 | B35: Kiszámlázott általános forgalmi adó
A36: B407 | B36: Általános forgalmi adó visszatérítése
A37: B408 | B37: Kamatbevételek és más nyereségjellegű bevételek | C37: 76337 | E37: 40756 | F37: 68459 | G37: =F37/E37 -> 1.6797281
A38: B409 | B38: Egyéb pénzügyi műveletek bevételei
A39: B410 | B39: Biztosító által fizetett kártérítés
A40: B411 | B40: Egyéb működési bevételek | C40: 4145119 | F40: 11
A41: B4 | B41: Működési bevételek | C41: =SUM(C31:C40) -> 10730047 | D41: =D31+D32+D33+D34+D36+D35+D37+D38+D39+D40 -> 6800000 | E41: =SUM(E31:E40) -> 6840756 | F41: =F31+F32+F33+F34+F36+F35+F37+F38+F39+F40 -> 2892643 | G41: =F41/E41 -> 0.42285429
A42: B51 | B42: Immateriális javak értékesítése | C42: 0
A43: B52 | B43: Ingatlanok értékesítése | C43: 0
A44: B53 | B44: Egyéb tárgyi eszközök értékesítése | C44: 0
A45: B54 | B45: Részesedések értékesítése | C45: 0
A46: B55 | B46: Részesedések megszűnéséhez kapcsolódó bevételek | C46: 0
A47: B5 | B47: Felhalmozási bevételek | C47: 0 | D47: =D42+D43+D44+D45+D46 -> 0 | E47: =E42+E43+E44+E45+E46 -> 0 | F47: 0
A48: B61 | B48: Működési célú garancia- és kezességvállalásból származó megtérülések államháztartáson kívülről | C48: 0
A49: B62 | B49: Működési célú visszatérítendő támogatások, kölcsönök visszatérülése az Európai Uniótól | C49: 0
A50: B63 | B50: Működési célú visszatérítendő támogatások, kölcsönök visszatérülése kormányoktól és más nemzetközi szervezetektől | C50: 0
A51: B64 | B51: Működési célú visszatérítendő támogatások, kölcsönök visszatérülése államháztartáson kívülről | C51: 0
A52: B65 | B52: Egyéb működési célú átvett pénzeszközök | C52: 0
A53: B6 | B53: Működési célú átvett pénzeszközök | C53: 0 | D53: =D48+D49+D50+D51+D52 -> 0 | E53: =E48+E49+E50+E51+E52 -> 0 | F53: 0
A54: B71 | B54: Felhalmozási célú garancia- és kezességvállalásból származó megtérülések államháztartáson kívülről | C54: 0
A55: B72 | B55: Felhalmozási célú visszatérítendő támogatások, kölcsönök visszatérülése az Európai Uniótól | C55: 0
A56: B73 | B56: Felhalmozási célú visszatérítendő támogatások, kölcsönök visszatérülése kormányoktól és más nemzetközi szervezetektől | C56: 0
A57: B74 | B57: Felhalmozási célú visszatérítendő támogatások, kölcsönök visszatérülése államháztartáson kívülről | C57: 0
A58: B75 | B58: Egyéb felhalmozási célú átvett pénzeszközök | C58: 0
A59: B7 | B59: Felhalmozási célú átvett pénzeszközök | C59: 0 | D59: =D54+D55+D56+D57+D58 -> 0 | E59: =E54+E55+E56+E57+E58 -> 0 | F59: 0
B60: Költségvetési bevételek | C60: 10730047 | D60: =D16+D23+D29+D41+D47+D59+D53 -> 6800000 | E60: =E16+E23+E29+E41+E47+E59+E53 -> 15552988 | F60: =F16+F23+F29+F41+F47+F59+F53 -> 11604875 | G60: =F60/E60 -> 0.74615084
A61: B8131 | B61: Előző év költségvetési maradványának igénybevétele | C61: 1520800 | D61: 2000000 | E61: 2588384 | F61: 2588384 | G61: =F61/E61 -> 1
A62: B813 | B62: Maradvány igénybevétele | C62: 1520800 | D62: =D61 -> 2000000 | E62: =E61 -> 2588384 | F62: =F61 -> 2588384 | G62: =F62/E62 -> 1
A63: B814 | B63: Államháztartáson belüli megelőlegezések | C63: 0
A64: B816 | B64: Központi, irányító szervi támogatás | C64: 217029417 | D64: 304100000 | E64: 310180000 | F64: 101193798 | G64: =F64/E64 -> 0.32624218
A65: B81 | B65: Belföldi finanszírozás bevételei | C65: =SUM(C62:C64) -> 218550217 | D65: 304100000 | E65: 310180000 | F65: 101193798 | G65: =F65/E65 -> 0.32624218
B66: Finanszírozási bevételek | C66: 218550217 | D66: =D62+D65 -> 306100000 | E66: =E62+E65 -> 312768384 | F66: =F62+F65 -> 103782182 | G66: =F66/E66 -> 0.33181801
B67: Bevételek mindösszesen | C67: =SUM(C60,C66) -> 229280264 | D67: =D60+D66 -> 312900000 | E67: =E60+E66 -> 328321372 | F67: =F60+F66 -> 115387057 | G67: =F67/E67 -> 0.35144546
A69: Rovat | B69: Jánossomorjai Közös Önkormányzati Hivatal | C69: 2025. évi teljesítés | D69: 2026. évi terv | E69: 2026. évi I. módosítás | F69: Teljesítés | G69: Teljesítés %
A70: K1 | B70: Személyi juttatások | C70: 184394518 | D70: 258000000 | E70: 269403205 | F70: 115107512 | G70: =F70/E70 -> 0.42726853
A71: K2 | B71: Munkaadókat terhelő járulékok | C71: 25104257 | D71: 34900000 | E71: 38283841 | F71: 15171751 | G71: =F71/E71 -> 0.39629647
A72: K3 | B72: Dologi kiadások | C72: 17193105 | D72: 20000000 | E72: 21593570 | F72: 7820724 | G72: =F72/E72 -> 0.36217837
A73: K4 | B73: Ellátottak személyi juttatásai | C73: 0
A74: K5021 | B74: A helyi önkormányzatok előző évi elszámolásából származó kiadások | C74: 0
A75: K5022 | B75: A helyi önkormányzatok törvényi előíráson alapuló befizetései | C75: 0
A76: K502 | B76: Elvonások és befizetések | C76: 0 | D76: =D74+D75 -> 0 | E76: 0 | F76: 0
A77: K506 | B77: Egyéb működési célú támogatáok államháztartáson belülre | C77: 0 | D77: 0 | E77: 0 | F77: 0
A78: K512 | B78: Egyéb működési célú támogatások államháztartáson kívülre | C78: 0
B79: Általános tartalék | C79: 0
B80: Céltartalék | C80: 0
A81: K513 | B81: Tartalékok | C81: 0 | D81: =D79+D80 -> 0 | E81: 0 | F81: 0
A82: K5 | B82: Egyéb működési célú kiadások | C82: 0 | D82: =D76+D77+D78+D81 -> 0 | E82: =E76+E77+E78+E81 -> 0 | F82: 0
A83: K6 | B83: Beruházások | C83: 0 | D83: 0 | E83: 0 | F83: 0
B84: ebből EU-s forrásból megvalósuló beruházás
A85: K7 | B85: Felújítások | C85: 0
B86: ebből EU-s forrásból megvalósuló felújítás
A87: K82 | B87: Felhalmozási célú visszatérítendő támgoatások, kölcsönök nyújtása államháztartáson belül | C87: 0
A88: K84 | B88: Egyéb felhalmozási célú támogatások államháztartáson belülre | C88: 0
A89: K86 | B89: Felhalmozási célú visszatérítendő támgoatások, kölcsönök nyújtása államháztartáson kívül | C89: 0
A90: K89 | B90: Egyéb felhamozási célú támogatások államháztartáson kívülre | C90: 0
A91: K8 | B91: Egyéb felhalmozási célő kiadások | C91: 0
B92: Költségvetési kiadások | C92: =SUM(C70,C71,C72,C73,C82,C83,C85,C91) -> 226691880 | D92: =D70+D71+D72+D73+D82+D83+D85+D91+D95 -> 312900000 | E92: =E70+E71+E72+E73+E82+E83+E85+E91+E95 -> 329280616 | F92: =F70+F71+F72+F73+F82+F83+F85+F91+F95 -> 138099987 | G92: =F92/E92 -> 0.41939908
A93: K914 | B93: Államháztartáson belüli megelőlegezések visszafizetése | C93: 0
A94: K915 | B94: Központi, irányító szervi támgoatások folyosítása | C94: 0
A95: K91 | B95: Belföldi finanszírozási kiadások | C95: 0 | D95: =D93+D94 -> 0 | E95: =E93+E94 -> 0 | F95: 0
B96: Finanszírozási kiadások | C96: 0 | D96: =D95 -> 0 | E96: =E95 -> 0 | F96: 0
B97: Kiadások mindösszesen | C97: =SUM(C92,C96) -> 226691880 | D97: =D92+D96 -> 312900000 | E97: =E92+E96 -> 329280616 | F97: =F92+F96 -> 138099987 | G97: =F97/E97 -> 0.41939908
C98: =C97-C67 -> -2588384 | D98: =D97-D67 -> 0 | E98: =E97-E67 -> 959244 | F98: =F97-F67 -> 22712930

Sheet Művelődési ház
A1: Rovat | B1: Balassi Bálint Művelődési Ház és Könyvtár | C1: 2025. évi teljesítés | D1: 2026. évi terv | E1: 2026. évi I. módosítás | F1: Teljesítés | G1: Teljesítés %
A2: B111 | B2: Helyi önkormányzatok működésének általános támogatása
A3: B112 | B3: Települési önkormányzatok egyes köznevelési feladatainak támogatása
A4: B1131 | B4: Települési önkormányzatok egyes szociális és gyermekjóléti feladatainak támogatása
A5: B1132 | B5: Települési önkormányzatok gyermekétkeztetési feladatainak támogatása
A6: B113 | B6: Települési önkormányzatok szociális gyermekjóléti és gyermekétkeztetési feladatainak támogatása | C6: 0 | D6: =D4+D5 -> 0 | E6: 0 | F6: 0
A7: B114 | B7: Települési önkormányzatok kulturális feladatainak támogatása
A8: B115 | B8: Működési célú költségvetési támogatások és kiegészítő támogatások
A9: B116 | B9: Elszámolásból származó bevételek
A10: B11 | B10: Önkormányzatok működési támogatásai | C10: 0 | D10: =D2+D3+D6+D7+D8+D9 -> 0 | E10: 0 | F10: 0
A11: B12 | B11: Elvonások és befizetések bevételei
A12: B13 | B12: Működési célú garancia- és kezességvállalásból származó megtérülések államháztartáson belülről
A13: B14 | B13: Működési célú visszatérítendő támogatások, kölcsönök visszatérülése államháztartáson belülről
A14: B15 | B14: Működési célú visszatérítendő támogatások, kölcsönök igénybevétele államháztartáson belülről
A15: B16 | B15: Egyéb működési célú támogatások bevételei államháztartáson belülről
A16: B1 | B16: Működési célú támogatások államháztartáson belülről | C16: 0 | D16: =D10+D11+D12+D13+D14+D15 -> 0 | E16: 0 | F16: 0
A17: B21 | B17: Felhalmozási célú önkormányzati támogatások
A18: B22 | B18: Felhalmozási célú garancia- és kezességvállalásból származó megtérülések államháztartáson belülről
A19: B23 | B19: Felhalmozási célú visszatérítendő támogatások, kölcsönök visszatérülése államháztartáson belülről
A20: B24 | B20: Felhalmozási célú visszatérítendő támogatások, kölcsönök igénybevétele államháztartáson belülről
A21: B25 | B21: Egyéb felhalmozási célú támogatások bevételei államháztartáson belülről
B22: EU-s támogatás
A23: B2 | B23: Felhalmozási célú támogatások államháztartáson belülről | C23: 0 | D23: =D17+D18+D19+D20+D21 -> 0 | E23: 0 | F23: 0
A24: B34 | B24: Vagyoni típusú adók
A25: B351 | B25: Értékesítési és forgalmi adók
A26: B355 | B26: Egyéb áruhasználati és szolgáltatási adók
A27: B35 | B27: Termékek és szolgáltatások adói | C27: 0 | D27: =D25+D26 -> 0 | E27: 0 | F27: 0
A28: B36 | B28: Egyéb közhatalmi bevételek
A29: B3 | B29: Közhatalmi bevételek | C29: 0 | D29: =D24+D27+D28 -> 0 | E29: 0 | F29: 0
A30: B401 | B30: Készletértékesítés ellenértéke | C30: 56160 | E30: 45600 | F30: 47500
A31: B402 | B31: Szolgáltatások ellenértéke | C31: 9854967 | D31: 7500000 | E31: 7500000 | F31: 3201205 | G31: =F31/E31 -> 0.42682733
A32: B403 | B32: Közvetített szolgáltatások ellenértéke | C32: 1189120 | D32: 1000000 | E32: 1000000 | F32: 583943 | G32: =F32/E32 -> 0.583943
A33: B404 | B33: Tulajdonosi bevételek
A34: B405 | B34: Ellátási díjak
A35: B406 | B35: Kiszámlázott általános forgalmi adó
A36: B407 | B36: Általános forgalmi adó visszatérítése
A37: B408 | B37: Kamatbevételek és más nyereségjellegű bevételek | C37: 82469 | E37: 19483 | F37: 38050
A38: B409 | B38: Egyéb pénzügyi műveletek bevételei
A39: B410 | B39: Biztosító által fizetett kártérítés
A40: B411 | B40: Egyéb működési bevételek | C40: 3440590 | E40: 15706 | F40: 515707
A41: B4 | B41: Működési bevételek | C41: =SUM(C30:C40) -> 14623306 | D41: =D31+D32+D33+D34+D36+D35+D37+D38+D39+D40 -> 8500000 | E41: =E31+E32+E33+E34+E36+E35+E37+E38+E39+E40 -> 8535189 | F41: =F31+F32+F33+F34+F36+F35+F37+F38+F39+F40+F30 -> 4386405 | G41: =F41/E41 -> 0.51392008
A42: B51 | B42: Immateriális javak értékesítése
A43: B52 | B43: Ingatlanok értékesítése
A44: B53 | B44: Egyéb tárgyi eszközök értékesítése
A45: B54 | B45: Részesedések értékesítése
A46: B55 | B46: Részesedések megszűnéséhez kapcsolódó bevételek
A47: B5 | B47: Felhalmozási bevételek | C47: 0 | D47: =D42+D43+D44+D45+D46 -> 0 | E47: 0 | F47: 0
A48: B61 | B48: Működési célú garancia- és kezességvállalásból származó megtérülések államháztartáson kívülről
A49: B62 | B49: Működési célú visszatérítendő támogatások, kölcsönök visszatérülése az Európai Uniótól
A50: B63 | B50: Működési célú visszatérítendő támogatások, kölcsönök visszatérülése kormányoktól és más nemzetközi szervezetektől
A51: B64 | B51: Működési célú visszatérítendő támogatások, kölcsönök visszatérülése államháztartáson kívülről
A52: B65 | B52: Egyéb működési célú átvett pénzeszközök | C52: 250000
A53: B6 | B53: Működési célú átvett pénzeszközök | C53: =SUM(C48:C52) -> 250000 | D53: =D48+D49+D50+D51+D52 -> 0 | E53: 0 | F53: 0
A54: B71 | B54: Felhalmozási célú garancia- és kezességvállalásból származó megtérülések államháztartáson kívülről
A55: B72 | B55: Felhalmozási célú visszatérítendő támogatások, kölcsönök visszatérülése az Európai Uniótól
A56: B73 | B56: Felhalmozási célú visszatérítendő támogatások, kölcsönök visszatérülése kormányoktól és más nemzetközi szervezetektől
A57: B74 | B57: Felhalmozási célú visszatérítendő támogatások, kölcsönök visszatérülése államháztartáson kívülről
A58: B75 | B58: Egyéb felhalmozási célú átvett pénzeszközök
A59: B7 | B59: Felhalmozási célú átvett pénzeszközök | C59: 0 | D59: =D54+D55+D56+D57+D58 -> 0 | E59: =E54+E55+E56+E57+E58 -> 0 | F59: 0
B60: Költségvetési bevételek | C60: =SUM(C16,C23,C29,C41,C47,C53,C59) -> 14873306 | D60: =D16+D23+D29+D41+D47+D59+D53 -> 8500000 | E60: =E16+E23+E29+E41+E47+E59+E53 -> 8535189 | F60: =F16+F23+F29+F41+F47+F59+F53 -> 4386405 | G60: =F60/E60 -> 0.51392008
A61: B8131 | B61: Előző év költségvetési maradványának igénybevétele | C61: 3110146 | D61: 1500000 | E61: 1816415 | F61: 1816415 | G61: =F61/E61 -> 1
A62: B813 | B62: Maradvány igénybevétele | C62: 3110146 | D62: =D61 -> 1500000 | E62: =E61 -> 1816415 | F62: 1816415 | G62: =F62/E62 -> 1
A63: B814 | B63: Államháztartáson belüli megelőlegezések | C63: 0
A64: B816 | B64: Központi, irányító szervi támogatás | C64: 99761741 | D64: 125999000 | E64: 129758211 | F64: 49106187 | G64: =F64/E64 -> 0.37844377
A65: B81 | B65: Belföldi finanszírozás bevételei | C65: 102871887 | D65: =SUM(D64,D62) -> 127499000 | E65: =SUM(E64,E62) -> 131574626 | F65: =SUM(F64,F62) -> 50922602 | G65: =F65/E65 -> 0.38702449
B66: Finanszírozási bevételek | C66: =SUM(C62:C64) -> 102871887 | D66: =D62+D65 -> 128999000 | E66: =E62+E65 -> 133391041 | F66: =F65 -> 50922602 | G66: =F66/E66 -> 0.38175429
B67: Bevételek mindösszesen | C67: =SUM(C66,C60) -> 117745193 | D67: =D60+D66 -> 137499000 | E67: =E60+E66 -> 141926230 | F67: =F66+F60 -> 55309007 | G67: =F67/E67 -> 0.3897025
A69: Rovat | B69: Balassi Bálint Művelődési Ház és Könyvtár | C69: 2025. évi teljesítés | D69: 2026. évi terv | E69: 2026. évi I. módosítás | F69: Teljesítés | G69: Teljesítés %
A70: K1 | B70: Személyi juttatások | C70: 65194768 | D70: 75550000 | E70: 78550000 | F70: 33547862 | G70: =F70/E70 -> 0.42708927
A71: K2 | B71: Munkaadókat terhelő járulékok | C71: 8721171 | D71: 10510000 | E71: 11350000 | F71: 4725482 | G71: =F71/E71 -> 0.41634203
A72: K3 | B72: Dologi kiadások | C72: 34121655 | D72: 40000000 | E72: 40316415 | F72: 10720961 | G72: =F72/E72 -> 0.26592049
A73: K4 | B73: Ellátottak személyi juttatásai
A74: K5021 | B74: A helyi önkormányzatok előző évi elszámolásából származó kiadások
A75: K5022 | B75: A helyi önkormányzatok törvényi előíráson alapuló befizetései
A76: K502 | B76: Elvonások és befizetések | C76: 0 | D76: =D74+D75 -> 0 | E76: 0
A77: K506 | B77: Egyéb működési célú támogatáok államháztartáson belülre
A78: K512 | B78: Egyéb működési célú támogatások államháztartáson kívülre
B79: Általános tartalék
B80: Céltartalék
A81: K513 | B81: Tartalékok | C81: 0 | D81: =D79+D80 -> 0 | E81: 0
A82: K5 | B82: Egyéb működési célú kiadások | C82: 0 | D82: =D76+D77+D78+D81 -> 0 | E82: 0 | F82: 0
A83: K6 | B83: Beruházások | C83: 7891184 | D83: 9939000 | E83: 9939000 | F83: 2605726 | G83: =F83/E83 -> 0.26217185
B84: ebből EU-s forrásból megvalósuló beruházás
A85: K7 | B85: Felújítások
B86: ebből EU-s forrásból megvalósuló felújítás
A87: K82 | B87: Felhalmozási célú visszatérítendő támgoatások, kölcsönök nyújtása államháztartáson belül
A88: K84 | B88: Egyéb felhalmozási célú támogatások államháztartáson belülre
A89: K86 | B89: Felhalmozási célú visszatérítendő támgoatások, kölcsönök nyújtása államháztartáson kívül
A90: K89 | B90: Egyéb felhamozási célú támogatások államháztartáson kívülre
A91: K8 | B91: Egyéb felhalmozási célő kiadások | C91: 0
B92: Költségvetési kiadások | C92: =SUM(C91,C85,C83,C82,C73,C72,C71,C70) -> 115928778 | D92: =D70+D71+D72+D73+D82+D83+D85+D91+D95 -> 135999000 | E92: =E70+E71+E72+E73+E82+E83+E85+E91+E95 -> 140155415 | F92: =F70+F71+F72+F73+F82+F83+F85+F91+F95 -> 51600031 | G92: =F92/E92 -> 0.36816295
A93: K914 | B93: Államháztartáson belüli megelőlegezések visszafizetése
A94: K915 | B94: Központi, irányító szervi támgoatások folyosítása
A95: K91 | B95: Belföldi finanszírozási kiadások | C95: 0 | D95: =D93+D94 -> 0 | E95: 0 | F95: 0
B96: Finanszírozási kiadások | C96: 0 | D96: =D95 -> 0 | E96: =E95 -> 0 | F96: 0
B97: Kiadások mindösszesen | C97: =SUM(C96,C92) -> 115928778 | D97: =D92+D96 -> 135999000 | E97: =E92+E96 -> 140155415 | F97: =F92+F96 -> 51600031 | G97: =F97/E97 -> 0.36816295
C98: =C97-C67 -> -1816415 | D98: =D97-D67 -> -1500000 | E98: =E97-E67 -> -1770815 | F98: =F97-F67 -> -3708976

Sheet Bölcsőde
A1: Rovat | B1: Kék Bagoly Bölcsőde | C1: 2025. évi teljesítés | D1: 2026. évi terv | E1: 2026. évi I. módosítás | F1: Teljesítés | G1: Teljesítés %
A2: B111 | B2: Helyi önkormányzatok működésének általános támogatása
A3: B112 | B3: Települési önkormányzatok egyes köznevelési feladatainak támogatása
A4: B1131 | B4: Települési önkormányzatok egyes szociális és gyermekjóléti feladatainak támogatása
A5: B1132 | B5: Települési önkormányzatok gyermekétkeztetési feladatainak támogatása
A6: B113 | B6: Települési önkormányzatok szociális gyermekjóléti és gyermekétkeztetési feladatainak támogatása | C6: 0 | D6: =D4+D5 -> 0 | E6: 0 | F6: 0
A7: B114 | B7: Települési önkormányzatok kulturális feladatainak támogatása
A8: B115 | B8: Működési célú költségvetési támogatások és kiegészítő támogatások
A9: B116 | B9: Elszámolásból származó bevételek
A10: B11 | B10: Önkormányzatok működési támogatásai | C10: 0 | D10: =D2+D3+D6+D7+D8+D9 -> 0 | E10: =E2+E3+E6+E7+E8+E9 -> 0 | F10: 0
A11: B12 | B11: Elvonások és befizetések bevételei
A12: B13 | B12: Működési célú garancia- és kezességvállalásból származó megtérülések államháztartáson belülről
A13: B14 | B13: Működési célú visszatérítendő támogatások, kölcsönök visszatérülése államháztartáson belülről
A14: B15 | B14: Működési célú visszatérítendő támogatások, kölcsönök igénybevétele államháztartáson belülről
A15: B16 | B15: Egyéb működési célú támogatások bevételei államháztartáson belülről
A16: B1 | B16: Működési célú támogatások államháztartáson belülről | C16: 0 | D16: =D10+D11+D12+D13+D14+D15 -> 0 | E16: =E10+E11+E12+E13+E14+E15 -> 0 | F16: 0
A17: B21 | B17: Felhalmozási célú önkormányzati támogatások
A18: B22 | B18: Felhalmozási célú garancia- és kezességvállalásból származó megtérülések államháztartáson belülről
A19: B23 | B19: Felhalmozási célú visszatérítendő támogatások, kölcsönök visszatérülése államháztartáson belülről
A20: B24 | B20: Felhalmozási célú visszatérítendő támogatások, kölcsönök igénybevétele államháztartáson belülről
A21: B25 | B21: Egyéb felhalmozási célú támogatások bevételei államháztartáson belülről
B22: EU-s támogatás
A23: B2 | B23: Felhalmozási célú támogatások államháztartáson belülről | C23: 0 | D23: =D17+D18+D19+D20+D21 -> 0 | E23: =E17+E18+E19+E20+E21 -> 0 | F23: 0
A24: B34 | B24: Vagyoni típusú adók
A25: B351 | B25: Értékesítési és forgalmi adók
A26: B355 | B26: Egyéb áruhasználati és szolgáltatási adók
A27: B35 | B27: Termékek és szolgáltatások adói | C27: 0 | D27: =D25+D26 -> 0 | E27: 0 | F27: 0
A28: B36 | B28: Egyéb közhatalmi bevételek
A29: B3 | B29: Közhatalmi bevételek | C29: 0 | D29: =D24+D27+D28 -> 0 | E29: =E24+E27+E28 -> 0 | F29: 0
A30: B401 | B30: Készletek értékesítées
A31: B402 | B31: Szolgáltatások ellenértéke
A32: B403 | B32: Közvetített szolgáltatások ellenértéke
A33: B404 | B33: Tulajdonosi bevételek
A34: B405 | B34: Ellátási díjak
A35: B406 | B35: Kiszámlázott általános forgalmi adó
A36: B407 | B36: Általános forgalmi adó visszatérítése
A37: B408 | B37: Kamatbevételek és más nyereségjellegű bevételek | C37: 69364 | E37: 12969 | F37: 25549
A38: B409 | B38: Egyéb pénzügyi műveletek bevételei
A39: B410 | B39: Biztosító által fizetett kártérítés
A40: B411 | B40: Egyéb működési bevételek | C40: 324885
A41: B4 | B41: Működési bevételek | C41: =SUM(C32:C40) -> 394249 | D41: =D31+D32+D33+D34+D36+D35+D37+D38+D39+D40 -> 0 | E41: =E31+E32+E33+E34+E36+E35+E37+E38+E39+E40 -> 12969 | F41: =F31+F32+F33+F34+F36+F35+F37+F38+F39+F40 -> 25549
A42: B51 | B42: Immateriális javak értékesítése
A43: B52 | B43: Ingatlanok értékesítése
A44: B53 | B44: Egyéb tárgyi eszközök értékesítése
A45: B54 | B45: Részesedések értékesítése
A46: B55 | B46: Részesedések megszűnéséhez kapcsolódó bevételek
A47: B5 | B47: Felhalmozási bevételek | C47: 0 | D47: =D42+D43+D44+D45+D46 -> 0 | E47: =E42+E43+E44+E45+E46 -> 0 | F47: 0
A48: B61 | B48: Működési célú garancia- és kezességvállalásból származó megtérülések államháztartáson kívülről
A49: B62 | B49: Működési célú visszatérítendő támogatások, kölcsönök visszatérülése az Európai Uniótól
A50: B63 | B50: Működési célú visszatérítendő támogatások, kölcsönök visszatérülése kormányoktól és más nemzetközi szervezetektől
A51: B64 | B51: Működési célú visszatérítendő támogatások, kölcsönök visszatérülése államháztartáson kívülről
A52: B65 | B52: Egyéb működési célú átvett pénzeszközök
A53: B6 | B53: Működési célú átvett pénzeszközök | C53: 0 | D53: =D48+D49+D50+D51+D52 -> 0 | E53: =E48+E49+E50+E51+E52 -> 0 | F53: 0
A54: B71 | B54: Felhalmozási célú garancia- és kezességvállalásból származó megtérülések államháztartáson kívülről
A55: B72 | B55: Felhalmozási célú visszatérítendő támogatások, kölcsönök visszatérülése az Európai Uniótól
A56: B73 | B56: Felhalmozási célú visszatérítendő támogatások, kölcsönök visszatérülése kormányoktól és más nemzetközi szervezetektől
A57: B74 | B57: Felhalmozási célú visszatérítendő támogatások, kölcsönök visszatérülése államháztartáson kívülről
A58: B75 | B58: Egyéb felhalmozási célú átvett pénzeszközök
A59: B7 | B59: Felhalmozási célú átvett pénzeszközök | C59: 0 | D59: =D54+D55+D56+D57+D58 -> 0 | E59: =E54+E55+E56+E57+E58 -> 0 | F59: 0
B60: Költségvetési bevételek | C60: =SUM(C59,C53,C47,C41,C29,C23,C16) -> 394249 | D60: =D16+D23+D29+D41+D47+D59+D53 -> 0 | E60: =E16+E23+E29+E41+E47+E59+E53 -> 12969 | F60: =F16+F23+F29+F41+F47+F59+F53 -> 25549
A61: B8131 | B61: Előző év költségvetési maradványának igénybevétele | C61: 2479201 | D61: 1500000 | E61: 1974014 | F61: 1974014 | G61: =F61/E61 -> 1
A62: B813 | B62: Maradvány igénybevétele | C62: 2479201 | D62: 1500000 | E62: 1974014 | F62: 1974014 | G62: =F62/E62 -> 1
A63: B814 | B63: Államháztartáson belüli megelőlegezések
A64: B816 | B64: Központi, irányító szervi támogatás | C64: 97327724 | D64: 113690000 | E64: 120249243 | F64: 58721839 | G64: =F64/E64 -> 0.48833438
A65: B81 | B65: Belföldi finanszírozás bevételei | C65: =SUM(C62:C64) -> 99806925 | D65: =D63+D64 -> 113690000 | E65: =E64 -> 120249243 | F65: =F64 -> 58721839 | G65: =F65/E65 -> 0.48833438
B66: Finanszírozási bevételek | C66: =C65 -> 99806925 | D66: =D62+D65 -> 115190000 | E66: =E62+E65 -> 122223257 | F66: =F62+F65 -> 60695853 | G66: =F66/E66 -> 0.49659823
B67: Bevételek mindösszesen | C67: =SUM(C60,C66) -> 100201174 | D67: =D60+D66 -> 115190000 | E67: =E60+E66 -> 122236226 | F67: =F60+F66 -> 60721402 | G67: =F67/E67 -> 0.49675455
A69: Rovat | B69: Kék Bagoly Bölcsőde | C69: 2025. évi teljesítés | D69: 2026. évi terv | E69: 2026. évi I. módosítás | F69: Teljesítés | G69: Teljesítés %
A70: K1 | B70: Személyi juttatások | C70: 80881614 | D70: 94380000 | E70: 99352400 | F70: 47776522 | G70: =F70/E70 -> 0.48087939
A71: K2 | B71: Munkaadókat terhelő járulékok | C71: 10869118 | D71: 12600000 | E71: 14019812 | F71: 7050775 | G71: =F71/E71 -> 0.50291509
A72: K3 | B72: Dologi kiadások | C72: 5602888 | D72: 7000000 | E72: 7474014 | F72: 2847975 | G72: =F72/E72 -> 0.38105026
A73: K4 | B73: Ellátottak személyi juttatásai
A74: K5021 | B74: A helyi önkormányzatok előző évi elszámolásából származó kiadások
A75: K5022 | B75: A helyi önkormányzatok törvényi előíráson alapuló befizetései
A76: K502 | B76: Elvonások és befizetések | D76: =D74+D75 -> 0 | E76: 0 | F76: 0
A77: K506 | B77: Egyéb működési célú támogatáok államháztartáson belülre
A78: K512 | B78: Egyéb működési célú támogatások államháztartáson kívülre
B79: Általános tartalék
B80: Céltartalék
A81: K513 | B81: Tartalékok | D81: =D79+D80 -> 0 | E81: 0 | F81: 0
A82: K5 | B82: Egyéb működési célú kiadások | C82: 0 | D82: =D76+D77+D78+D81 -> 0 | E82: 0 | F82: 0
A83: K6 | B83: Beruházások | C83: 873540 | D83: 1210000 | E83: 1210000 | F83: 358140 | G83: =F83/E83 -> 0.29598347 | K83: Egyéb tárgyi eszköz beszerzése | L83: =L84+L85+L86+L87+L88+L89+L90 -> 1059000
B84: ebből EU-s forrásból megvalósuló beruházás | C84: 0 | K84: Mennyezeti karnis | L84: 48000
A85: K7 | B85: Felújítások | K85: Sötétítő függöny | L85: 158000
B86: ebből EU-s forrásból megvalósuló felújítás | K86: 2 db LAPTOP | L86: 600000
A87: K82 | B87: Felhalmozási célú visszatérítendő támgoatások, kölcsönök nyújtása államháztartáson belül | K87: Gyermek étkészlet | L87: 79000
A88: K84 | B88: Egyéb felhalmozási célú támogatások államháztartáson belülre | K88: Faliújság | L88: 24000
A89: K86 | B89: Felhalmozási célú visszatérítendő támgoatások, kölcsönök nyújtása államháztartáson kívül | K89: Udvari játék | L89: 0
A90: K89 | B90: Egyéb felhamozási célú támogatások államháztartáson kívülre | K90: Egyéb tárgyi eszköz beszerzése | L90: 150000
A91: K8 | B91: Egyéb felhalmozási célő kiadások | K91: Beruházási célú előzetesen felszámított általános forgalmi adó | L91: =L83*0.27+70+2000 -> 288000
B92: Költségvetési kiadások | C92: =SUM(C70:C72,C83) -> 98227160 | D92: =D70+D71+D72+D73+D82+D83+D85+D91+D95 -> 115190000 | E92: =E70+E71+E72+E73+E82+E83+E85+E91+E95 -> 122056226 | F92: =F70+F71+F72+F73+F82+F83+F85+F91+F95 -> 58033412 | G92: =F92/E92 -> 0.47546458 | K92: K6 mindösszesen | L92: =L83+L91 -> 1347000
A93: K914 | B93: Államháztartáson belüli megelőlegezések visszafizetése
A94: K915 | B94: Központi, irányító szervi támgoatások folyosítása
A95: K91 | B95: Belföldi finanszírozási kiadások | C95: 0 | D95: =D93+D94 -> 0 | E95: 0 | F95: 0
B96: Finanszírozási kiadások | C96: 0 | D96: =D95 -> 0 | E96: 0 | F96: 0
B97: Kiadások mindösszesen | C97: =SUM(C92,C96) -> 98227160 | D97: =D92+D96 -> 115190000 | E97: =E92+E96 -> 122056226 | F97: =F92+F96 -> 58033412 | G97: =F97/E97 -> 0.47546458
C98: =C97-C67 -> -1974014 | D98: =D97-D67 -> 0 | E98: =E97-E67 -> -180000 | F98: =F97-F67 -> -2687990

Sheet Óvoda
A1: Rovat | B1: Jánossomorjai Aranykapu Óvoda | C1: 2025. évi teljesítés | D1: 2026. évi terv | E1: 2026. évi I. módosítás | F1: Teljesítés | G1: Teljesítés %
A2: B111 | B2: Helyi önkormányzatok működésének általános támogatása | C2: 0
A3: B112 | B3: Települési önkormányzatok egyes köznevelési feladatainak támogatása
A4: B1131 | B4: Települési önkormányzatok egyes szociális és gyermekjóléti feladatainak támogatása
A5: B1132 | B5: Települési önkormányzatok gyermekétkeztetési feladatainak támogatása
A6: B113 | B6: Települési önkormányzatok szociális gyermekjóléti és gyermekétkeztetési feladatainak támogatása | C6: 0 | D6: =D4+D5 -> 0 | E6: 0 | F6: 0
A7: B114 | B7: Települési önkormányzatok kulturális feladatainak támogatása
A8: B115 | B8: Működési célú költségvetési támogatások és kiegészítő támogatások
A9: B116 | B9: Elszámolásból származó bevételek
A10: B11 | B10: Önkormányzatok működési támogatásai | C10: 0 | D10: =D2+D3+D6+D7+D8+D9 -> 0 | E10: =E2+E3+E6+E7+E8+E9 -> 0 | F10: 0
A11: B12 | B11: Elvonások és befizetések bevételei
A12: B13 | B12: Működési célú garancia- és kezességvállalásból származó megtérülések államháztartáson belülről
A13: B14 | B13: Működési célú visszatérítendő támogatások, kölcsönök visszatérülése államháztartáson belülről
A14: B15 | B14: Működési célú visszatérítendő támogatások, kölcsönök igénybevétele államháztartáson belülről
A15: B16 | B15: Egyéb működési célú támogatások bevételei államháztartáson belülről
A16: B1 | B16: Működési célú támogatások államháztartáson belülről | C16: 0 | D16: =D10+D11+D12+D13+D14+D15 -> 0 | E16: =E10+E11+E12+E13+E14+E15 -> 0 | F16: 0
A17: B21 | B17: Felhalmozási célú önkormányzati támogatások
A18: B22 | B18: Felhalmozási célú garancia- és kezességvállalásból származó megtérülések államháztartáson belülről
A19: B23 | B19: Felhalmozási célú visszatérítendő támogatások, kölcsönök visszatérülése államháztartáson belülről
A20: B24 | B20: Felhalmozási célú visszatérítendő támogatások, kölcsönök igénybevétele államháztartáson belülről
A21: B25 | B21: Egyéb felhalmozási célú támogatások bevételei államháztartáson belülről
B22: EU-s támogatás
A23: B2 | B23: Felhalmozási célú támogatások államháztartáson belülről | C23: 0 | D23: =D17+D18+D19+D20+D21 -> 0 | E23: =E17+E18+E19+E20+E21 -> 0 | F23: 0
A24: B34 | B24: Vagyoni típusú adók
A25: B351 | B25: Értékesítési és forgalmi adók
A26: B355 | B26: Egyéb áruhasználati és szolgáltatási adók
A27: B35 | B27: Termékek és szolgáltatások adói | C27: 0 | D27: =D25+D26 -> 0 | E27: 0 | F27: 0
A28: B36 | B28: Egyéb közhatalmi bevételek
A29: B3 | B29: Közhatalmi bevételek | C29: 0 | D29: =D24+D27+D28 -> 0 | E29: =E24+E27+E28 -> 0 | F29: 0
A30: B401 | B30: Készletek értékesítése
A31: B402 | B31: Szolgáltatások ellenértéke
A32: B403 | B32: Közvetített szolgáltatások ellenértéke
A33: B404 | B33: Tulajdonosi bevételek
A34: B405 | B34: Ellátási díjak
A35: B406 | B35: Kiszámlázott általános forgalmi adó
A36: B407 | B36: Általános forgalmi adó visszatérítése
A37: B408 | B37: Kamatbevételek és más nyereségjellegű bevételek | C37: 77768 | E37: 20535 | F37: 46345
A38: B409 | B38: Egyéb pénzügyi műveletek bevételei
A39: B410 | B39: Biztosító által fizetett kártérítés
A40: B411 | B40: Egyéb működési bevételek | C40: 5
A41: B4 | B41: Működési bevételek | C41: 77773 | D41: =D31+D32+D33+D34+D36+D35+D37+D38+D39+D40 -> 0 | E41: =E31+E32+E33+E34+E36+E35+E37+E38+E39+E40 -> 20535 | F41: =F31+F32+F33+F34+F36+F35+F37+F38+F39+F40 -> 46345
A42: B51 | B42: Immateriális javak értékesítése
A43: B52 | B43: Ingatlanok értékesítése
A44: B53 | B44: Egyéb tárgyi eszközök értékesítése
A45: B54 | B45: Részesedések értékesítése
A46: B55 | B46: Részesedések megszűnéséhez kapcsolódó bevételek
A47: B5 | B47: Felhalmozási bevételek | C47: 0 | D47: =D42+D43+D44+D45+D46 -> 0 | E47: =E42+E43+E44+E45+E46 -> 0 | F47: 0
A48: B61 | B48: Működési célú garancia- és kezességvállalásból származó megtérülések államháztartáson kívülről
A49: B62 | B49: Működési célú visszatérítendő támogatások, kölcsönök visszatérülése az Európai Uniótól
A50: B63 | B50: Működési célú visszatérítendő támogatások, kölcsönök visszatérülése kormányoktól és más nemzetközi szervezetektől
A51: B64 | B51: Működési célú visszatérítendő támogatások, kölcsönök visszatérülése államháztartáson kívülről
A52: B65 | B52: Egyéb működési célú átvett pénzeszközök
A53: B6 | B53: Működési célú átvett pénzeszközök | C53: 0 | D53: =D48+D49+D50+D51+D52 -> 0 | E53: =E48+E49+E50+E51+E52 -> 0 | F53: 0
A54: B71 | B54: Felhalmozási célú garancia- és kezességvállalásból származó megtérülések államháztartáson kívülről
A55: B72 | B55: Felhalmozási célú visszatérítendő támogatások, kölcsönök visszatérülése az Európai Uniótól
A56: B73 | B56: Felhalmozási célú visszatérítendő támogatások, kölcsönök visszatérülése kormányoktól és más nemzetközi szervezetektől
A57: B74 | B57: Felhalmozási célú visszatérítendő támogatások, kölcsönök visszatérülése államháztartáson kívülről
A58: B75 | B58: Egyéb felhalmozási célú átvett pénzeszközök
A59: B7 | B59: Felhalmozási célú átvett pénzeszközök | C59: 0 | D59: =D54+D55+D56+D57+D58 -> 0 | E59: =E54+E55+E56+E57+E58 -> 0 | F59: 0
B60: Költségvetési bevételek | C60: 77773 | D60: =D16+D23+D29+D41+D47+D59+D53 -> 0 | E60: =E16+E23+E29+E41+E47+E59+E53 -> 20535 | F60: =F16+F23+F29+F41+F47+F59+F53 -> 46345
A61: B8131 | B61: Előző év költségvetési maradványának igénybevétele | C61: 1557085 | D61: 2000000 | E61: 2255409 | F61: 2255409 | G61: =F61/E61 -> 1
A62: B813 | B62: Maradvány igénybevétele | C62: 1557085 | D62: 2000000 | E62: 2255409 | F62: 2255409 | G62: =F62/E62 -> 1
A63: B814 | B63: Államháztartáson belüli megelőlegezések
A64: B816 | B64: Központi, irányító szervi támogatás | C64: 384765110 | D64: 461436000 | E64: 477556145 | F64: 218015675 | G64: =F64/E64 -> 0.45652365
A65: B81 | B65: Belföldi finanszírozás bevételei | C65: 386322195 | D65: =D63+D64 -> 461436000 | E65: =SUM(E64,E62) -> 479811554 | F65: =F64 -> 218015675 | G65: =F65/E65 -> 0.45437771
B66: Finanszírozási bevételek | C66: =SUM(C62:C64) -> 386322195 | D66: =D62+D65 -> 463436000 | E66: =E62+E65 -> 482066963 | F66: =F62+F65 -> 220271084 | G66: =F66/E66 -> 0.45693047
B67: Bevételek mindösszesen | C67: =SUM(C66,C60) -> 386399968 | D67: =D60+D66 -> 463436000 | E67: =E60+E66 -> 482087498 | F67: =F60+F66 -> 220317429 | G67: =F67/E67 -> 0.45700714
A69: Rovat | B69: Jánossomorjai Aranykapu Óvoda | C69: 2025. évi teljesítés | D69: 2026. évi terv | E69: 2026. évi I. módosítás | F69: Teljesítés | G69: Teljesítés %
A70: K1 | B70: Személyi juttatások | C70: 300777387 | D70: 371654000 | E70: 384603234 | F70: 175446449 | G70: =F70/E70 -> 0.45617518
A71: K2 | B71: Munkaadókat terhelő járulékok | C71: 46499845 | D71: 52400000 | E71: 55591446 | F71: 24760070 | G71: =F71/E71 -> 0.44539352
A72: K3 | B72: Dologi kiadások | C72: 31673103 | D72: 37350000 | E72: 37605409 | F72: 15571744 | G72: =F72/E72 -> 0.41408256
A73: K4 | B73: Ellátottak személyi juttatásai
A74: K5021 | B74: A helyi önkormányzatok előző évi elszámolásából származó kiadások
A75: K5022 | B75: A helyi önkormányzatok törvényi előíráson alapuló befizetései
A76: K502 | B76: Elvonások és befizetések | C76: 0 | D76: =D74+D75 -> 0 | E76: 0 | F76: 0
A77: K506 | B77: Egyéb működési célú támogatáok államháztartáson belülre
A78: K512 | B78: Egyéb működési célú támogatások államháztartáson kívülre
B79: Általános tartalék
B80: Céltartalék
A81: K513 | B81: Tartalékok | C81: 0 | D81: =D79+D80 -> 0 | E81: 0 | F81: 0
A82: K5 | B82: Egyéb működési célú kiadások | C82: 0 | D82: =D76+D77+D78+D81 -> 0 | E82: 0 | F82: 0
A83: K6 | B83: Beruházások | C83: 5194224 | D83: 2032000 | E83: 2032000 | F83: 767026 | G83: =F83/E83 -> 0.37747343
B84: ebből EU-s forrásból megvalósuló beruházás
A85: K7 | B85: Felújítások | C85: 0
B86: ebből EU-s forrásból megvalósuló felújítás
A87: K82 | B87: Felhalmozási célú visszatérítendő támgoatások, kölcsönök nyújtása államháztartáson belül
A88: K84 | B88: Egyéb felhalmozási célú támogatások államháztartáson belülre
A89: K86 | B89: Felhalmozási célú visszatérítendő támgoatások, kölcsönök nyújtása államháztartáson kívül
A90: K89 | B90: Egyéb felhamozási célú támogatások államháztartáson kívülre
A91: K8 | B91: Egyéb felhalmozási célő kiadások
B92: Költségvetési kiadások | C92: =SUM(C91,C85,C83,C82,C70,C71,C72,C73) -> 384144559 | D92: =D70+D71+D72+D73+D82+D83+D85+D91+D95 -> 463436000 | E92: =E70+E71+E72+E73+E82+E83+E85+E91+E95 -> 479832089 | F92: =F70+F71+F72+F73+F82+F83+F85+F91+F95 -> 216545289 | G92: =F92/E92 -> 0.45129389
A93: K914 | B93: Államháztartáson belüli megelőlegezések visszafizetése
A94: K915 | B94: Központi, irányító szervi támgoatások folyosítása
A95: K91 | B95: Belföldi finanszírozási kiadások | C95: 0 | D95: =D93+D94 -> 0 | E95: 0 | F95: 0
B96: Finanszírozási kiadások | C96: 0 | D96: =D95 -> 0 | E96: 0 | F96: 0
B97: Kiadások mindösszesen | C97: =SUM(C92,C96) -> 384144559 | D97: =D92+D96 -> 463436000 | E97: =E92+E96 -> 479832089 | F97: =F92+F96 -> 216545289 | G97: =F97/E97 -> 0.45129389
C98: =C97-C67 -> -2255409 | D98: =D97-D67 -> 0 | E98: =E97-E67 -> -2255409 | F98: =F97-F67 -> -3772140

Sheet Beruházás, felújítás
A1: Önkormányzati beruházási, felújítási feladatok 2026. terv | B1: Előirányzat | D1: Módosított előirányzat | F1: Teljesítés
B2: Beruházás | C2: Felújítás | D2: Beruházás | E2: Felújítás | F2: Beruházás | G2: Felújítás
A3: Bérlakások felújítása | C3: 30000000 | E3: 30000000
A4: Belterületi útépítés | B4: 17000000 | D4: 17000000
A5: Telekkialakítások | B5: 10000000 | D5: 10000000
A6: Járda felújítás | C6: 18000000 | E6: 22000000
A7: Játszótéri eszközök bővítésa | B7: 5000000 | D7: 5000000 | F7: 484140
A8: Temetők felújítása | C8: 3000000 | E8: 3000000
A9: Iskola felújítások( iskolarádió beszerelés) | C9: 3000000 | E9: 3000000 | F9: 1206030
A10: Közvilágítás bővítés | B10: 8000000 | D10: 8000000
A11: Hanságliget Közösségi ház felújítás | C11: 3000000 | E11: 3000000
A12: Mária szobor körüli parkoló rekonstrukció | C12: 20000000 | E12: 20000000 | G12: 1650120
A13: Ingatlan vásárlás | B13: 6000000 | D13: 6000000
A14: Okoszebra kialakítása a Hármashalomnál | B14: 4000000 | D14: 4000000
A15: Közterületi kamerarendszer bővítésa | B15: 1000000 | D15: 1000000
A16: Idősek otthona pavilin építése | B16: 5000000 | D16: 5000000
A17: Uszoda medenceborító fólia cseréje | C17: 15000000 | E17: 10000000
A18: Jánossomorjai Óvoda melletti út felújítása, fedett beálló kialakítása | B18: 15000000 | D18: 15000000
A19: Bajcsy-zsilinszky utca gyalogátkelő kialakítása | B19: 15000000 | D19: 15000000
A20: Malom épület | D20: 181402 | F20: 181402
A21: Malom utcai játszótér.kerítés készítése
A22: Beszerzések
A23: Számítógép és egyéb informatikai, kommunikácíós eszközök | B23: 4000000 | D23: 4000000 | F23: 614890
A24: Gépbeszerzés | B24: 23000000 | D24: 23000000 | F24: 6636141
A25: Egyéb tárgyi eszöz beszerzés:Okospad a Lókert ifjusági parkban, Városháza pince konyhabútor, városháza klimatizálás kiépítése | B25: 15000000 | D25: 18500000 | F25: 367050
A26: Aranykapu Óvoda
A27: Játszótéri eszközök | B27: 25000000 | D27: 25000000 | F27: 21319592
A29: Kék Bagoly bölcsőde
A30: Felújítási munkák | B30: 2000000 | C30: 1000000 | D30: 2000000 | E30: 1000000
A32: Művelődési Ház
A33: Udvari raktár kialakítása, felső iroda laminált padló felújítása | B33: 1000000 | C33: 250000 | D33: 1000000 | E33: 250000
A35: Összesen: | B35: =SUM(B3:B34) -> 156000000 | C35: =SUM(C3:C34) -> 93250000 | D35: =SUM(D3:D34) -> 159681402 | E35: =SUM(E3:E34) -> 92250000 | F35: =SUM(F3:F34) -> 30809245 | G35: =SUM(G3:G34) -> 1650120
B36: =B35+C35 -> 249250000 | D36: =D35+E35 -> 251931402 | F36: =F35+G35 -> 32459365

Sheet Működési, felhalmozási kiadások
A1: Rovat | B1: Egyéb működési, és felhalmozási célú kiadások | C1: 2026. évi terv | D1: 2026. évi módosított előirányzat | E1: Teljesítés
A4: K502 | B4: Elvonások és befizetések | C4: 390806954 | D4: 390806954 | E4: 195403477
B5: Előző évi elszámolásból származó kiadás | C5: 0
B6: Szolidaritási hozzájárulás | C6: 390806954 | D6: 390806954 | E6: 195403477
A7: K506 | B7: Egyéb működési célú támogatások ÁH-n belülre | C7: 74969000 | D7: 82969000 | E7: =SUM(E8:E17) -> 61916385
B8: KESZI | C8: 40500000 | D8: 40500000 | E8: 31814560
B9: Rendőrök, tűzoltók jutalom | C9: 1000000 | D9: 1000000 | E9: 900000
B10: KLIK pénzeszköz átadás jutalomra+tanulmányi kirándulás | C10: 5300000 | D10: 5300000 | E10: 5300000
B11: Mosonmagyaróvári Vizitársulat | C11: 360000 | D11: 360000
B12: Jánossomorja Kultúráért Közalapítvány | C12: 11269000 | D12: 19269000 | E12: 19269000
B13: Mosonmagyaróvári Nagytérségi Hulladékgazdálkodási Önkormányzati Társulás | C13: 810000 | D13: 810000 | E13: 0
B14: Magyar Önkormányzatok Szövetksége | C14: 70000 | D14: 70000 | E14: 90315
B15: Települési Önkomrányzatok Szövetsége | C15: 160000 | D15: 160000 | E15: 183630
B16: Karolina Kórház (labor,masszőr,fizikó) | C16: 13500000 | D16: 13500000 | E16: 3383880
B17: Bursa Hungarica ösztöndíj pályázat | C17: 2000000 | D17: 2000000 | E17: 975000
A18: K512 | B18: Egyéb működési célú támogatások ÁH-n kívülre | C18: =SUM(C19:C22) -> 38049000 | D18: 38049000 | E18: =SUM(E19:E22) -> 24392496
B19: Újszülettek támogatása (Babakötvény) | C19: 3000000 | D19: 3000000 | E19: 600000
B20: Civil szerevezetek támogatása polgármesteri keret | C20: 2000000 | D20: 2000000 | E20: 1539216
B21: Civil szervezetek támogatás (Hospice is benne van 4M Ft-al) | C21: 32499000 | D21: 32499000 | E21: 22049000
B22: Elsősegély támogatás | C22: 550000 | D22: 550000 | E22: 204280
A23: K513 | B23: Tartalékok | C23: 143215675 | D23: 167966382 | E23: =E24+E25 -> 0
B24: Általános tartalék | C24: 63215675 | D24: 87966382
B25: Céltartalék | C25: 80000000 | D25: 80000000
A27: K5 | B27: EGYÉB MŰKÖDÉSI CÉLÚ KIADÁSOK | C27: =C4+C7+C18+C23 -> 647040629 | D27: =D4+D7+D18+D23 -> 679791336 | E27: =E4+E7+E18+E23 -> 281712358
A28: K83 | B28: Felhalmozási célú visszatérítendő támogatások, kölcsönök törlesztése ÁH-n belülre
B29: Iskola energetika
A30: K89 | B30: Egyéb felhalmozási célú támogatások ÁH-n kívülre | C30: 9412000 | D30: 9412000
B31: Aqua(kicserélik a vízvezetékeket, csöveket útépítés előtt)
B32: Egyházak | C32: 9412000 | D32: 9412000
A33: K8 | B33: EGYÉB FELHALMOZÁCI CÉLÚ TÁMOGATÁSOK ÁH-N KÍVÜLRE | C33: =C30+C28 -> 9412000 | D33: =D30+D28 -> 9412000 | E33: =E30+E28 -> 0
