Workbook

Sheet Globál
B1: Bevételek mindösszesen | C1: 2025. évi teljesítés | D1: 2026. évi terv | E1: 2026. évi módosított előirányzat | F1: 2026. évi teljesítés | G1: Önkormányzat | H1: 2026. évi módosított előirányzat | I1: 2026. évi teljesítés | J1: VÜMESZ | K1: 2026. évi módosított előirányzat | L1: 2026. évi teljesítés | M1: Hivatal | N1: 2026. évi módosított előirányzat | O1: 2026. évi teljesítés | P1: Művelődési Ház | Q1: 2026. évi módosított előirányzat | R1: 2026. évi teljesítés | S1: Bölcsőde | T1: 2026. évi módosított előirányzat | U1: 2026. évi teljesítés | V1: Óvoda | W1: 2026. évi módosított előirányzat | X1: 2026. évi teljesítés
A2: B111 | B2: Helyi önkormányzatok működésének általános támogatása | C2: =Önkormányzat!C2+VÜMESZ!C2+Hivatal!C2+'Művelődési ház'!C2+Bölcsőde!C2+Óvoda!C2 -> 255759558 | D2: =G2+J2+M2+P2+S2+V2 -> 302029313 | E2: =H2+K2+N2+Q2+T2+W2 -> 302029313 | F2: =I2+L2+O2+R2+U2+X2 -> 158317875 | G2: =Önkormányzat!D2 -> 302029313 | H2: =Önkormányzat!E2 -> 302029313 | I2: =Önkormányzat!F2 -> 158317875 | J2: =VÜMESZ!D2 -> 0 | K2: =VÜMESZ!E2 -> 0 | L2: =VÜMESZ!F2 -> 0 | M2: =Hivatal!D2 -> 0 | N2: =Hivatal!E2 -> 0 | O2: =Hivatal!F2 -> 0 | P2: ='Művelődési ház'!D2 -> 0 | Q2: ='Művelődési ház'!E2 -> 0 | R2: ='Művelődési ház'!F2 -> 0 | S2: =Bölcsőde!D2 -> 0 | T2: =Bölcsőde!E2 -> 0 | U2: =Bölcsőde!F2 -> 0 | V2: =Óvoda!D2 -> 0 | W2: =Óvoda!E2 -> 0 | X2: =Óvoda!F2 -> 0
A3: B112 | B3: Települési önkormányzatok egyes köznevelési feladatainak támogatása | C3: =Önkormányzat!C3+VÜMESZ!C3+Hivatal!C3+'Művelődési ház'!C3+Bölcsőde!C3+Óvoda!C3 -> 319495926 | D3: =G3+J3+M3+P3+S3+V3 -> 335940044 | E3: =H3+K3+N3+Q3+T3+W3 -> 339212072 | F3: =I3+L3+O3+R3+U3+X3 -> 177960859 | G3: =Önkormányzat!D3 -> 335940044 | H3: =Önkormányzat!E3 -> 339212072 | I3: =Önkormányzat!F3 -> 177960859 | J3: =VÜMESZ!D3 -> 0 | K3: =VÜMESZ!E3 -> 0 | L3: =VÜMESZ!F3 -> 0 | M3: =Hivatal!D3 -> 0 | N3: =Hivatal!E3 -> 0 | O3: =Hivatal!F3 -> 0 | P3: ='Művelődési ház'!D3 -> 0 | Q3: ='Művelődési ház'!E3 -> 0 | R3: ='Művelődési ház'!F3 -> 0 | S3: =Bölcsőde!D3 -> 0 | T3: =Bölcsőde!E3 -> 0 | U3: =Bölcsőde!F3 -> 0 | V3: =Óvoda!D3 -> 0 | W3: =Óvoda!E3 -> 0 | X3: =Óvoda!F3 -> 0
A4: B1131 | B4: Települési önkormányzatok egyes szociális és gyermekjóléti feladatainak támogatása | C4: =Önkormányzat!C4+VÜMESZ!C4+Hivatal!C4+'Művelődési ház'!C4+Bölcsőde!C4+Óvoda!C4 -> 78959000 | D4: =G4+J4+M4+P4+S4+V4 -> 87642800 | E4: =H4+K4+N4+Q4+T4+W4 -> 87642800 | F4: =I4+L4+O4+R4+U4+X4 -> 45574256 | G4: =Önkormányzat!D4 -> 87642800 | H4: =Önkormányzat!E4 -> 87642800 | I4: =Önkormányzat!F4 -> 45574256 | J4: =VÜMESZ!D4 -> 0 | K4: =VÜMESZ!E4 -> 0 | L4: =VÜMESZ!F4 -> 0 | M4: =Hivatal!D4 -> 0 | N4: =Hivatal!E4 -> 0 | O4: =Hivatal!F4 -> 0 | P4: ='Művelődési ház'!D4 -> 0 | Q4: ='Művelődési ház'!E4 -> 0 | R4: ='Művelődési ház'!F4 -> 0 | S4: =Bölcsőde!D4 -> 0 | T4: =Bölcsőde!E4 -> 0 | U4: =Bölcsőde!F4 -> 0 | V4: =Óvoda!D4 -> 0 | W4: =Óvoda!E4 -> 0 | X4: =Óvoda!F4 -> 0
A5: B1132 | B5: Települési önkormányzatok gyermekétkeztetési feladatainak támogatása | C5: =Önkormányzat!C5+VÜMESZ!C5+Hivatal!C5+'Művelődési ház'!C5+Bölcsőde!C5+Óvoda!C5 -> 84899997 | D5: =G5+J5+M5+P5+S5+V5 -> 81100868 | E5: =H5+K5+N5+Q5+T5+W5 -> 81100868 | F5: =I5+L5+O5+R5+U5+X5 -> 42172449 | G5: =Önkormányzat!D5 -> 81100868 | H5: =Önkormányzat!E5 -> 81100868 | I5: =Önkormányzat!F5 -> 42172449 | J5: =VÜMESZ!D5 -> 0 | K5: =VÜMESZ!E5 -> 0 | L5: =VÜMESZ!F5 -> 0 | M5: =Hivatal!D5 -> 0 | N5: =Hivatal!E5 -> 0 | O5: =Hivatal!F5 -> 0 | P5: ='Művelődési ház'!D5 -> 0 | Q5: ='Művelődési ház'!E5 -> 0 | R5: ='Művelődési ház'!F5 -> 0 | S5: =Bölcsőde!D5 -> 0 | T5: =Bölcsőde!E5 -> 0 | U5: =Bölcsőde!F5 -> 0 | V5: =Óvoda!D5 -> 0 | W5: =Óvoda!E5 -> 0 | X5: =Óvoda!F5 -> 0
A6: B113 | B6: Települési önkormányzatok szociális gyermekjóléti és gyermekétkeztetési feladatainak támogatása | C6: =Önkormányzat!C6+VÜMESZ!C6+Hivatal!C6+'Művelődési ház'!C6+Bölcsőde!C6+Óvoda!C6 -> 163858997 | D6: =G6+J6+M6+P6+S6+V6 -> 168743668 | E6: =H6+K6+N6+Q6+T6+W6 -> 168743668 | F6: =I6+L6+O6+R6+U6+X6 -> 87746705 | G6: =Önkormányzat!D6 -> 168743668 | H6: =Önkormányzat!E6 -> 168743668 | I6: =Önkormányzat!F6 -> 87746705 | J6: =VÜMESZ!D6 -> 0 | K6: =VÜMESZ!E6 -> 0 | L6: =VÜMESZ!F6 -> 0 | M6: =Hivatal!D6 -> 0 | N6: =Hivatal!E6 -> 0 | O6: =Hivatal!F6 -> 0 | P6: ='Művelődési ház'!D6 -> 0 | Q6: ='Művelődési ház'!E6 -> 0 | R6: ='Művelődési ház'!F6 -> 0 | S6: =Bölcsőde!D6 -> 0 | T6: =Bölcsőde!E6 -> 0 | U6: =Bölcsőde!F6 -> 0 | V6: =Óvoda!D6 -> 0 | W6: =Óvoda!E6 -> 0 | X6: =Óvoda!F6 -> 0
A7: B114 | B7: Települési önkormányzatok kulturális feladatainak támogatása | C7: =Önkormányzat!C7+VÜMESZ!C7+Hivatal!C7+'Művelődési ház'!C7+Bölcsőde!C7+Óvoda!C7 -> 24306025 | D7: =G7+J7+M7+P7+S7+V7 -> 31237163 | E7: =H7+K7+N7+Q7+T7+W7 -> 31237163 | F7: =I7+L7+O7+R7+U7+X7 -> 16243325 | G7: =Önkormányzat!D7 -> 31237163 | H7: =Önkormányzat!E7 -> 31237163 | I7: =Önkormányzat!F7 -> 16243325 | J7: =VÜMESZ!D7 -> 0 | K7: =VÜMESZ!E7 -> 0 | L7: =VÜMESZ!F7 -> 0 | M7: =Hivatal!D7 -> 0 | N7: =Hivatal!E7 -> 0 | O7: =Hivatal!F7 -> 0 | P7: ='Művelődési ház'!D7 -> 0 | Q7: ='Művelődési ház'!E7 -> 0 | R7: ='Művelődési ház'!F7 -> 0 | S7: =Bölcsőde!D7 -> 0 | T7: =Bölcsőde!E7 -> 0 | U7: =Bölcsőde!F7 -> 0 | V7: =Óvoda!D7 -> 0 | W7: =Óvoda!E7 -> 0 | X7: =Óvoda!F7 -> 0
A8: B115 | B8: Működési célú költségvetési támogatások és kiegészítő támogatások | C8: =Önkormányzat!C8+VÜMESZ!C8+Hivatal!C8+'Művelődési ház'!C8+Bölcsőde!C8+Óvoda!C8 -> 0 | D8: =G8+J8+M8+P8+S8+V8 -> 0 | E8: =H8+K8+N8+Q8+T8+W8 -> 0 | F8: =I8+L8+O8+R8+U8+X8 -> 0 | G8: =Önkormányzat!D8 -> 0 | H8: =Önkormányzat!E8 -> 0 | I8: =Önkormányzat!F8 -> 0 | J8: =VÜMESZ!D8 -> 0 | K8: =VÜMESZ!E8 -> 0 | L8: =VÜMESZ!F8 -> 0 | M8: =Hivatal!D8 -> 0 | N8: =Hivatal!E8 -> 0 | O8: =Hivatal!F8 -> 0 | P8: ='Művelődési ház'!D8 -> 0 | Q8: ='Művelődési ház'!E8 -> 0 | R8: ='Művelődési ház'!F8 -> 0 | S8: =Bölcsőde!D8 -> 0 | T8: =Bölcsőde!E8 -> 0 | U8: =Bölcsőde!F8 -> 0 | V8: =Óvoda!D8 -> 0 | W8: =Óvoda!E8 -> 0 | X8: =Óvoda!F8 -> 0
A9: B116 | B9: Elszámolásból származó bevételek | C9: =Önkormányzat!C9+VÜMESZ!C9+Hivatal!C9+'Művelődési ház'!C9+Bölcsőde!C9+Óvoda!C9 -> 3888912 | D9: =G9+J9+M9+P9+S9+V9 -> 0 | E9: =H9+K9+N9+Q9+T9+W9 -> 2857316 | F9: =I9+L9+O9+R9+U9+X9 -> 2857316 | G9: =Önkormányzat!D9 -> 0 | H9: =Önkormányzat!E9 -> 2857316 | I9: =Önkormányzat!F9 -> 2857316 | J9: =VÜMESZ!D9 -> 0 | K9: =VÜMESZ!E9 -> 0 | L9: =VÜMESZ!F9 -> 0 | M9: =Hivatal!D9 -> 0 | N9: =Hivatal!E9 -> 0 | O9: =Hivatal!F9 -> 0 | P9: ='Művelődési ház'!D9 -> 0 | Q9: ='Művelődési ház'!E9 -> 0 | R9: ='Művelődési ház'!F9 -> 0 | S9: =Bölcsőde!D9 -> 0 | T9: =Bölcsőde!E9 -> 0 | U9: =Bölcsőde!F9 -> 0 | V9: =Óvoda!D9 -> 0 | W9: =Óvoda!E9 -> 0 | X9: =Óvoda!F9 -> 0
A10: B11 | B10: Önkormányzatok működési támogatásai | C10: =Önkormányzat!C10+VÜMESZ!C10+Hivatal!C10+'Művelődési ház'!C10+Bölcsőde!C10+Óvoda!C10 -> 767309418 | D10: =G10+J10+M10+P10+S10+V10 -> 837950188 | E10: =H10+K10+N10+Q10+T10+W10 -> 844079532 | F10: =I10+L10+O10+R10+U10+X10 -> 443126080 | G10: =Önkormányzat!D10 -> 837950188 | H10: =Önkormányzat!E10 -> 844079532 | I10: =Önkormányzat!F10 -> 443126080 | J10: =VÜMESZ!D10 -> 0 | K10: =VÜMESZ!E10 -> 0 | L10: =VÜMESZ!F10 -> 0 | M10: =Hivatal!D10 -> 0 | N10: =Hivatal!E10 -> 0 | O10: =Hivatal!F10 -> 0 | P10: ='Művelődési ház'!D10 -> 0 | Q10: ='Művelődési ház'!E10 -> 0 | R10: ='Művelődési ház'!F10 -> 0 | S10: =Bölcsőde!D10 -> 0 | T10: =Bölcsőde!E10 -> 0 | U10: =Bölcsőde!F10 -> 0 | V10: =Óvoda!D10 -> 0 | W10: =Óvoda!E10 -> 0 | X10: =Óvoda!F10 -> 0
A11: B12 | B11: Elvonások és befizetések bevételei | C11: =Önkormányzat!C11+VÜMESZ!C11+Hivatal!C11+'Művelődési ház'!C11+Bölcsőde!C11+Óvoda!C11 -> 0 | D11: =G11+J11+M11+P11+S11+V11 -> 0 | E11: =H11+K11+N11+Q11+T11+W11 -> 12555742 | F11: =I11+L11+O11+R11+U11+X11 -> 12555742 | G11: =Önkormányzat!D11 -> 0 | H11: =Önkormányzat!E11 -> 12555742 | I11: =Önkormányzat!F11 -> 12555742 | J11: =VÜMESZ!D11 -> 0 | K11: =VÜMESZ!E11 -> 0 | L11: =VÜMESZ!F11 -> 0 | M11: =Hivatal!D11 -> 0 | N11: =Hivatal!E11 -> 0 | O11: =Hivatal!F11 -> 0 | P11: ='Művelődési ház'!D11 -> 0 | Q11: ='Művelődési ház'!E11 -> 0 | R11: ='Művelődési ház'!F11 -> 0 | S11: =Bölcsőde!D11 -> 0 | T11: =Bölcsőde!E11 -> 0 | U11: =Bölcsőde!F11 -> 0 | V11: =Óvoda!D11 -> 0 | W11: =Óvoda!E11 -> 0 | X11: =Óvoda!F11 -> 0
A12: B13 | B12: Működési célú garancia- és kezességvállalásból származó megtérülések államháztartáson belülről | C12: =Önkormányzat!C12+VÜMESZ!C12+Hivatal!C12+'Művelődési ház'!C12+Bölcsőde!C12+Óvoda!C12 -> 0 | D12: =G12+J12+M12+P12+S12+V12 -> 0 | E12: =H12+K12+N12+Q12+T12+W12 -> 0 | F12: =I12+L12+O12+R12+U12+X12 -> 0 | G12: =Önkormányzat!D12 -> 0 | H12: =Önkormányzat!E12 -> 0 | I12: =Önkormányzat!F12 -> 0 | J12: =VÜMESZ!D12 -> 0 | K12: =VÜMESZ!E12 -> 0 | L12: =VÜMESZ!F12 -> 0 | M12: =Hivatal!D12 -> 0 | N12: =Hivatal!E12 -> 0 | O12: =Hivatal!F12 -> 0 | P12: ='Művelődési ház'!D12 -> 0 | Q12: ='Művelődési ház'!E12 -> 0 | R12: ='Művelődési ház'!F12 -> 0 | S12: =Bölcsőde!D12 -> 0 | T12: =Bölcsőde!E12 -> 0 | U12: =Bölcsőde!F12 -> 0 | V12: =Óvoda!D12 -> 0 | W12: =Óvoda!E12 -> 0 | X12: =Óvoda!F12 -> 0
A13: B14 | B13: Működési célú visszatérítendő támogatások, kölcsönök visszatérülése államháztartáson belülről | C13: =Önkormányzat!C13+VÜMESZ!C13+Hivatal!C13+'Művelődési ház'!C13+Bölcsőde!C13+Óvoda!C13 -> 0 | D13: =G13+J13+M13+P13+S13+V13 -> 0 | E13: =H13+K13+N13+Q13+T13+W13 -> 0 | F13: =I13+L13+O13+R13+U13+X13 -> 0 | G13: =Önkormányzat!D13 -> 0 | H13: =Önkormányzat!E13 -> 0 | I13: =Önkormányzat!F13 -> 0 | J13: =VÜMESZ!D13 -> 0 | K13: =VÜMESZ!E13 -> 0 | L13: =VÜMESZ!F13 -> 0 | M13: =Hivatal!D13 -> 0 | N13: =Hivatal!E13 -> 0 | O13: =Hivatal!F13 -> 0 | P13: ='Művelődési ház'!D13 -> 0 | Q13: ='Művelődési ház'!E13 -> 0 | R13: ='Művelődési ház'!F13 -> 0 | S13: =Bölcsőde!D13 -> 0 | T13: =Bölcsőde!E13 -> 0 | U13: =Bölcsőde!F13 -> 0 | V13: =Óvoda!D13 -> 0 | W13: =Óvoda!E13 -> 0 | X13: =Óvoda!F13 -> 0
... A21: B25 | B21: Egyéb felhalmozási célú támogatások bevételei államháztartáson belülről | C21: =Önkormányzat!C21+VÜMESZ!C21+Hivatal!C21+'Művelődési ház'!C21+Bölcsőde!C21+Óvoda!C21 -> 0 | D21: =G21+J21+M21+P21+S21+V21 -> 60412919 | E21: =H21+K21+N21+Q21+T21+W21 -> 60412919 | F21: =I21+L21+O21+R21+U21+X21 -> 60412919 | G21: =Önkormányzat!D21 -> 60412919 | H21: =Önkormányzat!E21 -> 60412919 | I21: =Önkormányzat!F21 -> 60412919 | J21: =VÜMESZ!D21 -> 0 | K21: =VÜMESZ!E21 -> 0 | L21: =VÜMESZ!F21 -> 0 | M21: =Hivatal!D21 -> 0 | N21: =Hivatal!E21 -> 0 | O21: =Hivatal!F21 -> 0 | P21: ='Művelődési ház'!D21 -> 0 | Q21: ='Művelődési ház'!E21 -> 0 | R21: ='Művelődési ház'!F21 -> 0 | S21: =Bölcsőde!D21 -> 0 | T21: =Bölcsőde!E21 -> 0 | U21: =Bölcsőde!F21 -> 0 | V21: =Óvoda!D21 -> 0 | W21: =Óvoda!E21 -> 0 | X21: =Óvoda!F21 -> 0
B22: EU-s támogatás | C22: =Önkormányzat!C22+VÜMESZ!C22+Hivatal!C22+'Művelődési ház'!C22+Bölcsőde!C22+Óvoda!C22 -> 0 | D22: =G22+J22+M22+P22+S22+V22 -> 0 | E22: =H22+K22+N22+Q22+T22+W22 -> 0 | F22: =I22+L22+O22+R22+U22+X22 -> 0 | V22: =Óvoda!D22 -> 0 | W22: =Óvoda!E22 -> 0 | X22: =Óvoda!F22 -> 0
A23: B2 | B23: Felhalmozási célú támogatások államháztartáson belülről | C23: =Önkormányzat!C23+VÜMESZ!C23+Hivatal!C23+'Művelődési ház'!C23+Bölcsőde!C23+Óvoda!C23 -> 0 | D23: =G23+J23+M23+P23+S23+V23 -> 60412919 | E23: =H23+K23+N23+Q23+T23+W23 -> 60412919 | F23: =I23+L23+O23+R23+U23+X23 -> 60412919 | G23: =Önkormányzat!D23 -> 60412919 | H23: =Önkormányzat!E23 -> 60412919 | I23: =Önkormányzat!F23 -> 60412919 | J23: =VÜMESZ!D23 -> 0 | K23: =VÜMESZ!E23 -> 0 | L23: =VÜMESZ!F23 -> 0 | M23: =Hivatal!D23 -> 0 | N23: =Hivatal!E23 -> 0 | O23: =Hivatal!F23 -> 0 | P23: ='Művelődési ház'!D23 -> 0 | Q23: ='Művelődési ház'!E23 -> 0 | R23: ='Művelődési ház'!F23 -> 0 | S23: =Bölcsőde!D23 -> 0 | T23: =Bölcsőde!E23 -> 0 | U23: =Bölcsőde!F23 -> 0 | V23: =Óvoda!D23 -> 0 | W23: =Óvoda!E23 -> 0 | X23: =Óvoda!F23 -> 0
A24: B34 | B24: Vagyoni típusú adók | C24: =Önkormányzat!C24+VÜMESZ!C24+Hivatal!C24+'Művelődési ház'!C24+Bölcsőde!C24+Óvoda!C24 -> 195172212 | D24: =G24+J24+M24+P24+S24+V24 -> 185500000 | E24: =H24+K24+N24+Q24+T24+W24 -> 185500000 | F24: =I24+L24+O24+R24+U24+X24 -> 98963266 | G24: =Önkormányzat!D24 -> 185500000 | H24: =Önkormányzat!E24 -> 185500000 | I24: =Önkormányzat!F24 -> 98963266 | J24: =VÜMESZ!D24 -> 0 | K24: =VÜMESZ!E24 -> 0 | L24: =VÜMESZ!F24 -> 0 | M24: =Hivatal!D24 -> 0 | N24: =Hivatal!E24 -> 0 | O24: =Hivatal!F24 -> 0 | P24: ='Művelődési ház'!D24 -> 0 | Q24: ='Művelődési ház'!E24 -> 0 | R24: ='Művelődési ház'!F24 -> 0 | S24: =Bölcsőde!D24 -> 0 | T24: =Bölcsőde!E24 -> 0 | U24: =Bölcsőde!F24 -> 0 | V24: =Óvoda!D24 -> 0 | W24: =Óvoda!E24 -> 0 | X24: =Óvoda!F24 -> 0
A25: B351 | B25: Értékesítési és forgalmi adók | C25: =Önkormányzat!C25+VÜMESZ!C25+Hivatal!C25+'Művelődési ház'!C25+Bölcsőde!C25+Óvoda!C25 -> 1298950786 | D25: =G25+J25+M25+P25+S25+V25 -> 1100000000 | E25: =H25+K25+N25+Q25+T25+W25 -> 1100000000 | F25: =I25+L25+O25+R25+U25+X25 -> 715690780 | G25: =G27 -> 1100000000 | H25: =H27 -> 1100000000 | I25: =I27 -> 715690780 | J25: =VÜMESZ!D25 -> 0 | K25: =VÜMESZ!E25 -> 0 | L25: =VÜMESZ!F25 -> 0 | M25: =Hivatal!D25 -> 0 | N25: =Hivatal!E25 -> 0 | O25: =Hivatal!F25 -> 0 | P25: ='Művelődési ház'!D25 -> 0 | Q25: ='Művelődési ház'!E25 -> 0 | R25: ='Művelődési ház'!F25 -> 0 | S25: =Bölcsőde!D25 -> 0 | T25: =Bölcsőde!E25 -> 0 | U25: =Bölcsőde!F25 -> 0 | V25: =Óvoda!D25 -> 0 | W25: =Óvoda!E25 -> 0 | X25: =Óvoda!F25 -> 0
A26: B355 | B26: Egyéb áruhasználati és szolgáltatási adók | C26: =Önkormányzat!C26+VÜMESZ!C26+Hivatal!C26+'Művelődési ház'!C26+Bölcsőde!C26+Óvoda!C26 -> 0 | D26: =G26+J26+M26+P26+S26+V26 -> 0 | E26: =H26+K26+N26+Q26+T26+W26 -> 0 | F26: =I26+L26+O26+R26+U26+X26 -> 0 | G26: =Önkormányzat!D26 -> 0 | H26: =Önkormányzat!E26 -> 0 | I26: =Önkormányzat!F26 -> 0 | J26: =VÜMESZ!D26 -> 0 | K26: =VÜMESZ!E26 -> 0 | L26: =VÜMESZ!F26 -> 0 | M26: =Hivatal!D26 -> 0 | N26: =Hivatal!E26 -> 0 | O26: =Hivatal!F26 -> 0 | P26: ='Művelődési ház'!D26 -> 0 | Q26: ='Művelődési ház'!E26 -> 0 | R26: ='Művelődési ház'!F26 -> 0 | S26: =Bölcsőde!D26 -> 0 | T26: =Bölcsőde!E26 -> 0 | U26: =Bölcsőde!F26 -> 0 | V26: =Óvoda!D26 -> 0 | W26: =Óvoda!E26 -> 0 | X26: =Óvoda!F26 -> 0
A27: B35 | B27: Termékek és szolgáltatások adói | C27: =Önkormányzat!C27+VÜMESZ!C27+Hivatal!C27+'Művelődési ház'!C27+Bölcsőde!C27+Óvoda!C27 -> 1298950786 | D27: =G27+J27+M27+P27+S27+V27 -> 1100000000 | E27: =H27+K27+N27+Q27+T27+W27 -> 1100000000 | F27: =I27+L27+O27+R27+U27+X27 -> 715690780 | G27: =Önkormányzat!D27 -> 1100000000 | H27: =Önkormányzat!E27 -> 1100000000 | I27: =Önkormányzat!F27 -> 715690780 | J27: =VÜMESZ!D27 -> 0 | K27: =VÜMESZ!E27 -> 0 | L27: =VÜMESZ!F27 -> 0 | M27: =Hivatal!D27 -> 0 | N27: =Hivatal!E27 -> 0 | O27: =Hivatal!F27 -> 0 | P27: ='Művelődési ház'!D27 -> 0 | Q27: ='Művelődési ház'!E27 -> 0 | R27: ='Művelődési ház'!F27 -> 0 | S27: =Bölcsőde!D27 -> 0 | T27: =Bölcsőde!E27 -> 0 | U27: =Bölcsőde!F27 -> 0 | V27: =Óvoda!D27 -> 0 | W27: =Óvoda!E27 -> 0 | X27: =Óvoda!F27 -> 0
A28: B36 | B28: Egyéb közhatalmi bevételek | C28: =Önkormányzat!C28+VÜMESZ!C28+Hivatal!C28+'Művelődési ház'!C28+Bölcsőde!C28+Óvoda!C28 -> 2195117 | D28: =G28+J28+M28+P28+S28+V28 -> 1000000 | E28: =H28+K28+N28+Q28+T28+W28 -> 1000000 | F28: =I28+L28+O28+R28+U28+X28 -> 922893 | G28: =Önkormányzat!D28 -> 1000000 | H28: =Önkormányzat!E28 -> 1000000 | I28: =Önkormányzat!F28 -> 922893 | J28: =VÜMESZ!D28 -> 0 | K28: =VÜMESZ!E28 -> 0 | L28: =VÜMESZ!F28 -> 0 | M28: =Hivatal!D28 -> 0 | N28: =Hivatal!E28 -> 0 | O28: =Hivatal!F28 -> 0 | P28: ='Művelődési ház'!D28 -> 0 | Q28: ='Művelődési ház'!E28 -> 0 | R28: ='Művelődési ház'!F28 -> 0 | S28: =Bölcsőde!D28 -> 0 | T28: =Bölcsőde!E28 -> 0 | U28: =Bölcsőde!F28 -> 0 | V28: =Óvoda!D28 -> 0 | W28: =Óvoda!E28 -> 0 | X28: =Óvoda!F28 -> 0
A29: B3 | B29: Közhatalmi bevételek | C29: =Önkormányzat!C29+VÜMESZ!C29+Hivatal!C29+'Művelődési ház'!C29+Bölcsőde!C29+Óvoda!C29 -> 1496318115 | D29: =G29+J29+M29+P29+S29+V29 -> 1286500000 | E29: =H29+K29+N29+Q29+T29+W29 -> 1286500000 | F29: =I29+L29+O29+R29+U29+X29 -> 815576939 | G29: =Önkormányzat!D29 -> 1286500000 | H29: =Önkormányzat!E29 -> 1286500000 | I29: =Önkormányzat!F29 -> 815576939 | J29: =VÜMESZ!D29 -> 0 | K29: =VÜMESZ!E29 -> 0 | L29: =VÜMESZ!F29 -> 0 | M29: =Hivatal!D29 -> 0 | N29: =Hivatal!E29 -> 0 | O29: =Hivatal!F29 -> 0 | P29: ='Művelődési ház'!D29 -> 0 | Q29: ='Művelődési ház'!E29 -> 0 | R29: ='Művelődési ház'!F29 -> 0 | S29: =Bölcsőde!D29 -> 0 | T29: =Bölcsőde!E29 -> 0 | U29: =Bölcsőde!F29 -> 0 | V29: =Óvoda!D29 -> 0 | W29: =Óvoda!E29 -> 0 | X29: =Óvoda!F29 -> 0
A30: B401 | B30: Készletértékesítés ellenértéke | C30: =Önkormányzat!C30+VÜMESZ!C30+Hivatal!C30+'Művelődési ház'!C30+Bölcsőde!C30+Óvoda!C30 -> 13366510 | D30: =G30+J30+M30+P30+S30+V30 -> 0 | E30: =H30+K30+N30+Q30+T30+W30 -> 45600 | F30: =I30+L30+O30+R30+U30+X30 -> 47500 | Q30: ='Művelődési ház'!E30 -> 45600 | R30: ='Művelődési ház'!F30 -> 47500 | V30: =Óvoda!D31 -> 0 | W30: =Óvoda!E31 -> 0 | X30: =Óvoda!F31 -> 0
A31: B402 | B31: Szolgáltatások ellenértéke | C31: =Önkormányzat!C31+VÜMESZ!C31+Hivatal!C31+'Művelődési ház'!C31+Bölcsőde!C31+Óvoda!C31 -> 33640562 | D31: =G31+J31+M31+P31+S31+V31 -> 27800000 | E31: =H31+K31+N31+Q31+T31+W31 -> 25492675 | F31: =I31+L31+O31+R31+U31+X31 -> 18723214 | G31: =Önkormányzat!D31 -> 16500000 | H31: =Önkormányzat!E31 -> 14192675 | I31: =Önkormányzat!F31 -> 13894999 | J31: =VÜMESZ!D31 -> 1800000 | K31: =VÜMESZ!E31 -> 1800000 | L31: =VÜMESZ!F31 -> 900000 | M31: =Hivatal!D31 -> 2000000 | N31: =Hivatal!E31 -> 2000000 | O31: =Hivatal!F31 -> 727010 | P31: ='Művelődési ház'!D31 -> 7500000 | Q31: ='Művelődési ház'!E31 -> 7500000 | R31: ='Művelődési ház'!F31 -> 3201205 | S31: =Bölcsőde!D31 -> 0 | T31: =Bölcsőde!E31 -> 0 | U31: =Bölcsőde!F31 -> 0 | V31: =Óvoda!D32 -> 0 | W31: =Óvoda!E32 -> 0 | X31: =Óvoda!F32 -> 0
A32: B403 | B32: Közvetített szolgáltatások ellenértéke | C32: =Önkormányzat!C32+VÜMESZ!C32+Hivatal!C32+'Művelődési ház'!C32+Bölcsőde!C32+Óvoda!C32 -> 19398030 | D32: =G32+J32+M32+P32+S32+V32 -> 18800000 | E32: =H32+K32+N32+Q32+T32+W32 -> 18800000 | F32: =I32+L32+O32+R32+U32+X32 -> 7681812 | G32: =Önkormányzat!D32 -> 13000000 | H32: =Önkormányzat!E32 -> 13000000 | I32: =Önkormányzat!F32 -> 5000706 | J32: =VÜMESZ!D32 -> 0 | K32: =VÜMESZ!E32 -> 0 | L32: =VÜMESZ!F32 -> 0 | M32: =Hivatal!D32 -> 4800000 | N32: =Hivatal!E32 -> 4800000 | O32: =Hivatal!F32 -> 2097163 | P32: ='Művelődési ház'!D32 -> 1000000 | Q32: ='Művelődési ház'!E32 -> 1000000 | R32: ='Művelődési ház'!F32 -> 583943 | S32: =Bölcsőde!D32 -> 0 | T32: =Bölcsőde!E32 -> 0 | U32: =Bölcsőde!F32 -> 0 | V32: =Óvoda!D33 -> 0 | W32: =Óvoda!E33 -> 0 | X32: =Óvoda!F33 -> 0
A33: B404 | B33: Tulajdonosi bevételek | C33: =Önkormányzat!C33+VÜMESZ!C33+Hivatal!C33+'Művelődési ház'!C33+Bölcsőde!C33+Óvoda!C33 -> 5483148 | D33: =G33+J33+M33+P33+S33+V33 -> 13800000 | E33: =H33+K33+N33+Q33+T33+W33 -> 13800000 | F33: =I33+L33+O33+R33+U33+X33 -> 8712261 | G33: =Önkormányzat!D33 -> 13800000 | H33: =Önkormányzat!E33 -> 13800000 | I33: =Önkormányzat!F33 -> 8712261 | J33: =VÜMESZ!D33 -> 0 | K33: =VÜMESZ!E33 -> 0 | L33: =VÜMESZ!F33 -> 0 | M33: =Hivatal!D33 -> 0 | N33: =Hivatal!E33 -> 0 | O33: =Hivatal!F33 -> 0 | P33: ='Művelődési ház'!D33 -> 0 | Q33: ='Művelődési ház'!E33 -> 0 | R33: ='Művelődési ház'!F33 -> 0 | S33: =Bölcsőde!D33 -> 0 | T33: =Bölcsőde!E33 -> 0 | U33: =Bölcsőde!F33 -> 0 | V33: =Óvoda!D34 -> 0 | W33: =Óvoda!E34 -> 0 | X33: =Óvoda!F34 -> 0
A34: B405 | B34: Ellátási díjak | C34: =Önkormányzat!C34+VÜMESZ!C34+Hivatal!C34+'Művelődési ház'!C34+Bölcsőde!C34+Óvoda!C34 -> 39328989 | D34: =G34+J34+M34+P34+S34+V34 -> 39500000 | E34: =H34+K34+N34+Q34+T34+W34 -> 39500000 | F34: =I34+L34+O34+R34+U34+X34 -> 15837315 | G34: =Önkormányzat!D34 -> 0 | H34: =Önkormányzat!E34 -> 0 | I34: =Önkormányzat!F34 -> 0 | J34: =VÜMESZ!D34 -> 39500000 | K34: =VÜMESZ!E34 -> 39500000 | L34: =VÜMESZ!F34 -> 15837315 | M34: =Hivatal!D34 -> 0 | N34: =Hivatal!E34 -> 0 | O34: =Hivatal!F34 -> 0 | P34: ='Művelődési ház'!D34 -> 0 | Q34: ='Művelődési ház'!E34 -> 0 | R34: ='Művelődési ház'!F34 -> 0 | S34: =Bölcsőde!D34 -> 0 | T34: =Bölcsőde!E34 -> 0 | U34: =Bölcsőde!F34 -> 0 | V34: =Óvoda!D35 -> 0 | W34: =Óvoda!E35 -> 0 | X34: =Óvoda!F35 -> 0
A35: B406 | B35: Kiszámlázott általános forgalmi adó | C35: =Önkormányzat!C35+VÜMESZ!C35+Hivatal!C35+'Művelődési ház'!C35+Bölcsőde!C35+Óvoda!C35 -> 32879773 | D35: =G35+J35+M35+P35+S35+V35 -> 15160000 | E35: =H35+K35+N35+Q35+T35+W35 -> 17524880 | F35: =I35+L35+O35+R35+U35+X35 -> 10360288 | G35: =Önkormányzat!D35 -> 4500000 | H35: =Önkormányzat!E35 -> 6864880 | I35: =Önkormányzat!F35 -> 6083970 | J35: =VÜMESZ!D35 -> 10660000 | K35: =VÜMESZ!E35 -> 10660000 | L35: =VÜMESZ!F35 -> 4276318 | M35: =Hivatal!D35 -> 0 | N35: =Hivatal!E35 -> 0 | O35: =Hivatal!F35 -> 0 | P35: ='Művelődési ház'!D35 -> 0 | Q35: ='Művelődési ház'!E35 -> 0 | R35: ='Művelődési ház'!F35 -> 0 | S35: =Bölcsőde!D35 -> 0 | T35: =Bölcsőde!E35 -> 0 | U35: =Bölcsőde!F35 -> 0 | V35: =Óvoda!D36 -> 0 | W35: =Óvoda!E36 -> 0 | X35: =Óvoda!F36 -> 0
A36: B407 | B36: Általános forgalmi adó visszatérítése | C36: =Önkormányzat!C36+VÜMESZ!C36+Hivatal!C36+'Művelődési ház'!C36+Bölcsőde!C36+Óvoda!C36 -> 7422000 | D36: =G36+J36+M36+P36+S36+V36 -> 10000000 | E36: =H36+K36+N36+Q36+T36+W36 -> 10020535 | F36: =I36+L36+O36+R36+U36+X36 -> 9617345 | G36: =Önkormányzat!D36 -> 0 | H36: =Önkormányzat!E36 -> 0 | I36: =Önkormányzat!F36 -> 0 | J36: =VÜMESZ!D36 -> 10000000 | K36: =VÜMESZ!E36 -> 10000000 | L36: =VÜMESZ!F36 -> 9571000 | M36: =Hivatal!D36 -> 0 | N36: =Hivatal!E36 -> 0 | O36: =Hivatal!F36 -> 0 | P36: ='Művelődési ház'!D36 -> 0 | Q36: ='Művelődési ház'!E36 -> 0 | R36: ='Művelődési ház'!F36 -> 0 | S36: =Bölcsőde!D36 -> 0 | T36: =Bölcsőde!E36 -> 0 | U36: =Bölcsőde!F36 -> 0 | V36: =Óvoda!D37 -> 0 | W36: =Óvoda!E37 -> 20535 | X36: =Óvoda!F37 -> 46345
A37: B408 | B37: Kamatbevételek és más nyereségjellegű bevételek | C37: =Önkormányzat!C37+VÜMESZ!C37+Hivatal!C37+'Művelődési ház'!C37+Bölcsőde!C37+Óvoda!C37 -> 27036860 | D37: =G37+J37+M37+P37+S37+V37 -> 20700000 | E37: =H37+K37+N37+Q37+T37+W37 -> 20773208 | F37: =I37+L37+O37+R37+U37+X37 -> 11746349 | G37: =Önkormányzat!D37 -> 20700000 | H37: =Önkormányzat!E37 -> 20700000 | I37: =Önkormányzat!F37 -> 11551904 | J37: =VÜMESZ!D37 -> 0 | K37: =VÜMESZ!E37 -> 0 | L37: =VÜMESZ!F37 -> 62387 | M37: =Hivatal!D37 -> 0 | N37: =Hivatal!E37 -> 40756 | O37: =Hivatal!F37 -> 68459 | P37: ='Művelődési ház'!D37 -> 0 | Q37: ='Művelődési ház'!E37 -> 19483 | R37: ='Művelődési ház'!F37 -> 38050 | S37: =Bölcsőde!D37 -> 0 | T37: =Bölcsőde!E37 -> 12969 | U37: =Bölcsőde!F37 -> 25549 | V37: =Óvoda!D38 -> 0 | W37: =Óvoda!E38 -> 0 | X37: =Óvoda!F38 -> 0
A38: B409 | B38: Egyéb pénzügyi műveletek bevételei | C38: =Önkormányzat!C38+VÜMESZ!C38+Hivatal!C38+'Művelődési ház'!C38+Bölcsőde!C38+Óvoda!C38 -> 0 | D38: =G38+J38+M38+P38+S38+V38 -> 0 | E38: =H38+K38+N38+Q38+T38+W38 -> 0 | F38: =I38+L38+O38+R38+U38+X38 -> 0 | G38: =Önkormányzat!D38 -> 0 | H38: =Önkormányzat!E38 -> 0 | I38: =Önkormányzat!F38 -> 0 | J38: =VÜMESZ!D38 -> 0 | K38: =VÜMESZ!E38 -> 0 | L38: =VÜMESZ!F38 -> 0 | M38: =Hivatal!D38 -> 0 | N38: =Hivatal!E38 -> 0 | O38: =Hivatal!F38 -> 0 | P38: ='Művelődési ház'!D38 -> 0 | Q38: ='Művelődési ház'!E38 -> 0 | R38: ='Művelődési ház'!F38 -> 0 | S38: =Bölcsőde!D38 -> 0 | T38: =Bölcsőde!E38 -> 0 | U38: =Bölcsőde!F38 -> 0 | V38: =Óvoda!D39 -> 0 | W38: =Óvoda!E39 -> 0 | X38: =Óvoda!F39 -> 0
A39: B410 | B39: Biztosító által fizetett kártérítés | C39: =Önkormányzat!C39+VÜMESZ!C39+Hivatal!C39+'Művelődési ház'!C39+Bölcsőde!C39+Óvoda!C39 -> 8255 | D39: =G39+J39+M39+P39+S39+V39 -> 0 | E39: =H39+K39+N39+Q39+T39+W39 -> 0 | F39: =I39+L39+O39+R39+U39+X39 -> 0 | G39: =Önkormányzat!D39 -> 0 | H39: =Önkormányzat!E39 -> 0 | I39: =Önkormányzat!F39 -> 0 | J39: =VÜMESZ!D39 -> 0 | K39: =VÜMESZ!E39 -> 0 | L39: =VÜMESZ!F39 -> 0 | M39: =Hivatal!D39 -> 0 | N39: =Hivatal!E39 -> 0 | O39: =Hivatal!F39 -> 0 | P39: ='Művelődési ház'!D39 -> 0 | Q39: ='Művelődési ház'!E39 -> 0 | R39: ='Művelődési ház'!F39 -> 0 | S39: =Bölcsőde!D39 -> 0 | T39: =Bölcsőde!E39 -> 0 | U39: =Bölcsőde!F39 -> 0 | V39: =Óvoda!D40 -> 0 | W39: =Óvoda!E40 -> 0 | X39: =Óvoda!F40 -> 0
A40: B411 | B40: Egyéb működési bevételek | C40: =Önkormányzat!C40+VÜMESZ!C40+Hivatal!C40+'Művelődési ház'!C40+Bölcsőde!C40+Óvoda!C40 -> 15599074 | D40: =G40+J40+M40+P40+S40+V40 -> 0 | E40: =H40+K40+N40+Q40+T40+W40 -> 1304604 | F40: =I40+L40+O40+R40+U40+X40 -> 1840675 | G40: =Önkormányzat!D40 -> 0 | H40: =Önkormányzat!E40 -> 1268363 | I40: =Önkormányzat!F40 -> 1278385 | J40: =VÜMESZ!D40 -> 0 | K40: =VÜMESZ!E40 -> 0 | L40: =VÜMESZ!F40 -> 227 | M40: =Hivatal!D40 -> 0 | N40: =Hivatal!E40 -> 0 | O40: =Hivatal!F40 -> 11 | P40: ='Művelődési ház'!D40 -> 0 | Q40: ='Művelődési ház'!E40 -> 15706 | R40: ='Művelődési ház'!F40 -> 515707 | S40: =Bölcsőde!D40 -> 0 | T40: =Bölcsőde!E40 -> 0 | U40: =Bölcsőde!F40 -> 0 | V40: =Óvoda!D41 -> 0 | W40: =Óvoda!E41 -> 20535 | X40: =Óvoda!F41 -> 46345
A41: B4 | B41: Működési bevételek | C41: =Önkormányzat!C41+VÜMESZ!C41+Hivatal!C41+'Művelődési ház'!C41+Bölcsőde!C41+Óvoda!C41 -> 194163201 | D41: =G41+J41+M41+P41+S41+V41 -> 145760000 | E41: =H41+K41+N41+Q41+T41+W41 -> 147174832 | F41: =I41+L41+O41+R41+U41+X41 -> 87932049 | G41: =Önkormányzat!D41 -> 68500000 | H41: =Önkormányzat!E41 -> 69825918 | I41: =Önkormányzat!F41 -> 49980205 | J41: =VÜMESZ!D41 -> 61960000 | K41: =VÜMESZ!E41 -> 61960000 | L41: =VÜMESZ!F41 -> 30647247 | M41: =Hivatal!D41 -> 6800000 | N41: =Hivatal!E41 -> 6840756 | O41: =Hivatal!F41 -> 2892643 | P41: ='Művelődési ház'!D41 -> 8500000 | Q41: ='Művelődési ház'!E41 -> 8535189 | R41: ='Művelődési ház'!F41 -> 4386405 | S41: =Bölcsőde!D41 -> 0 | T41: =Bölcsőde!E41 -> 12969 | U41: =Bölcsőde!F41 -> 25549 | V41: =Óvoda!D42 -> 0 | W41: =Óvoda!E42 -> 0 | X41: =Óvoda!F42 -> 0
A42: B51 | B42: Immateriális javak értékesítése | C42: =Önkormányzat!C42+VÜMESZ!C42+Hivatal!C42+'Művelődési ház'!C42+Bölcsőde!C42+Óvoda!C42 -> 0 | D42: =G42+J42+M42+P42+S42+V42 -> 0 | E42: =H42+K42+N42+Q42+T42+W42 -> 0 | F42: =I42+L42+O42+R42+U42+X42 -> 0 | G42: =Önkormányzat!D42 -> 0 | H42: =Önkormányzat!E42 -> 0 | I42: =Önkormányzat!F42 -> 0 | J42: =VÜMESZ!D42 -> 0 | K42: =VÜMESZ!E42 -> 0 | L42: =VÜMESZ!F42 -> 0 | M42: =Hivatal!D42 -> 0 | N42: =Hivatal!E42 -> 0 | O42: =Hivatal!F42 -> 0 | P42: ='Művelődési ház'!D42 -> 0 | Q42: ='Művelődési ház'!E42 -> 0 | R42: ='Művelődési ház'!F42 -> 0 | S42: =Bölcsőde!D42 -> 0 | T42: =Bölcsőde!E42 -> 0 | U42: =Bölcsőde!F42 -> 0 | V42: =Óvoda!D43 -> 0 | W42: =Óvoda!E43 -> 0 | X42: =Óvoda!F43 -> 0
... A52: B65 | B52: Egyéb működési célú átvett pénzeszközök | C52: =Önkormányzat!C52+VÜMESZ!C52+Hivatal!C52+'Művelődési ház'!C52+Bölcsőde!C52+Óvoda!C52 -> 250000 | D52: =G52+J52+M52+P52+S52+V52 -> 0 | E52: =H52+K52+N52+Q52+T52+W52 -> 0 | F52: =I52+L52+O52+R52+U52+X52 -> 0 | G52: =Önkormányzat!D52 -> 0 | H52: =Önkormányzat!E52 -> 0 | I52: =Önkormányzat!F52 -> 0 | J52: =VÜMESZ!D52 -> 0 | K52: =VÜMESZ!E52 -> 0 | L52: =VÜMESZ!F52 -> 0 | M52: =Hivatal!D52 -> 0 | N52: =Hivatal!E52 -> 0 | O52: =Hivatal!F52 -> 0 | P52: ='Művelődési ház'!D52 -> 0 | Q52: ='Művelődési ház'!E52 -> 0 | R52: ='Művelődési ház'!F52 -> 0 | S52: =Bölcsőde!D52 -> 0 | T52: =Bölcsőde!E52 -> 0 | U52: =Bölcsőde!F52 -> 0 | V52: =Óvoda!D53 -> 0 | W52: =Óvoda!E53 -> 0 | X52: =Óvoda!F53 -> 0
A53: B6 | B53: Működési célú átvett pénzeszközök (=58+…+62) B6 | C53: =Önkormányzat!C53+VÜMESZ!C53+Hivatal!C53+'Művelődési ház'!C53+Bölcsőde!C53+Óvoda!C53 -> 250000 | D53: =G53+J53+M53+P53+S53+V53 -> 0 | E53: =H53+K53+N53+Q53+T53+W53 -> 0 | F53: =I53+L53+O53+R53+U53+X53 -> 0 | G53: =G48+G49+G50+G51+G52 -> 0 | H53: =H48+H49+H50+H51+H52 -> 0 | I53: =I48+I49+I50+I51+I52 -> 0 | J53: =J48+J49+J50+J51+J52 -> 0 | K53: =K48+K49+K50+K51+K52 -> 0 | L53: =L48+L49+L50+L51+L52 -> 0 | M53: =M48+M49+M50+M51+M52 -> 0 | N53: =N48+N49+N50+N51+N52 -> 0 | ... U53: =U48+U49+U50+U51+U52 -> 0 | V53: =Óvoda!D54 -> 0 | W53: =Óvoda!E54 -> 0 | X53: =Óvoda!F54 -> 0
A54: B71 | B54: Felhalmozási célú garancia- és kezességvállalásból származó megtérülések államháztartáson kívülről | C54: =Önkormányzat!C54+VÜMESZ!C54+Hivatal!C54+'Művelődési ház'!C54+Bölcsőde!C54+Óvoda!C54 -> 0 | D54: =G54+J54+M54+P54+S54+V54 -> 0 | E54: =H54+K54+N54+Q54+T54+W54 -> 0 | F54: =I54+L54+O54+R54+U54+X54 -> 0 | G54: =Önkormányzat!D54 -> 0 | H54: =Önkormányzat!E54 -> 0 | I54: =Önkormányzat!F54 -> 0 | J54: =VÜMESZ!D54 -> 0 | K54: =VÜMESZ!E54 -> 0 | L54: =VÜMESZ!F54 -> 0 | M54: =Hivatal!D54 -> 0 | N54: =Hivatal!E54 -> 0 | O54: =Hivatal!F54 -> 0 | P54: ='Művelődési ház'!D54 -> 0 | Q54: ='Művelődési ház'!E54 -> 0 | R54: ='Művelődési ház'!F54 -> 0 | S54: =Bölcsőde!D54 -> 0 | T54: =Bölcsőde!E54 -> 0 | U54: =Bölcsőde!F54 -> 0 | V54: =Óvoda!D55 -> 0 | W54: =Óvoda!E55 -> 0 | X54: =Óvoda!F55 -> 0
A55: B72 | B55: Felhalmozási célú visszatérítendő támogatások, kölcsönök visszatérülése az Európai Uniótól | C55: =Önkormányzat!C55+VÜMESZ!C55+Hivatal!C55+'Művelődési ház'!C55+Bölcsőde!C55+Óvoda!C55 -> 0 | D55: =G55+J55+M55+P55+S55+V55 -> 0 | E55: =H55+K55+N55+Q55+T55+W55 -> 0 | F55: =I55+L55+O55+R55+U55+X55 -> 0 | G55: =Önkormányzat!D55 -> 0 | H55: =Önkormányzat!E55 -> 0 | I55: =Önkormányzat!F55 -> 0 | J55: =VÜMESZ!D55 -> 0 | K55: =VÜMESZ!E55 -> 0 | L55: =VÜMESZ!F55 -> 0 | M55: =Hivatal!D55 -> 0 | N55: =Hivatal!E55 -> 0 | O55: =Hivatal!F55 -> 0 | P55: ='Művelődési ház'!D55 -> 0 | Q55: ='Művelődési ház'!E55 -> 0 | R55: ='Művelődési ház'!F55 -> 0 | S55: =Bölcsőde!D55 -> 0 | T55: =Bölcsőde!E55 -> 0 | U55: =Bölcsőde!F55 -> 0 | V55: =Óvoda!D56 -> 0 | W55: =Óvoda!E56 -> 0 | X55: =Óvoda!F56 -> 0
A56: B73 | B56: Felhalmozási célú visszatérítendő támogatások, kölcsönök visszatérülése kormányoktól és más nemzetközi szervezetektől | C56: =Önkormányzat!C56+VÜMESZ!C56+Hivatal!C56+'Művelődési ház'!C56+Bölcsőde!C56+Óvoda!C56 -> 0 | D56: =G56+J56+M56+P56+S56+V56 -> 0 | E56: =H56+K56+N56+Q56+T56+W56 -> 0 | F56: =I56+L56+O56+R56+U56+X56 -> 0 | G56: =Önkormányzat!D56 -> 0 | H56: =Önkormányzat!E56 -> 0 | I56: =Önkormányzat!F56 -> 0 | J56: =VÜMESZ!D56 -> 0 | K56: =VÜMESZ!E56 -> 0 | L56: =VÜMESZ!F56 -> 0 | M56: =Hivatal!D56 -> 0 | N56: =Hivatal!E56 -> 0 | O56: =Hivatal!F56 -> 0 | P56: ='Művelődési ház'!D56 -> 0 | Q56: ='Művelődési ház'!E56 -> 0 | R56: ='Művelődési ház'!F56 -> 0 | S56: =Bölcsőde!D56 -> 0 | T56: =Bölcsőde!E56 -> 0 | U56: =Bölcsőde!F56 -> 0 | V56: =Óvoda!D57 -> 0 | W56: =Óvoda!E57 -> 0 | X56: =Óvoda!F57 -> 0
...

Sheet Önkormányzat
A1: Rovat | B1: Jánossomorja Város Önkormányzata | C1: 2025. évi teljesítés | D1: 2026. évi terv | E1: 2026. évi I. módosítás | F1: Teljesítés | G1: Teljesítés %
A2: B111 | B2: Helyi önkormányzatok működésének általános támogatása | C2: 255759558 | D2: 302029313 | E2: 302029313 | F2: 158317875 | G2: =F2/E2 -> 0.5241805
A3: B112 | B3: Települési önkormányzatok egyes köznevelési feladatainak támogatása | C3: 319495926 | D3: 335940044 | E3: 339212072 | F3: 177960859 | G3: =F3/E3 -> 0.52463009
A4: B1131 | B4: Települési önkormányzatok egyes szociális és gyermekjóléti feladatainak támogatása | C4: 78959000 | D4: 87642800 | E4: 87642800 | F4: 45574256 | G4: =F4/E4 -> 0.52
A5: B1132 | B5: Települési önkormányzatok gyermekétkeztetési feladatainak támogatása | C5: 84899997 | D5: 81100868 | E5: 81100868 | F5: 42172449 | G5: =F5/E5 -> 0.51999997
A6: B113 | B6: Települési önkormányzatok szociális gyermekjóléti és gyermekétkeztetési feladatainak támogatása | C6: 163858997 | D6: =D4+D5 -> 168743668 | E6: =E4+E5 -> 168743668 | F6: 87746705 | G6: =F6/E6 -> 0.51999999
A7: B114 | B7: Települési önkormányzatok kulturális feladatainak támogatása | C7: 24306025 | D7: 31237163 | E7: 31237163 | F7: 16243325 | G7: =F7/E7 -> 0.52000001
A8: B115 | B8: Működési célú költségvetési támogatások és kiegészítő támogatások | C8: 0
A9: B116 | B9: Elszámolásból származó bevételek | C9: 3888912 | E9: 2857316 | F9: 2857316 | G9: =F9/E9 -> 1
A10: B11 | B10: Önkormányzatok működési támogatásai | C10: =C2+C3+C6+C7+C8+C9 -> 767309418 | D10: =D2+D3+D6+D7+D8+D9 -> 837950188 | E10: =E2+E3+E6+E7+E8+E9 -> 844079532 | F10: =F2+F3+F6+F7+F8+F9 -> 443126080 | G10: =F10/E10 -> 0.52498143
A11: B12 | B11: Elvonások és befizetések bevételei | C11: 0 | E11: 12555742 | F11: 12555742
A12: B13 | B12: Működési célú garancia- és kezességvállalásból származó megtérülések államháztartáson belülről | C12: 0
A13: B14 | B13: Működési célú visszatérítendő támogatások, kölcsönök visszatérülése államháztartáson belülről | C13: 0
A14: B15 | B14: Működési célú visszatérítendő támogatások, kölcsönök igénybevétele államháztartáson belülről | C14: 0
A15: B16 | B15: Egyéb működési célú támogatások bevételei államháztartáson belülről | C15: 31461070 | D15: 15087000 | E15: 50921740 | F15: 42478939 | G15: =F15/E15 -> 0.83420046
A16: B1 | B16: Működési célú támogatások államháztartáson belülről | C16: =SUM(C10,C15) -> 798770488 | D16: =D10+D11+D12+D13+D14+D15 -> 853037188 | E16: =E10+E11+E12+E13+E14+E15 -> 907557014 | F16: =F10+F11+F12+F13+F14+F15 -> 498160761 | G16: =F16/E16 -> 0.54890299
A17: B21 | B17: Felhalmozási célú önkormányzati támogatások | C17: 0
A18: B22 | B18: Felhalmozási célú garancia- és kezességvállalásból származó megtérülések államháztartáson belülről | C18: 0
A19: B23 | B19: Felhalmozási célú visszatérítendő támogatások, kölcsönök visszatérülése államháztartáson belülről | C19: 0
A20: B24 | B20: Felhalmozási célú visszatérítendő támogatások, kölcsönök igénybevétele államháztartáson belülről | C20: 0
A21: B25 | B21: Egyéb felhalmozási célú támogatások bevételei államháztartáson belülről | C21: 0 | D21: 60412919 | E21: 60412919 | F21: 60412919 | G21: =F21/E21 -> 1
B22: EU-s támogatás | C22: 0 | D22: 0 | E22: 0
A23: B2 | B23: Felhalmozási célú támogatások államháztartáson belülről | C23: 0 | D23: =D17+D18+D19+D20+D21 -> 60412919 | E23: =E17+E18+E19+E20+E21 -> 60412919 | F23: =F17+F18+F19+F20+F21 -> 60412919
A24: B34 | B24: Vagyoni típusú adók | C24: 195172212 | D24: 185500000 | E24: 185500000 | F24: 98963266 | G24: =F24/E24 -> 0.5334947
A25: B351 | B25: Értékesítési és forgalmi adók | C25: 1298950786 | D25: 1100000000 | E25: 1100000000 | F25: 715690780 | G25: =F25/E25 -> 0.65062798
A26: B355 | B26: Egyéb áruhasználati és szolgáltatási adók | C26: 0
A27: B35 | B27: Termékek és szolgáltatások adói | C27: 1298950786 | D27: 1100000000 | E27: 1100000000 | F27: 715690780 | G27: =F27/E27 -> 0.65062798
A28: B36 | B28: Egyéb közhatalmi bevételek | C28: 2195117 | D28: 1000000 | E28: 1000000 | F28: 922893 | G28: =F28/E28 -> 0.922893
A29: B3 | B29: Közhatalmi bevételek | C29: =SUM(C25,C28,C24) -> 1496318115 | D29: =D24+D27+D28 -> 1286500000 | E29: =E24+E27+E28 -> 1286500000 | F29: =F24+F27+F28 -> 815576939 | G29: =F29/E29 -> 0.63395021
A30: B401 | B30: Készletek értékesítése | C30: 13310350 | E30: 2467320 | F30: 3457980
A31: B402 | B31: Szolgáltatások ellenértéke | C31: 16302352 | D31: 16500000 | E31: 14192675 | F31: 13894999 | G31: =F31/E31 -> 0.97902608
A32: B403 | B32: Közvetített szolgáltatások ellenértéke | C32: 13699066 | D32: 13000000 | E32: 13000000 | F32: 5000706 | G32: =F32/E32 -> 0.38466969
A33: B404 | B33: Tulajdonosi bevételek | C33: 5423148 | D33: 13800000 | E33: 13800000 | F33: 8712261 | G33: =F33/E33 -> 0.63132326
A34: B405 | B34: Ellátási díjak | C34: 0
A35: B406 | B35: Kiszámlázott általános forgalmi adó | C35: 21006089 | D35: 4500000 | E35: 6864880 | F35: 6083970 | G35: =F35/E35 -> 0.88624564
A36: B407 | B36: Általános forgalmi adó visszatérítése
A37: B408 | B37: Kamatbevételek és más nyereségjellegű bevételek | C37: 26594360 | D37: 20700000 | E37: 20700000 | F37: 11551904 | G37: =F37/E37 -> 0.558063
A38: B409 | B38: Egyéb pénzügyi műveletek bevételei | C38: 0
A39: B410 | B39: Biztosító által fizetett kártérítés | C39: 0
A40: B411 | B40: Egyéb működési bevételek | C40: 6952232 | D40: 0 | E40: 1268363 | F40: 1278385
...

Sheet VÜMESZ
A1: Rovat | B1: Jánossomorja Városüzemeltetési és Műszaki Ellátó Szervezet | C1: 2025. évi teljesítés | D1: 2026. évi terv | E1: 2026. évi I. módosítás | F1: Teljesítés | G1: Teljesítés %
A2: B111 | B2: Helyi önkormányzatok működésének általános támogatása
A3: B112 | B3: Települési önkormányzatok egyes köznevelési feladatainak támogatása
A4: B1131 | B4: Települési önkormányzatok egyes szociális és gyermekjóléti feladatainak támogatása
A5: B1132 | B5: Települési önkormányzatok gyermekétkeztetési feladatainak támogatása
A6: B113 | B6: Települési önkormányzatok szociális gyermekjóléti és gyermekétkeztetési feladatainak támogatása | C6: 0 | D6: =D4+D5 -> 0 | E6: 0 | F6: 0
A7: B114 | B7: Települési önkormányzatok kulturális feladatainak támogatása
A8: B115 | B8: Működési célú költségvetési támogatások és kiegészítő támogatások
A9: B116 | B9: Elszámolásból származó bevételek
A10: B11 | B10: Önkormányzatok működési támogatásai | C10: 0 | D10: =D2+D3+D6+D7+D8+D9 -> 0 | E10: 0 | F10: 0
A11: B12 | B11: Elvonások és befizetések bevételei
A12: B13 | B12: Működési célú garancia- és kezességvállalásból származó megtérülések államháztartáson belülről
A13: B14 | B13: Működési célú visszatérítendő támogatások, kölcsönök visszatérülése államháztartáson belülről
A14: B15 | B14: Működési célú visszatérítendő támogatások, kölcsönök igénybevétele államháztartáson belülről
A15: B16 | B15: Egyéb működési célú támogatások bevételei államháztartáson belülről
A16: B1 | B16: Működési célú támogatások államháztartáson belülről | C16: 0 | D16: =D10+D11+D12+D13+D14+D15 -> 0 | E16: =E10+E11+E12+E13+E14+E15 -> 0 | F16: =F10+F11+F12+F13+F14+F15 -> 0
A17: B21 | B17: Felhalmozási célú önkormányzati támogatások
A18: B22 | B18: Felhalmozási célú garancia- és kezességvállalásból származó megtérülések államháztartáson belülről
A19: B23 | B19: Felhalmozási célú visszatérítendő támogatások, kölcsönök visszatérülése államháztartáson belülről
A20: B24 | B20: Felhalmozási célú visszatérítendő támogatások, kölcsönök igénybevétele államháztartáson belülről
A21: B25 | B21: Egyéb felhalmozási célú támogatások bevételei államháztartáson belülről
B22: EU-s támogatás
A23: B2 | B23: Felhalmozási célú támogatások államháztartáson belülről | C23: 0 | D23: =D17+D18+D19+D20+D21 -> 0 | E23: =E17+E18+E19+E20+E21 -> 0 | F23: 0
A24: B34 | B24: Vagyoni típusú adók
A25: B351 | B25: Értékesítési és forgalmi adók
A26: B355 | B26: Egyéb áruhasználati és szolgáltatási adók
A27: B35 | B27: Termékek és szolgáltatások adói | C27: 0 | D27: =D25+D26 -> 0 | E27: 0 | F27: 0
A28: B36 | B28: Egyéb közhatalmi bevételek
A29: B3 | B29: Közhatalmi bevételek | C29: 0 | D29: =D24+D27+D28 -> 0 | E29: =E24+E27+E28 -> 0 | F29: =F24+F27+F28 -> 0
A30: B401 | B30: Készletek értékesítése
A31: B402 | B31: Szolgáltatások ellenértéke | C31: 5544496 | D31: 1800000 | E31: 1800000 | F31: 900000 | G31: =F31/E31 -> 0.5
A32: B403 | B32: Közvetített szolgáltatások ellenértéke
A33: B404 | B33: Tulajdonosi bevételek
A34: B405 | B34: Ellátási díjak | C34: 39328989 | D34: 39500000 | E34: 39500000 | F34: 15837315 | G34: =F34/E34 -> 0.40094468
A35: B406 | B35: Kiszámlázott általános forgalmi adó | C35: 11873684 | D35: 10660000 | E35: 10660000 | F35: 4276318 | G35: =F35/E35 -> 0.40115553
A36: B407 | B36: Általános forgalmi adó visszatérítése | C36: 7422000 | D36: 10000000 | E36: 10000000 | F36: 9571000
A37: B408 | B37: Kamatbevételek és más nyereségjellegű bevételek | C37: 136562 | F37: 62387
A38: B409 | B38: Egyéb pénzügyi műveletek bevételei | C38: 0
A39: B410 | B39: Biztosító által fizetett kártérítés | C39: 8255
A40: B411 | B40: Egyéb működési bevételek | C40: 736243 | F40: 227
...

Sheet Hivatal
A1: Rovat | B1: Jánossomorjai Közös Önkormányzati Hivatal | C1: 2025. évi teljesítés | D1: 2026. évi terv | E1: 2026. évi I. módosítás | F1: Teljesítés | G1: Teljesítés %
A2: B111 | B2: Helyi önkormányzatok működésének általános támogatása
A3: B112 | B3: Települési önkormányzatok egyes köznevelési feladatainak támogatása
A4: B1131 | B4: Települési önkormányzatok egyes szociális és gyermekjóléti feladatainak támogatása
A5: B1132 | B5: Települési önkormányzatok gyermekétkeztetési feladatainak támogatása
A6: B113 | B6: Települési önkormányzatok szociális gyermekjóléti és gyermekétkeztetési feladatainak támogatása | C6: 0 | D6: =D4+D5 -> 0 | E6: 0 | F6: 0
A7: B114 | B7: Települési önkormányzatok kulturális feladatainak támogatása
A8: B115 | B8: Működési célú költségvetési támogatások és kiegészítő támogatások
A9: B116 | B9: Elszámolásból származó bevételek
A10: B11 | B10: Önkormányzatok működési támogatásai | C10: 0 | D10: =D2+D3+D6+D7+D8+D9 -> 0 | E10: 0 | F10: 0
A11: B12 | B11: Elvonások és befizetések bevételei
A12: B13 | B12: Működési célú garancia- és kezességvállalásból származó megtérülések államháztartáson belülről
A13: B14 | B13: Működési célú visszatérítendő támogatások, kölcsönök visszatérülése államháztartáson belülről
A14: B15 | B14: Működési célú visszatérítendő támogatások, kölcsönök igénybevétele államháztartáson belülről
A15: B16 | B15: Egyéb működési célú támogatások bevételei államháztartáson belülről | E15: 8712232 | F15: 8712232
A16: B1 | B16: Működési célú támogatások államháztartáson belülről | C16: 0 | D16: =D10+D11+D12+D13+D14+D15 -> 0 | E16: =SUM(E15,E10,E10) -> 8712232 | F16: =SUM(F15,F10,F10) -> 8712232
A17: B21 | B17: Felhalmozási célú önkormányzati támogatások
A18: B22 | B18: Felhalmozási célú garancia- és kezességvállalásból származó megtérülések államháztartáson belülről
A19: B23 | B19: Felhalmozási célú visszatérítendő támogatások, kölcsönök visszatérülése államháztartáson belülről
A20: B24 | B20: Felhalmozási célú visszatérítendő támogatások, kölcsönök igénybevétele államháztartáson belülről
A21: B25 | B21: Egyéb felhalmozási célú támogatások bevételei államháztartáson belülről
B22: EU-s támogatás
A23: B2 | B23: Felhalmozási célú támogatások államháztartáson belülről | C23: 0 | D23: =D17+D18+D19+D20+D21 -> 0 | E23: 0 | F23: 0
A24: B34 | B24: Vagyoni típusú adók
A25: B351 | B25: Értékesítési és forgalmi adók
A26: B355 | B26: Egyéb áruhasználati és szolgáltatási adók
A27: B35 | B27: Termékek és szolgáltatások adói | C27: 0 | D27: =D25+D26 -> 0 | E27: 0 | F27: 0
A28: B36 | B28: Egyéb közhatalmi bevételek
A29: B3 | B29: Közhatalmi bevételek | C29: 0 | D29: =D24+D27+D28 -> 0 | E29: =E24+E27+E28 -> 0 | F29: 0
A30: B401 | B30: Készletek értékesítése
A31: B402 | B31: Szolgáltatások ellenértéke | C31: 1938747 | D31: 2000000 | E31: 2000000 | F31: 727010 | G31: =F31/E31 -> 0.363505
A32: B403 | B32: Közvetített szolgáltatások ellenértéke | C32: 4509844 | D32: 4800000 | E32: 4800000 | F32: 2097163 | G32: =F32/E32 -> 0.43690896
A33: B404 | B33: Tulajdonosi bevételek | C33: 60000
A34: B405 | B34: Ellátási díjak
A35: B406 | B35: Kiszámlázott általános forgalmi adó
A36: B407 | B36: Általános forgalmi adó visszatérítése
A37: B408 | B37: Kamatbevételek és más nyereségjellegű bevételek | C37: 76337 | E37: 40756 | F37: 68459 | G37: =F37/E37 -> 1.6797281
A38: B409 | B38: Egyéb pénzügyi műveletek bevételei
A39: B410 | B39: Biztosító által fizetett kártérítés
A40: B411 | B40: Egyéb működési bevételek | C40: 4145119 | F40: 11
...

Sheet Művelődési ház
A1: Rovat | B1: Balassi Bálint Művelődési Ház és Könyvtár | C1: 2025. évi teljesítés | D1: 2026. évi terv | E1: 2026. évi I. módosítás | F1: Teljesítés | G1: Teljesítés %
A2: B111 | B2: Helyi önkormányzatok működésének általános támogatása
A3: B112 | B3: Települési önkormányzatok egyes köznevelési feladatainak támogatása
A4: B1131 | B4: Települési önkormányzatok egyes szociális és gyermekjóléti feladatainak támogatása
A5: B1132 | B5: Települési önkormányzatok gyermekétkeztetési feladatainak támogatása
A6: B113 | B6: Települési önkormányzatok szociális gyermekjóléti és gyermekétkeztetési feladatainak támogatása | C6: 0 | D6: =D4+D5 -> 0 | E6: 0 | F6: 0
A7: B114 | B7: Települési önkormányzatok kulturális feladatainak támogatása
A8: B115 | B8: Működési célú költségvetési támogatások és kiegészítő támogatások
A9: B116 | B9: Elszámolásból származó bevételek
A10: B11 | B10: Önkormányzatok működési támogatásai | C10: 0 | D10: =D2+D3+D6+D7+D8+D9 -> 0 | E10: 0 | F10: 0
A11: B12 | B11: Elvonások és befizetések bevételei
A12: B13 | B12: Működési célú garancia- és kezességvállalásból származó megtérülések államháztartáson belülről
A13: B14 | B13: Működési célú visszatérítendő támogatások, kölcsönök visszatérülése államháztartáson belülről
A14: B15 | B14: Működési célú visszatérítendő támogatások, kölcsönök igénybevétele államháztartáson belülről
A15: B16 | B15: Egyéb működési célú támogatások bevételei államháztartáson belülről
A16: B1 | B16: Működési célú támogatások államháztartáson belülről | C16: 0 | D16: =D10+D11+D12+D13+D14+D15 -> 0 | E16: 0 | F16: 0
A17: B21 | B17: Felhalmozási célú önkormányzati támogatások
A18: B22 | B18: Felhalmozási célú garancia- és kezességvállalásból származó megtérülések államháztartáson belülről
A19: B23 | B19: Felhalmozási célú visszatérítendő támogatások, kölcsönök visszatérülése államháztartáson belülről
A20: B24 | B20: Felhalmozási célú visszatérítendő támogatások, kölcsönök igénybevétele államháztartáson belülről
A21: B25 | B21: Egyéb felhalmozási célú támogatások bevételei államháztartáson belülről
B22: EU-s támogatás
A23: B2 | B23: Felhalmozási célú támogatások államháztartáson belülről | C23: 0 | D23: =D17+D18+D19+D20+D21 -> 0 | E23: 0 | F23: 0
A24: B34 | B24: Vagyoni típusú adók
A25: B351 | B25: Értékesítési és forgalmi adók
A26: B355 | B26: Egyéb áruhasználati és szolgáltatási adók
A27: B35 | B27: Termékek és szolgáltatások adói | C27: 0 | D27: =D25+D26 -> 0 | E27: 0 | F27: 0
A28: B36 | B28: Egyéb közhatalmi bevételek
A29: B3 | B29: Közhatalmi bevételek | C29: 0 | D29: =D24+D27+D28 -> 0 | E29: 0 | F29: 0
A30: B401 | B30: Készletértékesítés ellenértéke | C30: 56160 | E30: 45600 | F30: 47500
A31: B402 | B31: Szolgáltatások ellenértéke | C31: 9854967 | D31: 7500000 | E31: 7500000 | F31: 3201205 | G31: =F31/E31 -> 0.42682733
A32: B403 | B32: Közvetített szolgáltatások ellenértéke | C32: 1189120 | D32: 1000000 | E32: 1000000 | F32: 583943 | G32: =F32/E32 -> 0.583943
A33: B404 | B33: Tulajdonosi bevételek
A34: B405 | B34: Ellátási díjak
A35: B406 | B35: Kiszámlázott általános forgalmi adó
A36: B407 | B36: Általános forgalmi adó visszatérítése
A37: B408 | B37: Kamatbevételek és más nyereségjellegű bevételek | C37: 82469 | E37: 19483 | F37: 38050
A38: B409 | B38: Egyéb pénzügyi műveletek bevételei
A39: B410 | B39: Biztosító által fizetett kártérítés
A40: B411 | B40: Egyéb működési bevételek | C40: 3440590 | E40: 15706 | F40: 515707
...

Sheet Bölcsőde
A1: Rovat | B1: Kék Bagoly Bölcsőde | C1: 2025. évi teljesítés | D1: 2026. évi terv | E1: 2026. évi I. módosítás | F1: Teljesítés | G1: Teljesítés %
A2: B111 | B2: Helyi önkormányzatok működésének általános támogatása
A3: B112 | B3: Települési önkormányzatok egyes köznevelési feladatainak támogatása
A4: B1131 | B4: Települési önkormányzatok egyes szociális és gyermekjóléti feladatainak támogatása
A5: B1132 | B5: Települési önkormányzatok gyermekétkeztetési feladatainak támogatása
A6: B113 | B6: Települési önkormányzatok szociális gyermekjóléti és gyermekétkeztetési feladatainak támogatása | C6: 0 | D6: =D4+D5 -> 0 | E6: 0 | F6: 0
A7: B114 | B7: Települési önkormányzatok kulturális feladatainak támogatása
A8: B115 | B8: Működési célú költségvetési támogatások és kiegészítő támogatások
A9: B116 | B9: Elszámolásból származó bevételek
A10: B11 | B10: Önkormányzatok működési támogatásai | C10: 0 | D10: =D2+D3+D6+D7+D8+D9 -> 0 | E10: =E2+E3+E6+E7+E8+E9 -> 0 | F10: 0
A11: B12 | B11: Elvonások és befizetések bevételei
A12: B13 | B12: Működési célú garancia- és kezességvállalásból származó megtérülések államháztartáson belülről
A13: B14 | B13: Működési célú visszatérítendő támogatások, kölcsönök visszatérülése államháztartáson belülről
A14: B15 | B14: Működési célú visszatérítendő támogatások, kölcsönök igénybevétele államháztartáson belülről
A15: B16 | B15: Egyéb működési célú támogatások bevételei államháztartáson belülről
A16: B1 | B16: Működési célú támogatások államháztartáson belülről | C16: 0 | D16: =D10+D11+D12+D13+D14+D15 -> 0 | E16: =E10+E11+E12+E13+E14+E15 -> 0 | F16: 0
A17: B21 | B17: Felhalmozási célú önkormányzati támogatások
A18: B22 | B18: Felhalmozási célú garancia- és kezességvállalásból származó megtérülések államháztartáson belülről
A19: B23 | B19: Felhalmozási célú visszatérítendő támogatások, kölcsönök visszatérülése államháztartáson belülről
A20: B24 | B20: Felhalmozási célú visszatérítendő támogatások, kölcsönök igénybevétele államháztartáson belülről
A21: B25 | B21: Egyéb felhalmozási célú támogatások bevételei államháztartáson belülről
B22: EU-s támogatás
A23: B2 | B23: Felhalmozási célú támogatások államháztartáson belülről | C23: 0 | D23: =D17+D18+D19+D20+D21 -> 0 | E23: =E17+E18+E19+E20+E21 -> 0 | F23: 0
A24: B34 | B24: Vagyoni típusú adók
A25: B351 | B25: Értékesítési és forgalmi adók
A26: B355 | B26: Egyéb áruhasználati és szolgáltatási adók
A27: B35 | B27: Termékek és szolgáltatások adói | C27: 0 | D27: =D25+D26 -> 0 | E27: 0 | F27: 0
A28: B36 | B28: Egyéb közhatalmi bevételek
A29: B3 | B29: Közhatalmi bevételek | C29: 0 | D29: =D24+D27+D28 -> 0 | E29: =E24+E27+E28 -> 0 | F29: 0
A30: B401 | B30: Készletek értékesítées
A31: B402 | B31: Szolgáltatások ellenértéke
A32: B403 | B32: Közvetített szolgáltatások ellenértéke
A33: B404 | B33: Tulajdonosi bevételek
A34: B405 | B34: Ellátási díjak
A35: B406 | B35: Kiszámlázott általános forgalmi adó
A36: B407 | B36: Általános forgalmi adó visszatérítése
A37: B408 | B37: Kamatbevételek és más nyereségjellegű bevételek | C37: 69364 | E37: 12969 | F37: 25549
A38: B409 | B38: Egyéb pénzügyi műveletek bevételei
A39: B410 | B39: Biztosító által fizetett kártérítés
A40: B411 | B40: Egyéb működési bevételek | C40: 324885
...

Sheet Óvoda
A1: Rovat | B1: Jánossomorjai Aranykapu Óvoda | C1: 2025. évi teljesítés | D1: 2026. évi terv | E1: 2026. évi I. módosítás | F1: Teljesítés | G1: Teljesítés %
A2: B111 | B2: Helyi önkormányzatok működésének általános támogatása | C2: 0
A3: B112 | B3: Települési önkormányzatok egyes köznevelési feladatainak támogatása
A4: B1131 | B4: Települési önkormányzatok egyes szociális és gyermekjóléti feladatainak támogatása
A5: B1132 | B5: Települési önkormányzatok gyermekétkeztetési feladatainak támogatása
A6: B113 | B6: Települési önkormányzatok szociális gyermekjóléti és gyermekétkeztetési feladatainak támogatása | C6: 0 | D6: =D4+D5 -> 0 | E6: 0 | F6: 0
A7: B114 | B7: Települési önkormányzatok kulturális feladatainak támogatása
A8: B115 | B8: Működési célú költségvetési támogatások és kiegészítő támogatások
A9: B116 | B9: Elszámolásból származó bevételek
A10: B11 | B10: Önkormányzatok működési támogatásai | C10: 0 | D10: =D2+D3+D6+D7+D8+D9 -> 0 | E10: =E2+E3+E6+E7+E8+E9 -> 0 | F10: 0
A11: B12 | B11: Elvonások és befizetések bevételei
A12: B13 | B12: Működési célú garancia- és kezességvállalásból származó megtérülések államháztartáson belülről
A13: B14 | B13: Működési célú visszatérítendő támogatások, kölcsönök visszatérülése államháztartáson belülről
A14: B15 | B14: Működési célú visszatérítendő támogatások, kölcsönök igénybevétele államháztartáson belülről
A15: B16 | B15: Egyéb működési célú támogatások bevételei államháztartáson belülről
A16: B1 | B16: Működési célú támogatások államháztartáson belülről | C16: 0 | D16: =D10+D11+D12+D13+D14+D15 -> 0 | E16: =E10+E11+E12+E13+E14+E15 -> 0 | F16: 0
A17: B21 | B17: Felhalmozási célú önkormányzati támogatások
A18: B22 | B18: Felhalmozási célú garancia- és kezességvállalásból származó megtérülések államháztartáson belülről
A19: B23 | B19: Felhalmozási célú visszatérítendő támogatások, kölcsönök visszatérülése államháztartáson belülről
A20: B24 | B20: Felhalmozási célú visszatérítendő támogatások, kölcsönök igénybevétele államháztartáson belülről
A21: B25 | B21: Egyéb felhalmozási célú támogatások bevételei államháztartáson belülről
B22: EU-s támogatás
A23: B2 | B23: Felhalmozási célú támogatások államháztartáson belülről | C23: 0 | D23: =D17+D18+D19+D20+D21 -> 0 | E23: =E17+E18+E19+E20+E21 -> 0 | F23: 0
A24: B34 | B24: Vagyoni típusú adók
A25: B351 | B25: Értékesítési és forgalmi adók
A26: B355 | B26: Egyéb áruhasználati és szolgáltatási adók
A27: B35 | B27: Termékek és szolgáltatások adói | C27: 0 | D27: =D25+D26 -> 0 | E27: 0 | F27: 0
A28: B36 | B28: Egyéb közhatalmi bevételek
A29: B3 | B29: Közhatalmi bevételek | C29: 0 | D29: =D24+D27+D28 -> 0 | E29: =E24+E27+E28 -> 0 | F29: 0
A30: B401 | B30: Készletek értékesítése
A31: B402 | B31: Szolgáltatások ellenértéke
A32: B403 | B32: Közvetített szolgáltatások ellenértéke
A33: B404 | B33: Tulajdonosi bevételek
A34: B405 | B34: Ellátási díjak
A35: B406 | B35: Kiszámlázott általános forgalmi adó
A36: B407 | B36: Általános forgalmi adó visszatérítése
A37: B408 | B37: Kamatbevételek és más nyereségjellegű bevételek | C37: 77768 | E37: 20535 | F37: 46345
A38: B409 | B38: Egyéb pénzügyi műveletek bevételei
A39: B410 | B39: Biztosító által fizetett kártérítés
A40: B411 | B40: Egyéb működési bevételek | C40: 5
...

Sheet Beruházás, felújítás
A1: Önkormányzati beruházási, felújítási feladatok 2026. terv | B1: Előirányzat | D1: Módosított előirányzat | F1: Teljesítés
B2: Beruházás | C2: Felújítás | D2: Beruházás | E2: Felújítás | F2: Beruházás | G2: Felújítás
A3: Bérlakások felújítása | C3: 30000000 | E3: 30000000
A4: Belterületi útépítés | B4: 17000000 | D4: 17000000
A5: Telekkialakítások | B5: 10000000 | D5: 10000000
A6: Járda felújítás | C6: 18000000 | E6: 22000000
A7: Játszótéri eszközök bővítésa | B7: 5000000 | D7: 5000000 | F7: 484140
A8: Temetők felújítása | C8: 3000000 | E8: 3000000
A9: Iskola felújítások( iskolarádió beszerelés) | C9: 3000000 | E9: 3000000 | F9: 1206030
A10: Közvilágítás bővítés | B10: 8000000 | D10: 8000000
A11: Hanságliget Közösségi ház felújítás | C11: 3000000 | E11: 3000000
A12: Mária szobor körüli parkoló rekonstrukció | C12: 20000000 | E12: 20000000 | G12: 1650120
A13: Ingatlan vásárlás | B13: 6000000 | D13: 6000000
A14: Okoszebra kialakítása a Hármashalomnál | B14: 4000000 | D14: 4000000
A15: Közterületi kamerarendszer bővítésa | B15: 1000000 | D15: 1000000
A16: Idősek otthona pavilin építése | B16: 5000000 | D16: 5000000
A17: Uszoda medenceborító fólia cseréje | C17: 15000000 | E17: 10000000
A18: Jánossomorjai Óvoda melletti út felújítása, fedett beálló kialakítása | B18: 15000000 | D18: 15000000
A19: Bajcsy-zsilinszky utca gyalogátkelő kialakítása | B19: 15000000 | D19: 15000000
A20: Malom épület | D20: 181402 | F20: 181402
A21: Malom utcai játszótér.kerítés készítése
A22: Beszerzések
A23: Számítógép és egyéb informatikai, kommunikácíós eszközök | B23: 4000000 | D23: 4000000 | F23: 614890
A24: Gépbeszerzés | B24: 23000000 | D24: 23000000 | F24: 6636141
A25: Egyéb tárgyi eszöz beszerzés:Okospad a Lókert ifjusági parkban, Városháza pince konyhabútor, városháza klimatizálás kiépítése | B25: 15000000 | D25: 18500000 | F25: 367050
A26: Aranykapu Óvoda
A27: Játszótéri eszközök | B27: 25000000 | D27: 25000000 | F27: 21319592
A29: Kék Bagoly bölcsőde
A30: Felújítási munkák | B30: 2000000 | C30: 1000000 | D30: 2000000 | E30: 1000000
A32: Művelődési Ház
A33: Udvari raktár kialakítása, felső iroda laminált padló felújítása | B33: 1000000 | C33: 250000 | D33: 1000000 | E33: 250000
A35: Összesen: | B35: =SUM(B3:B34) -> 156000000 | C35: =SUM(C3:C34) -> 93250000 | D35: =SUM(D3:D34) -> 159681402 | E35: =SUM(E3:E34) -> 92250000 | F35: =SUM(F3:F34) -> 30809245 | G35: =SUM(G3:G34) -> 1650120
B36: =B35+C35 -> 249250000 | D36: =D35+E35 -> 251931402 | F36: =F35+G35 -> 32459365

Sheet Működési, felhalmozási kiadások
A1: Rovat | B1: Egyéb működési, és felhalmozási célú kiadások | C1: 2026. évi terv | D1: 2026. évi módosított előirányzat | E1: Teljesítés
A4: K502 | B4: Elvonások és befizetések | C4: 390806954 | D4: 390806954 | E4: 195403477
B5: Előző évi elszámolásból származó kiadás | C5: 0
B6: Szolidaritási hozzájárulás | C6: 390806954 | D6: 390806954 | E6: 195403477
A7: K506 | B7: Egyéb működési célú támogatások ÁH-n belülre | C7: 74969000 | D7: 82969000 | E7: =SUM(E8:E17) -> 61916385
B8: KESZI | C8: 40500000 | D8: 40500000 | E8: 31814560
B9: Rendőrök, tűzoltók jutalom | C9: 1000000 | D9: 1000000 | E9: 900000
B10: KLIK pénzeszköz átadás jutalomra+tanulmányi kirándulás | C10: 5300000 | D10: 5300000 | E10: 5300000
B11: Mosonmagyaróvári Vizitársulat | C11: 360000 | D11: 360000
B12: Jánossomorja Kultúráért Közalapítvány | C12: 11269000 | D12: 19269000 | E12: 19269000
B13: Mosonmagyaróvári Nagytérségi Hulladékgazdálkodási Önkormányzati Társulás | C13: 810000 | D13: 810000 | E13: 0
B14: Magyar Önkormányzatok Szövetksége | C14: 70000 | D14: 70000 | E14: 90315
B15: Települési Önkomrányzatok Szövetsége | C15: 160000 | D15: 160000 | E15: 183630
B16: Karolina Kórház (labor,masszőr,fizikó) | C16: 13500000 | D16: 13500000 | E16: 3383880
B17: Bursa Hungarica ösztöndíj pályázat | C17: 2000000 | D17: 2000000 | E17: 975000
A18: K512 | B18: Egyéb működési célú támogatások ÁH-n kívülre | C18: =SUM(C19:C22) -> 38049000 | D18: 38049000 | E18: =SUM(E19:E22) -> 24392496
B19: Újszülettek támogatása (Babakötvény) | C19: 3000000 | D19: 3000000 | E19: 600000
B20: Civil szerevezetek támogatása polgármesteri keret | C20: 2000000 | D20: 2000000 | E20: 1539216
B21: Civil szervezetek támogatás (Hospice is benne van 4M Ft-al) | C21: 32499000 | D21: 32499000 | E21: 22049000
B22: Elsősegély támogatás | C22: 550000 | D22: 550000 | E22: 204280
A23: K513 | B23: Tartalékok | C23: 143215675 | D23: 167966382 | E23: =E24+E25 -> 0
B24: Általános tartalék | C24: 63215675 | D24: 87966382
B25: Céltartalék | C25: 80000000 | D25: 80000000
A27: K5 | B27: EGYÉB MŰKÖDÉSI CÉLÚ KIADÁSOK | C27: =C4+C7+C18+C23 -> 647040629 | D27: =D4+D7+D18+D23 -> 679791336 | E27: =E4+E7+E18+E23 -> 281712358
A28: K83 | B28: Felhalmozási célú visszatérítendő támogatások, kölcsönök törlesztése ÁH-n belülre
B29: Iskola energetika
A30: K89 | B30: Egyéb felhalmozási célú támogatások ÁH-n kívülre | C30: 9412000 | D30: 9412000
B31: Aqua(kicserélik a vízvezetékeket, csöveket útépítés előtt)
B32: Egyházak | C32: 9412000 | D32: 9412000
A33: K8 | B33: EGYÉB FELHALMOZÁCI CÉLÚ TÁMOGATÁSOK ÁH-N KÍVÜLRE | C33: =C30+C28 -> 9412000 | D33: =D30+D28 -> 9412000 | E33: =E30+E28 -> 0
